BEGIN:VCALENDAR
VERSION:2.0
PRODID:-//Clear Creek County Library District Staging - ECPv6.15.20//NONSGML v1.0//EN
CALSCALE:GREGORIAN
METHOD:PUBLISH
X-ORIGINAL-URL:https://cccldstaging1.org
X-WR-CALDESC:Events for Clear Creek County Library District Staging
REFRESH-INTERVAL;VALUE=DURATION:PT1H
X-Robots-Tag:noindex
X-PUBLISHED-TTL:PT1H
BEGIN:VTIMEZONE
TZID:America/Denver
BEGIN:DAYLIGHT
TZOFFSETFROM:-0700
TZOFFSETTO:-0600
TZNAME:MDT
DTSTART:20180311T090000
END:DAYLIGHT
BEGIN:STANDARD
TZOFFSETFROM:-0600
TZOFFSETTO:-0700
TZNAME:MST
DTSTART:20181104T080000
END:STANDARD
BEGIN:DAYLIGHT
TZOFFSETFROM:-0700
TZOFFSETTO:-0600
TZNAME:MDT
DTSTART:20190310T090000
END:DAYLIGHT
BEGIN:STANDARD
TZOFFSETFROM:-0600
TZOFFSETTO:-0700
TZNAME:MST
DTSTART:20191103T080000
END:STANDARD
BEGIN:DAYLIGHT
TZOFFSETFROM:-0700
TZOFFSETTO:-0600
TZNAME:MDT
DTSTART:20200308T090000
END:DAYLIGHT
BEGIN:STANDARD
TZOFFSETFROM:-0600
TZOFFSETTO:-0700
TZNAME:MST
DTSTART:20201101T080000
END:STANDARD
BEGIN:DAYLIGHT
TZOFFSETFROM:-0700
TZOFFSETTO:-0600
TZNAME:MDT
DTSTART:20210314T090000
END:DAYLIGHT
BEGIN:STANDARD
TZOFFSETFROM:-0600
TZOFFSETTO:-0700
TZNAME:MST
DTSTART:20211107T080000
END:STANDARD
BEGIN:DAYLIGHT
TZOFFSETFROM:-0700
TZOFFSETTO:-0600
TZNAME:MDT
DTSTART:20220313T090000
END:DAYLIGHT
BEGIN:STANDARD
TZOFFSETFROM:-0600
TZOFFSETTO:-0700
TZNAME:MST
DTSTART:20221106T080000
END:STANDARD
BEGIN:DAYLIGHT
TZOFFSETFROM:-0700
TZOFFSETTO:-0600
TZNAME:MDT
DTSTART:20230312T090000
END:DAYLIGHT
BEGIN:STANDARD
TZOFFSETFROM:-0600
TZOFFSETTO:-0700
TZNAME:MST
DTSTART:20231105T080000
END:STANDARD
END:VTIMEZONE
BEGIN:VEVENT
DTSTART;TZID=America/Denver:20220414T173000
DTEND;TZID=America/Denver:20220414T183000
DTSTAMP:20260424T032450
CREATED:20220328T155417Z
LAST-MODIFIED:20220328T155417Z
UID:27093-1649957400-1649961000@cccldstaging1.org
SUMMARY:JTML Adult Craft
DESCRIPTION:Join us each month for a great adult craft at the John Tomay Memorial Library. This month’s craft is a Victorian Collage. For information and to register email chris@cccld.org
URL:https://cccldstaging1.org/event/jtml-adult-craft-5/
LOCATION:John Tomay Memorial Library\, 605 6th Street\, Georgetown\, CO\, 80444\, United States
CATEGORIES:Adults,Library Events
GEO:39.7061997;-105.6974142
X-APPLE-STRUCTURED-LOCATION;VALUE=URI;X-ADDRESS=John Tomay Memorial Library 605 6th Street Georgetown CO 80444 United States;X-APPLE-RADIUS=500;X-TITLE=605 6th Street:geo:-105.6974142,39.7061997
END:VEVENT
BEGIN:VEVENT
DTSTART;TZID=America/Denver:20220331T154500
DTEND;TZID=America/Denver:20220331T164500
DTSTAMP:20260424T032450
CREATED:20220222T164224Z
LAST-MODIFIED:20220222T164224Z
UID:27078-1648741500-1648745100@cccldstaging1.org
SUMMARY:JTML Crafternoon
DESCRIPTION:Join the fun at the John Tomay Memorial Library! Awesome Penguin Plushie craft.
URL:https://cccldstaging1.org/event/jtml-crafternoon/
LOCATION:John Tomay Memorial Library\, 605 6th Street\, Georgetown\, CO\, 80444\, United States
CATEGORIES:Kids,Library Events,Teens
GEO:39.7061997;-105.6974142
X-APPLE-STRUCTURED-LOCATION;VALUE=URI;X-ADDRESS=John Tomay Memorial Library 605 6th Street Georgetown CO 80444 United States;X-APPLE-RADIUS=500;X-TITLE=605 6th Street:geo:-105.6974142,39.7061997
END:VEVENT
BEGIN:VEVENT
DTSTART;TZID=America/Denver:20220324T173000
DTEND;TZID=America/Denver:20220324T183000
DTSTAMP:20260424T032450
CREATED:20220222T171807Z
LAST-MODIFIED:20220222T171807Z
UID:27083-1648143000-1648146600@cccldstaging1.org
SUMMARY:JTML Adult Craft
DESCRIPTION:Join us each month for a great adult craft at the John Tomay Memorial Library. For information and to register email chris@cccld.org
URL:https://cccldstaging1.org/event/jtml-adult-craft-4-2/
LOCATION:John Tomay Memorial Library\, 605 6th Street\, Georgetown\, CO\, 80444\, United States
CATEGORIES:Adults,Library Events
GEO:39.7061997;-105.6974142
X-APPLE-STRUCTURED-LOCATION;VALUE=URI;X-ADDRESS=John Tomay Memorial Library 605 6th Street Georgetown CO 80444 United States;X-APPLE-RADIUS=500;X-TITLE=605 6th Street:geo:-105.6974142,39.7061997
END:VEVENT
BEGIN:VEVENT
DTSTART;TZID=America/Denver:20220321T130000
DTEND;TZID=America/Denver:20220321T160000
DTSTAMP:20260424T032450
CREATED:20220222T170209Z
LAST-MODIFIED:20220222T170209Z
UID:27081-1647867600-1647878400@cccldstaging1.org
SUMMARY:JTML Virtual Reality
DESCRIPTION:Join the fun with the new Oculus Quest 2.
URL:https://cccldstaging1.org/event/jtml-virtual-reality/
LOCATION:John Tomay Memorial Library\, 605 6th Street\, Georgetown\, CO\, 80444\, United States
CATEGORIES:Kids,Teens
GEO:39.7061997;-105.6974142
X-APPLE-STRUCTURED-LOCATION;VALUE=URI;X-ADDRESS=John Tomay Memorial Library 605 6th Street Georgetown CO 80444 United States;X-APPLE-RADIUS=500;X-TITLE=605 6th Street:geo:-105.6974142,39.7061997
END:VEVENT
BEGIN:VEVENT
DTSTART;TZID=America/Denver:20220303T111500
DTEND;TZID=America/Denver:20220303T111500
DTSTAMP:20260424T032450
CREATED:20211026T215648Z
LAST-MODIFIED:20211026T215648Z
UID:27034-1646306100-1646306100@cccldstaging1.org
SUMMARY:JTML Storytime
DESCRIPTION:Join us for storytime and crafts at the John Tomay Memorial Library.
URL:https://cccldstaging1.org/event/jtml-storytime-8-2/2022-03-03/
LOCATION:John Tomay Memorial Library\, 605 6th Street\, Georgetown\, CO\, 80444\, United States
CATEGORIES:Kids,Library Events
GEO:39.7061997;-105.6974142
X-APPLE-STRUCTURED-LOCATION;VALUE=URI;X-ADDRESS=John Tomay Memorial Library 605 6th Street Georgetown CO 80444 United States;X-APPLE-RADIUS=500;X-TITLE=605 6th Street:geo:-105.6974142,39.7061997
END:VEVENT
BEGIN:VEVENT
DTSTART;TZID=America/Denver:20211205T090000
DTEND;TZID=America/Denver:20211205T140000
DTSTAMP:20260424T032450
CREATED:20211112T223313Z
LAST-MODIFIED:20211112T223313Z
UID:27047-1638694800-1638712800@cccldstaging1.org
SUMMARY:Winter Craft Workshops - Georgetown Christmas Market
DESCRIPTION:Free creative fun for kids during the Georgetown Christmas Market.
URL:https://cccldstaging1.org/event/georgetown-christmas-market-2/2021-12-05/
LOCATION:John Tomay Memorial Library\, 605 6th Street\, Georgetown\, CO\, 80444\, United States
CATEGORIES:Adults,Community Events,Kids,Library Events,Teens
GEO:39.7061997;-105.6974142
X-APPLE-STRUCTURED-LOCATION;VALUE=URI;X-ADDRESS=John Tomay Memorial Library 605 6th Street Georgetown CO 80444 United States;X-APPLE-RADIUS=500;X-TITLE=605 6th Street:geo:-105.6974142,39.7061997
END:VEVENT
BEGIN:VEVENT
DTSTART;TZID=America/Denver:20200417T170000
DTEND;TZID=America/Denver:20200417T170000
DTSTAMP:20260424T032450
CREATED:20200310T203330Z
LAST-MODIFIED:20200310T203330Z
UID:26929-1587142800-1587142800@cccldstaging1.org
SUMMARY:Teen Fantasy League: Dungeons & Dragons
DESCRIPTION:Have you ever dreamed of being a knight in shining armor? Or a wizard with incredible powers? Join us on an incredible adventure! Learn to play Dungeons & Dragons with charming Dungeon Master\, Ocean Caplan-Holdgrafer.
URL:https://cccldstaging1.org/event/teen-fantasy-league-dungeons-dragons-2/2020-04-17/
LOCATION:John Tomay Memorial Library\, 605 6th Street\, Georgetown\, CO\, 80444\, United States
CATEGORIES:Library Events,Teens
GEO:39.7061997;-105.6974142
X-APPLE-STRUCTURED-LOCATION;VALUE=URI;X-ADDRESS=John Tomay Memorial Library 605 6th Street Georgetown CO 80444 United States;X-APPLE-RADIUS=500;X-TITLE=605 6th Street:geo:-105.6974142,39.7061997
END:VEVENT
BEGIN:VEVENT
DTSTART;TZID=America/Denver:20200417T170000
DTEND;TZID=America/Denver:20200417T170000
DTSTAMP:20260424T032450
CREATED:20200310T203330Z
LAST-MODIFIED:20200310T203348Z
UID:8109-1587142800-1587142800@cccldstaging1.org
SUMMARY:Teen Fantasy League: Dungeons & Dragons
DESCRIPTION:Have you ever dreamed of being a knight in shining armor? Or a wizard with incredible powers? Join us on an incredible adventure! Learn to play Dungeons & Dragons with charming Dungeon Master\, Ocean Caplan-Holdgrafer.
URL:https://cccldstaging1.org/event/teen-fantasy-league-dungeons-dragons/2020-04-17/
LOCATION:John Tomay Memorial Library\, 605 6th Street\, Georgetown\, CO\, 80444\, United States
CATEGORIES:Library Events,Teens
GEO:39.7061997;-105.6974142
X-APPLE-STRUCTURED-LOCATION;VALUE=URI;X-ADDRESS=John Tomay Memorial Library 605 6th Street Georgetown CO 80444 United States;X-APPLE-RADIUS=500;X-TITLE=605 6th Street:geo:-105.6974142,39.7061997
END:VEVENT
BEGIN:VEVENT
DTSTART;TZID=America/Denver:20200220T190000
DTEND;TZID=America/Denver:20200220T190000
DTSTAMP:20260424T032450
CREATED:20200114T195614Z
LAST-MODIFIED:20200114T195655Z
UID:6746-1582225200-1582225200@cccldstaging1.org
SUMMARY:Georgetown Adult Book Group
DESCRIPTION:Connect with other readers in our community at monthly library book meetups. Share your ideas and discover new stories. New readers are always welcome! Please contact holly@cccld.org for more information. \nFebruary Book – Becoming by Michelle Obama
URL:https://cccldstaging1.org/event/georgetown-book-group/
LOCATION:John Tomay Memorial Library\, 605 6th Street\, Georgetown\, CO\, 80444\, United States
CATEGORIES:Adults,Library Events
GEO:39.7061997;-105.6974142
X-APPLE-STRUCTURED-LOCATION;VALUE=URI;X-ADDRESS=John Tomay Memorial Library 605 6th Street Georgetown CO 80444 United States;X-APPLE-RADIUS=500;X-TITLE=605 6th Street:geo:-105.6974142,39.7061997
END:VEVENT
BEGIN:VEVENT
DTSTART;TZID=America/Denver:20200220T190000
DTEND;TZID=America/Denver:20200220T190000
DTSTAMP:20260424T032450
CREATED:20200114T195614Z
LAST-MODIFIED:20200114T195614Z
UID:26821-1582225200-1582225200@cccldstaging1.org
SUMMARY:Georgetown Adult Book Group
DESCRIPTION:Connect with other readers in our community at monthly library book meetups. Share your ideas and discover new stories. New readers are always welcome! Please contact holly@cccld.org for more information. \nFebruary Book – Becoming by Michelle Obama
URL:https://cccldstaging1.org/event/georgetown-book-group-2/
LOCATION:John Tomay Memorial Library\, 605 6th Street\, Georgetown\, CO\, 80444\, United States
CATEGORIES:Adults,Library Events
GEO:39.7061997;-105.6974142
X-APPLE-STRUCTURED-LOCATION;VALUE=URI;X-ADDRESS=John Tomay Memorial Library 605 6th Street Georgetown CO 80444 United States;X-APPLE-RADIUS=500;X-TITLE=605 6th Street:geo:-105.6974142,39.7061997
END:VEVENT
BEGIN:VEVENT
DTSTART;TZID=America/Denver:20200214T133000
DTEND;TZID=America/Denver:20200214T153000
DTSTAMP:20260424T032450
CREATED:20200129T184637Z
LAST-MODIFIED:20200129T184637Z
UID:7364-1581687000-1581694200@cccldstaging1.org
SUMMARY:Georgetown Virtual Reality
DESCRIPTION:Drop in to experience the virtual world with our virtual reality system!
URL:https://cccldstaging1.org/event/georgetown-virtual-reality/
LOCATION:John Tomay Memorial Library\, 605 6th Street\, Georgetown\, CO\, 80444\, United States
CATEGORIES:Adults,Kids,Library Events
GEO:39.7061997;-105.6974142
X-APPLE-STRUCTURED-LOCATION;VALUE=URI;X-ADDRESS=John Tomay Memorial Library 605 6th Street Georgetown CO 80444 United States;X-APPLE-RADIUS=500;X-TITLE=605 6th Street:geo:-105.6974142,39.7061997
END:VEVENT
BEGIN:VEVENT
DTSTART;TZID=America/Denver:20200214T133000
DTEND;TZID=America/Denver:20200214T153000
DTSTAMP:20260424T032450
CREATED:20200129T184637Z
LAST-MODIFIED:20200129T184637Z
UID:26855-1581687000-1581694200@cccldstaging1.org
SUMMARY:Georgetown Virtual Reality
DESCRIPTION:Drop in to experience the virtual world with our virtual reality system!
URL:https://cccldstaging1.org/event/georgetown-virtual-reality-3/
LOCATION:John Tomay Memorial Library\, 605 6th Street\, Georgetown\, CO\, 80444\, United States
CATEGORIES:Adults,Kids,Library Events
GEO:39.7061997;-105.6974142
X-APPLE-STRUCTURED-LOCATION;VALUE=URI;X-ADDRESS=John Tomay Memorial Library 605 6th Street Georgetown CO 80444 United States;X-APPLE-RADIUS=500;X-TITLE=605 6th Street:geo:-105.6974142,39.7061997
END:VEVENT
BEGIN:VEVENT
DTSTART;TZID=America/Denver:20200213T173000
DTEND;TZID=America/Denver:20200213T173000
DTSTAMP:20260424T032450
CREATED:20200114T200944Z
LAST-MODIFIED:20200114T200944Z
UID:6759-1581615000-1581615000@cccldstaging1.org
SUMMARY:Georgetown Adult Craft Night
DESCRIPTION:Do you love to craft? Or are you craft-curious? Get creative and connect with other crafty patrons at our monthly craft workshops! No experience is necessary and all workshops are free. \nFebruary Craft – Iris Fold Valentine Cards
URL:https://cccldstaging1.org/event/georgetown-adult-craft-night-5/
LOCATION:John Tomay Memorial Library\, 605 6th Street\, Georgetown\, CO\, 80444\, United States
CATEGORIES:Adults,Library Events
GEO:39.7061997;-105.6974142
X-APPLE-STRUCTURED-LOCATION;VALUE=URI;X-ADDRESS=John Tomay Memorial Library 605 6th Street Georgetown CO 80444 United States;X-APPLE-RADIUS=500;X-TITLE=605 6th Street:geo:-105.6974142,39.7061997
END:VEVENT
BEGIN:VEVENT
DTSTART;TZID=America/Denver:20200213T173000
DTEND;TZID=America/Denver:20200213T173000
DTSTAMP:20260424T032450
CREATED:20200114T200944Z
LAST-MODIFIED:20200114T200944Z
UID:26826-1581615000-1581615000@cccldstaging1.org
SUMMARY:Georgetown Adult Craft Night
DESCRIPTION:Do you love to craft? Or are you craft-curious? Get creative and connect with other crafty patrons at our monthly craft workshops! No experience is necessary and all workshops are free. \nFebruary Craft – Iris Fold Valentine Cards
URL:https://cccldstaging1.org/event/georgetown-adult-craft-night-5-2/
LOCATION:John Tomay Memorial Library\, 605 6th Street\, Georgetown\, CO\, 80444\, United States
CATEGORIES:Adults,Library Events
GEO:39.7061997;-105.6974142
X-APPLE-STRUCTURED-LOCATION;VALUE=URI;X-ADDRESS=John Tomay Memorial Library 605 6th Street Georgetown CO 80444 United States;X-APPLE-RADIUS=500;X-TITLE=605 6th Street:geo:-105.6974142,39.7061997
END:VEVENT
BEGIN:VEVENT
DTSTART;TZID=America/Denver:20200213T110000
DTEND;TZID=America/Denver:20200213T133000
DTSTAMP:20260424T032450
CREATED:20200129T183002Z
LAST-MODIFIED:20200129T183002Z
UID:7355-1581591600-1581600600@cccldstaging1.org
SUMMARY:Friends of the Georgetown Library Annual Soup Lunch
DESCRIPTION:Join the Friends of the Georgetown Library for their annual soup lunch. The event is free and all are welcome!
URL:https://cccldstaging1.org/event/friends-of-the-georgetown-library-annual-soup-lunch/
LOCATION:John Tomay Memorial Library\, 605 6th Street\, Georgetown\, CO\, 80444\, United States
CATEGORIES:Adults,Community Events,Kids,Library Events
GEO:39.7061997;-105.6974142
X-APPLE-STRUCTURED-LOCATION;VALUE=URI;X-ADDRESS=John Tomay Memorial Library 605 6th Street Georgetown CO 80444 United States;X-APPLE-RADIUS=500;X-TITLE=605 6th Street:geo:-105.6974142,39.7061997
END:VEVENT
BEGIN:VEVENT
DTSTART;TZID=America/Denver:20200213T110000
DTEND;TZID=America/Denver:20200213T133000
DTSTAMP:20260424T032450
CREATED:20200129T183002Z
LAST-MODIFIED:20200129T183002Z
UID:26853-1581591600-1581600600@cccldstaging1.org
SUMMARY:Friends of the Georgetown Library Annual Soup Lunch
DESCRIPTION:Join the Friends of the Georgetown Library for their annual soup lunch. The event is free and all are welcome!
URL:https://cccldstaging1.org/event/friends-of-the-georgetown-library-annual-soup-lunch-2/
LOCATION:John Tomay Memorial Library\, 605 6th Street\, Georgetown\, CO\, 80444\, United States
CATEGORIES:Adults,Community Events,Kids,Library Events
GEO:39.7061997;-105.6974142
X-APPLE-STRUCTURED-LOCATION;VALUE=URI;X-ADDRESS=John Tomay Memorial Library 605 6th Street Georgetown CO 80444 United States;X-APPLE-RADIUS=500;X-TITLE=605 6th Street:geo:-105.6974142,39.7061997
END:VEVENT
BEGIN:VEVENT
DTSTART;TZID=America/Denver:20200212T154500
DTEND;TZID=America/Denver:20200212T170000
DTSTAMP:20260424T032450
CREATED:20200114T201946Z
LAST-MODIFIED:20200114T201946Z
UID:6765-1581522300-1581526800@cccldstaging1.org
SUMMARY:Valentine Chemistry Lab
DESCRIPTION:
URL:https://cccldstaging1.org/event/valentine-chemistry-lab/
LOCATION:John Tomay Memorial Library\, 605 6th Street\, Georgetown\, CO\, 80444\, United States
CATEGORIES:Kids,Library Events
GEO:39.7061997;-105.6974142
X-APPLE-STRUCTURED-LOCATION;VALUE=URI;X-ADDRESS=John Tomay Memorial Library 605 6th Street Georgetown CO 80444 United States;X-APPLE-RADIUS=500;X-TITLE=605 6th Street:geo:-105.6974142,39.7061997
END:VEVENT
BEGIN:VEVENT
DTSTART;TZID=America/Denver:20200212T154500
DTEND;TZID=America/Denver:20200212T170000
DTSTAMP:20260424T032450
CREATED:20200114T201946Z
LAST-MODIFIED:20200114T201946Z
UID:26828-1581522300-1581526800@cccldstaging1.org
SUMMARY:Valentine Chemistry Lab
DESCRIPTION:
URL:https://cccldstaging1.org/event/valentine-chemistry-lab-2/
LOCATION:John Tomay Memorial Library\, 605 6th Street\, Georgetown\, CO\, 80444\, United States
CATEGORIES:Kids,Library Events
GEO:39.7061997;-105.6974142
X-APPLE-STRUCTURED-LOCATION;VALUE=URI;X-ADDRESS=John Tomay Memorial Library 605 6th Street Georgetown CO 80444 United States;X-APPLE-RADIUS=500;X-TITLE=605 6th Street:geo:-105.6974142,39.7061997
END:VEVENT
BEGIN:VEVENT
DTSTART;TZID=America/Denver:20200205T154500
DTEND;TZID=America/Denver:20200205T170000
DTSTAMP:20260424T032450
CREATED:20200129T182738Z
LAST-MODIFIED:20200129T182738Z
UID:7353-1580917500-1580922000@cccldstaging1.org
SUMMARY:Georgetown Zombie Crafternoon
DESCRIPTION:Make monstrous zombie crafts and enter them into the annual zombie contest for a chance to win a prize!
URL:https://cccldstaging1.org/event/georgetown-zombie-crafternoon/
LOCATION:John Tomay Memorial Library\, 605 6th Street\, Georgetown\, CO\, 80444\, United States
CATEGORIES:Kids,Library Events
GEO:39.7061997;-105.6974142
X-APPLE-STRUCTURED-LOCATION;VALUE=URI;X-ADDRESS=John Tomay Memorial Library 605 6th Street Georgetown CO 80444 United States;X-APPLE-RADIUS=500;X-TITLE=605 6th Street:geo:-105.6974142,39.7061997
END:VEVENT
BEGIN:VEVENT
DTSTART;TZID=America/Denver:20200205T154500
DTEND;TZID=America/Denver:20200205T170000
DTSTAMP:20260424T032450
CREATED:20200129T182738Z
LAST-MODIFIED:20200129T182738Z
UID:26852-1580917500-1580922000@cccldstaging1.org
SUMMARY:Georgetown Zombie Crafternoon
DESCRIPTION:Make monstrous zombie crafts and enter them into the annual zombie contest for a chance to win a prize!
URL:https://cccldstaging1.org/event/georgetown-zombie-crafternoon-2/
LOCATION:John Tomay Memorial Library\, 605 6th Street\, Georgetown\, CO\, 80444\, United States
CATEGORIES:Kids,Library Events
GEO:39.7061997;-105.6974142
X-APPLE-STRUCTURED-LOCATION;VALUE=URI;X-ADDRESS=John Tomay Memorial Library 605 6th Street Georgetown CO 80444 United States;X-APPLE-RADIUS=500;X-TITLE=605 6th Street:geo:-105.6974142,39.7061997
END:VEVENT
BEGIN:VEVENT
DTSTART;TZID=America/Denver:20200129T154500
DTEND;TZID=America/Denver:20200129T170000
DTSTAMP:20260424T032450
CREATED:20191223T215620Z
LAST-MODIFIED:20191223T215620Z
UID:26774-1580312700-1580317200@cccldstaging1.org
SUMMARY:Kids Spelling Bee - Georgetown
DESCRIPTION:Put your spelling skills to the test! Teams of two or three will battle for prizes at our after-school spelling bees. \nIf you plan to attend\, please sign up at the circulation desk or email lucy@cccld.org.
URL:https://cccldstaging1.org/event/kids-spelling-bee-georgetown-2/
LOCATION:John Tomay Memorial Library\, 605 6th Street\, Georgetown\, CO\, 80444\, United States
CATEGORIES:Kids,Library Events
GEO:39.7061997;-105.6974142
X-APPLE-STRUCTURED-LOCATION;VALUE=URI;X-ADDRESS=John Tomay Memorial Library 605 6th Street Georgetown CO 80444 United States;X-APPLE-RADIUS=500;X-TITLE=605 6th Street:geo:-105.6974142,39.7061997
END:VEVENT
BEGIN:VEVENT
DTSTART;TZID=America/Denver:20200129T154500
DTEND;TZID=America/Denver:20200129T170000
DTSTAMP:20260424T032450
CREATED:20191223T215620Z
LAST-MODIFIED:20191223T215620Z
UID:5801-1580312700-1580317200@cccldstaging1.org
SUMMARY:Kids Spelling Bee - Georgetown
DESCRIPTION:Put your spelling skills to the test! Teams of two or three will battle for prizes at our after-school spelling bees. \nIf you plan to attend\, please sign up at the circulation desk or email lucy@cccld.org.
URL:https://cccldstaging1.org/event/kids-spelling-bee-georgetown/
LOCATION:John Tomay Memorial Library\, 605 6th Street\, Georgetown\, CO\, 80444\, United States
CATEGORIES:Kids,Library Events
GEO:39.7061997;-105.6974142
X-APPLE-STRUCTURED-LOCATION;VALUE=URI;X-ADDRESS=John Tomay Memorial Library 605 6th Street Georgetown CO 80444 United States;X-APPLE-RADIUS=500;X-TITLE=605 6th Street:geo:-105.6974142,39.7061997
END:VEVENT
BEGIN:VEVENT
DTSTART;TZID=America/Denver:20200116T190000
DTEND;TZID=America/Denver:20200116T190000
DTSTAMP:20260424T032450
CREATED:20200114T195338Z
LAST-MODIFIED:20200114T195338Z
UID:6744-1579201200-1579201200@cccldstaging1.org
SUMMARY:Georgetown Adult Book Group
DESCRIPTION:Connect with other readers in our community at monthly library book meetups. Share your ideas and discover new stories. New readers are always welcome! Please contact holly@cccld.org for more information. \nJanuary Book – In the Country We Love by Diane Guerrero.
URL:https://cccldstaging1.org/event/georgetown-adult-book-group-3/
LOCATION:John Tomay Memorial Library\, 605 6th Street\, Georgetown\, CO\, 80444\, United States
CATEGORIES:Adults,Library Events
GEO:39.7061997;-105.6974142
X-APPLE-STRUCTURED-LOCATION;VALUE=URI;X-ADDRESS=John Tomay Memorial Library 605 6th Street Georgetown CO 80444 United States;X-APPLE-RADIUS=500;X-TITLE=605 6th Street:geo:-105.6974142,39.7061997
END:VEVENT
BEGIN:VEVENT
DTSTART;TZID=America/Denver:20200116T190000
DTEND;TZID=America/Denver:20200116T190000
DTSTAMP:20260424T032450
CREATED:20200114T195338Z
LAST-MODIFIED:20200114T195338Z
UID:26820-1579201200-1579201200@cccldstaging1.org
SUMMARY:Georgetown Adult Book Group
DESCRIPTION:Connect with other readers in our community at monthly library book meetups. Share your ideas and discover new stories. New readers are always welcome! Please contact holly@cccld.org for more information. \nJanuary Book – In the Country We Love by Diane Guerrero.
URL:https://cccldstaging1.org/event/georgetown-adult-book-group-3-2/
LOCATION:John Tomay Memorial Library\, 605 6th Street\, Georgetown\, CO\, 80444\, United States
CATEGORIES:Adults,Library Events
GEO:39.7061997;-105.6974142
X-APPLE-STRUCTURED-LOCATION;VALUE=URI;X-ADDRESS=John Tomay Memorial Library 605 6th Street Georgetown CO 80444 United States;X-APPLE-RADIUS=500;X-TITLE=605 6th Street:geo:-105.6974142,39.7061997
END:VEVENT
BEGIN:VEVENT
DTSTART;TZID=America/Denver:20200109T173000
DTEND;TZID=America/Denver:20200109T173000
DTSTAMP:20260424T032450
CREATED:20191218T221901Z
LAST-MODIFIED:20191218T221901Z
UID:5700-1578591000-1578591000@cccldstaging1.org
SUMMARY:Georgetown Adult Craft Night
DESCRIPTION:Do you love to craft? Or are you craft-curious? Get creative and connect with other crafty patrons at our monthly craft workshops! No experience is necessary and all workshops are free.
URL:https://cccldstaging1.org/event/georgetown-adult-craft-night-4/
LOCATION:John Tomay Memorial Library\, 605 6th Street\, Georgetown\, CO\, 80444\, United States
CATEGORIES:Adults,Library Events
GEO:39.7061997;-105.6974142
X-APPLE-STRUCTURED-LOCATION;VALUE=URI;X-ADDRESS=John Tomay Memorial Library 605 6th Street Georgetown CO 80444 United States;X-APPLE-RADIUS=500;X-TITLE=605 6th Street:geo:-105.6974142,39.7061997
END:VEVENT
BEGIN:VEVENT
DTSTART;TZID=America/Denver:20200109T173000
DTEND;TZID=America/Denver:20200109T173000
DTSTAMP:20260424T032450
CREATED:20191218T221901Z
LAST-MODIFIED:20191218T221901Z
UID:26765-1578591000-1578591000@cccldstaging1.org
SUMMARY:Georgetown Adult Craft Night
DESCRIPTION:Do you love to craft? Or are you craft-curious? Get creative and connect with other crafty patrons at our monthly craft workshops! No experience is necessary and all workshops are free.
URL:https://cccldstaging1.org/event/georgetown-adult-craft-night-4-2/
LOCATION:John Tomay Memorial Library\, 605 6th Street\, Georgetown\, CO\, 80444\, United States
CATEGORIES:Adults,Library Events
GEO:39.7061997;-105.6974142
X-APPLE-STRUCTURED-LOCATION;VALUE=URI;X-ADDRESS=John Tomay Memorial Library 605 6th Street Georgetown CO 80444 United States;X-APPLE-RADIUS=500;X-TITLE=605 6th Street:geo:-105.6974142,39.7061997
END:VEVENT
BEGIN:VEVENT
DTSTART;TZID=America/Denver:20191207T110000
DTEND;TZID=America/Denver:20191207T130000
DTSTAMP:20260424T032450
CREATED:20191125T185500Z
LAST-MODIFIED:20191125T185500Z
UID:5427-1575716400-1575723600@cccldstaging1.org
SUMMARY:Santa's Workshop
DESCRIPTION:Visit the Georgetown Library during Georgetown’s Christmas Market for crafts and to visit with Santa!
URL:https://cccldstaging1.org/event/santas-workshop/2019-12-07/
LOCATION:John Tomay Memorial Library\, 605 6th Street\, Georgetown\, CO\, 80444\, United States
CATEGORIES:Adults,Community Events,Kids,Library Events
GEO:39.7061997;-105.6974142
X-APPLE-STRUCTURED-LOCATION;VALUE=URI;X-ADDRESS=John Tomay Memorial Library 605 6th Street Georgetown CO 80444 United States;X-APPLE-RADIUS=500;X-TITLE=605 6th Street:geo:-105.6974142,39.7061997
END:VEVENT
BEGIN:VEVENT
DTSTART;TZID=America/Denver:20191207T110000
DTEND;TZID=America/Denver:20191207T130000
DTSTAMP:20260424T032450
CREATED:20191125T185500Z
LAST-MODIFIED:20191125T185500Z
UID:26730-1575716400-1575723600@cccldstaging1.org
SUMMARY:Santa's Workshop
DESCRIPTION:Visit the Georgetown Library during Georgetown’s Christmas Market for crafts and to visit with Santa!
URL:https://cccldstaging1.org/event/santas-workshop-2/2019-12-07/
LOCATION:John Tomay Memorial Library\, 605 6th Street\, Georgetown\, CO\, 80444\, United States
CATEGORIES:Adults,Community Events,Kids,Library Events
GEO:39.7061997;-105.6974142
X-APPLE-STRUCTURED-LOCATION;VALUE=URI;X-ADDRESS=John Tomay Memorial Library 605 6th Street Georgetown CO 80444 United States;X-APPLE-RADIUS=500;X-TITLE=605 6th Street:geo:-105.6974142,39.7061997
END:VEVENT
BEGIN:VEVENT
DTSTART;TZID=America/Denver:20191206T154500
DTEND;TZID=America/Denver:20191206T154500
DTSTAMP:20260424T032450
CREATED:20191122T231656Z
LAST-MODIFIED:20191203T182211Z
UID:5402-1575647100-1575647100@cccldstaging1.org
SUMMARY:Georgetown Movie Night
DESCRIPTION:Enjoy a free\, family-friendly movie on the big screen at your library! Satisfy your cravings with snacks and freshly-popped popcorn available for sale at our mini concessions stand. \nPlease take note! This month\, the movie will be shown at 3:45 pm at the John Tomay Memorial Library. \nDecember Movie: Angry Birds 2
URL:https://cccldstaging1.org/event/georgetown-movie-night-3/
LOCATION:John Tomay Memorial Library\, 605 6th Street\, Georgetown\, CO\, 80444\, United States
CATEGORIES:Kids,Library Events
GEO:39.7061997;-105.6974142
X-APPLE-STRUCTURED-LOCATION;VALUE=URI;X-ADDRESS=John Tomay Memorial Library 605 6th Street Georgetown CO 80444 United States;X-APPLE-RADIUS=500;X-TITLE=605 6th Street:geo:-105.6974142,39.7061997
END:VEVENT
BEGIN:VEVENT
DTSTART;TZID=America/Denver:20191206T154500
DTEND;TZID=America/Denver:20191206T154500
DTSTAMP:20260424T032450
CREATED:20191122T231656Z
LAST-MODIFIED:20191122T231656Z
UID:26728-1575647100-1575647100@cccldstaging1.org
SUMMARY:Georgetown Movie Night
DESCRIPTION:Enjoy a free\, family-friendly movie on the big screen at your library! Satisfy your cravings with snacks and freshly-popped popcorn available for sale at our mini concessions stand. \nPlease take note! This month\, the movie will be shown at 3:45 pm at the John Tomay Memorial Library. \nDecember Movie: Angry Birds 2
URL:https://cccldstaging1.org/event/georgetown-movie-night-3-2/
LOCATION:John Tomay Memorial Library\, 605 6th Street\, Georgetown\, CO\, 80444\, United States
CATEGORIES:Kids,Library Events
GEO:39.7061997;-105.6974142
X-APPLE-STRUCTURED-LOCATION;VALUE=URI;X-ADDRESS=John Tomay Memorial Library 605 6th Street Georgetown CO 80444 United States;X-APPLE-RADIUS=500;X-TITLE=605 6th Street:geo:-105.6974142,39.7061997
END:VEVENT
END:VCALENDAR