BEGIN:VCALENDAR
VERSION:2.0
PRODID:-//Clear Creek County Library District Staging - ECPv6.15.20//NONSGML v1.0//EN
CALSCALE:GREGORIAN
METHOD:PUBLISH
X-WR-CALNAME:Clear Creek County Library District Staging
X-ORIGINAL-URL:https://cccldstaging1.org
X-WR-CALDESC:Events for Clear Creek County Library District Staging
REFRESH-INTERVAL;VALUE=DURATION:PT1H
X-Robots-Tag:noindex
X-PUBLISHED-TTL:PT1H
BEGIN:VTIMEZONE
TZID:America/Denver
BEGIN:DAYLIGHT
TZOFFSETFROM:-0700
TZOFFSETTO:-0600
TZNAME:MDT
DTSTART:20180311T090000
END:DAYLIGHT
BEGIN:STANDARD
TZOFFSETFROM:-0600
TZOFFSETTO:-0700
TZNAME:MST
DTSTART:20181104T080000
END:STANDARD
BEGIN:DAYLIGHT
TZOFFSETFROM:-0700
TZOFFSETTO:-0600
TZNAME:MDT
DTSTART:20190310T090000
END:DAYLIGHT
BEGIN:STANDARD
TZOFFSETFROM:-0600
TZOFFSETTO:-0700
TZNAME:MST
DTSTART:20191103T080000
END:STANDARD
BEGIN:DAYLIGHT
TZOFFSETFROM:-0700
TZOFFSETTO:-0600
TZNAME:MDT
DTSTART:20200308T090000
END:DAYLIGHT
BEGIN:STANDARD
TZOFFSETFROM:-0600
TZOFFSETTO:-0700
TZNAME:MST
DTSTART:20201101T080000
END:STANDARD
END:VTIMEZONE
BEGIN:VEVENT
DTSTART;TZID=America/Denver:20190321T190000
DTEND;TZID=America/Denver:20190321T203000
DTSTAMP:20260425T071646
CREATED:20190129T185842Z
LAST-MODIFIED:20190129T185842Z
UID:26216-1553194800-1553200200@cccldstaging1.org
SUMMARY:Adult Book Connection
DESCRIPTION:Connect with other readers in our community at monthly library book meetups. Share your ideas  and discover new stories. New readers are always welcome! Please contact holly@cccld.org for more information. \nIn March we will be discussing Beartown by Frederik Backman.
URL:https://cccldstaging1.org/event/adult-book-group-2-2/
LOCATION:John Tomay Memorial Library\, 605 6th Street\, Georgetown\, CO\, 80444\, United States
CATEGORIES:Adults,Library Events
GEO:39.7061997;-105.6974142
X-APPLE-STRUCTURED-LOCATION;VALUE=URI;X-ADDRESS=John Tomay Memorial Library 605 6th Street Georgetown CO 80444 United States;X-APPLE-RADIUS=500;X-TITLE=605 6th Street:geo:-105.6974142,39.7061997
END:VEVENT
BEGIN:VEVENT
DTSTART;TZID=America/Denver:20190321T190000
DTEND;TZID=America/Denver:20190321T203000
DTSTAMP:20260425T071646
CREATED:20190129T185842Z
LAST-MODIFIED:20190212T193540Z
UID:670-1553194800-1553200200@cccldstaging1.org
SUMMARY:Adult Book Connection
DESCRIPTION:Connect with other readers in our community at monthly library book meetups. Share your ideas  and discover new stories. New readers are always welcome! Please contact holly@cccld.org for more information. \nIn March we will be discussing Beartown by Frederik Backman.
URL:https://cccldstaging1.org/event/adult-book-group-2/
LOCATION:John Tomay Memorial Library\, 605 6th Street\, Georgetown\, CO\, 80444\, United States
CATEGORIES:Adults,Library Events
GEO:39.7061997;-105.6974142
X-APPLE-STRUCTURED-LOCATION;VALUE=URI;X-ADDRESS=John Tomay Memorial Library 605 6th Street Georgetown CO 80444 United States;X-APPLE-RADIUS=500;X-TITLE=605 6th Street:geo:-105.6974142,39.7061997
END:VEVENT
BEGIN:VEVENT
DTSTART;TZID=America/Denver:20190314T173000
DTEND;TZID=America/Denver:20190314T173000
DTSTAMP:20260425T071646
CREATED:20190129T185609Z
LAST-MODIFIED:20190129T185609Z
UID:26214-1552584600-1552584600@cccldstaging1.org
SUMMARY:Adult Craft
DESCRIPTION:Do you love to craft? Or are you craft-curious? Get creative and connect with other crafty patrons at our monthly craft workshops! No experience is necessary and all workshops are free\, but registration is required for each session. Please email holly@cccld.org to sign up. \nMarch craft: Pinwheel Wreaths
URL:https://cccldstaging1.org/event/adult-craft-2-2/
LOCATION:John Tomay Memorial Library\, 605 6th Street\, Georgetown\, CO\, 80444\, United States
CATEGORIES:Adults,Library Events
GEO:39.7061997;-105.6974142
X-APPLE-STRUCTURED-LOCATION;VALUE=URI;X-ADDRESS=John Tomay Memorial Library 605 6th Street Georgetown CO 80444 United States;X-APPLE-RADIUS=500;X-TITLE=605 6th Street:geo:-105.6974142,39.7061997
END:VEVENT
BEGIN:VEVENT
DTSTART;TZID=America/Denver:20190314T173000
DTEND;TZID=America/Denver:20190314T173000
DTSTAMP:20260425T071646
CREATED:20190129T185609Z
LAST-MODIFIED:20190225T213553Z
UID:666-1552584600-1552584600@cccldstaging1.org
SUMMARY:Adult Craft
DESCRIPTION:Do you love to craft? Or are you craft-curious? Get creative and connect with other crafty patrons at our monthly craft workshops! No experience is necessary and all workshops are free\, but registration is required for each session. Please email holly@cccld.org to sign up. \nMarch craft: Pinwheel Wreaths
URL:https://cccldstaging1.org/event/adult-craft-2/
LOCATION:John Tomay Memorial Library\, 605 6th Street\, Georgetown\, CO\, 80444\, United States
CATEGORIES:Adults,Library Events
GEO:39.7061997;-105.6974142
X-APPLE-STRUCTURED-LOCATION;VALUE=URI;X-ADDRESS=John Tomay Memorial Library 605 6th Street Georgetown CO 80444 United States;X-APPLE-RADIUS=500;X-TITLE=605 6th Street:geo:-105.6974142,39.7061997
END:VEVENT
BEGIN:VEVENT
DTSTART;TZID=America/Denver:20190221T190000
DTEND;TZID=America/Denver:20190221T203000
DTSTAMP:20260425T071646
CREATED:20190129T184630Z
LAST-MODIFIED:20190129T184630Z
UID:654-1550775600-1550781000@cccldstaging1.org
SUMMARY:JTML Adult Book Group: Killers of the Flower Moon
DESCRIPTION:The Adult Book Group meets once on the third Thursday of the month to discuss that month’s book selection. \nFebruary’s book: Killers of the Flower Moon by David Grann
URL:https://cccldstaging1.org/event/jtml-adult-book-group-killers-of-the-flower-moon/
LOCATION:John Tomay Memorial Library\, 605 6th Street\, Georgetown\, CO\, 80444\, United States
CATEGORIES:Library Events
GEO:39.7061997;-105.6974142
X-APPLE-STRUCTURED-LOCATION;VALUE=URI;X-ADDRESS=John Tomay Memorial Library 605 6th Street Georgetown CO 80444 United States;X-APPLE-RADIUS=500;X-TITLE=605 6th Street:geo:-105.6974142,39.7061997
END:VEVENT
BEGIN:VEVENT
DTSTART;TZID=America/Denver:20190214T110000
DTEND;TZID=America/Denver:20190214T133000
DTSTAMP:20260425T071646
CREATED:20190129T194130Z
LAST-MODIFIED:20190129T194130Z
UID:26230-1550142000-1550151000@cccldstaging1.org
SUMMARY:JTML Friends Soup Lunch
DESCRIPTION:Join the Friends of the Georgetown Library for their annual soup lunch so they can say THANK YOU to their community.
URL:https://cccldstaging1.org/event/jtml-friends-soup-lunch-2/
LOCATION:John Tomay Memorial Library\, 605 6th Street\, Georgetown\, CO\, 80444\, United States
CATEGORIES:Library Events
GEO:39.7061997;-105.6974142
X-APPLE-STRUCTURED-LOCATION;VALUE=URI;X-ADDRESS=John Tomay Memorial Library 605 6th Street Georgetown CO 80444 United States;X-APPLE-RADIUS=500;X-TITLE=605 6th Street:geo:-105.6974142,39.7061997
END:VEVENT
BEGIN:VEVENT
DTSTART;TZID=America/Denver:20190214T110000
DTEND;TZID=America/Denver:20190214T133000
DTSTAMP:20260425T071646
CREATED:20190129T194130Z
LAST-MODIFIED:20190129T194130Z
UID:700-1550142000-1550151000@cccldstaging1.org
SUMMARY:JTML Friends Soup Lunch
DESCRIPTION:Join the Friends of the Georgetown Library for their annual soup lunch so they can say THANK YOU to their community.
URL:https://cccldstaging1.org/event/jtml-friends-soup-lunch/
LOCATION:John Tomay Memorial Library\, 605 6th Street\, Georgetown\, CO\, 80444\, United States
CATEGORIES:Library Events
GEO:39.7061997;-105.6974142
X-APPLE-STRUCTURED-LOCATION;VALUE=URI;X-ADDRESS=John Tomay Memorial Library 605 6th Street Georgetown CO 80444 United States;X-APPLE-RADIUS=500;X-TITLE=605 6th Street:geo:-105.6974142,39.7061997
END:VEVENT
BEGIN:VEVENT
DTSTART;TZID=America/Denver:20190213T170000
DTEND;TZID=America/Denver:20190213T190000
DTSTAMP:20260425T071646
CREATED:20190129T184037Z
LAST-MODIFIED:20190129T184037Z
UID:26207-1550077200-1550084400@cccldstaging1.org
SUMMARY:Adult Craft: Cards with Dori
DESCRIPTION:Do you love to craft? Or are you craft-curious? Get creative and connect with other crafty patrons at our monthly craft workshops! No experience is necessary and all workshops are free\, but registration is required for each session. Please email holly@cccld.org to sign up. \nThis month we will be making beautiful “iris fold” Valentine cards. This class will be taught by local artist Dori Nelson.
URL:https://cccldstaging1.org/event/adult-craft-cards-with-dori-2-2/
LOCATION:John Tomay Memorial Library\, 605 6th Street\, Georgetown\, CO\, 80444\, United States
CATEGORIES:Library Events
GEO:39.7061997;-105.6974142
X-APPLE-STRUCTURED-LOCATION;VALUE=URI;X-ADDRESS=John Tomay Memorial Library 605 6th Street Georgetown CO 80444 United States;X-APPLE-RADIUS=500;X-TITLE=605 6th Street:geo:-105.6974142,39.7061997
END:VEVENT
BEGIN:VEVENT
DTSTART;TZID=America/Denver:20190213T170000
DTEND;TZID=America/Denver:20190213T190000
DTSTAMP:20260425T071646
CREATED:20190129T184037Z
LAST-MODIFIED:20190129T184037Z
UID:650-1550077200-1550084400@cccldstaging1.org
SUMMARY:Adult Craft: Cards with Dori
DESCRIPTION:Do you love to craft? Or are you craft-curious? Get creative and connect with other crafty patrons at our monthly craft workshops! No experience is necessary and all workshops are free\, but registration is required for each session. Please email holly@cccld.org to sign up. \nThis month we will be making beautiful “iris fold” Valentine cards. This class will be taught by local artist Dori Nelson.
URL:https://cccldstaging1.org/event/adult-craft-cards-with-dori-2/
LOCATION:John Tomay Memorial Library\, 605 6th Street\, Georgetown\, CO\, 80444\, United States
CATEGORIES:Library Events
GEO:39.7061997;-105.6974142
X-APPLE-STRUCTURED-LOCATION;VALUE=URI;X-ADDRESS=John Tomay Memorial Library 605 6th Street Georgetown CO 80444 United States;X-APPLE-RADIUS=500;X-TITLE=605 6th Street:geo:-105.6974142,39.7061997
END:VEVENT
BEGIN:VEVENT
DTSTART;TZID=America/Denver:20190206T153000
DTEND;TZID=America/Denver:20190206T163000
DTSTAMP:20260425T071646
CREATED:20190129T193525Z
LAST-MODIFIED:20190129T193525Z
UID:26229-1549467000-1549470600@cccldstaging1.org
SUMMARY:Crafternoon at the Library
DESCRIPTION:Zombify your stuffies for the Zombie Dance on Valentine’s Day!
URL:https://cccldstaging1.org/event/crafternoon-at-the-library-2-2/
LOCATION:John Tomay Memorial Library\, 605 6th Street\, Georgetown\, CO\, 80444\, United States
GEO:39.7061997;-105.6974142
X-APPLE-STRUCTURED-LOCATION;VALUE=URI;X-ADDRESS=John Tomay Memorial Library 605 6th Street Georgetown CO 80444 United States;X-APPLE-RADIUS=500;X-TITLE=605 6th Street:geo:-105.6974142,39.7061997
END:VEVENT
BEGIN:VEVENT
DTSTART;TZID=America/Denver:20190206T153000
DTEND;TZID=America/Denver:20190206T163000
DTSTAMP:20260425T071646
CREATED:20190129T193525Z
LAST-MODIFIED:20190129T193525Z
UID:698-1549467000-1549470600@cccldstaging1.org
SUMMARY:Crafternoon at the Library
DESCRIPTION:Zombify your stuffies for the Zombie Dance on Valentine’s Day!
URL:https://cccldstaging1.org/event/crafternoon-at-the-library-2/
LOCATION:John Tomay Memorial Library\, 605 6th Street\, Georgetown\, CO\, 80444\, United States
GEO:39.7061997;-105.6974142
X-APPLE-STRUCTURED-LOCATION;VALUE=URI;X-ADDRESS=John Tomay Memorial Library 605 6th Street Georgetown CO 80444 United States;X-APPLE-RADIUS=500;X-TITLE=605 6th Street:geo:-105.6974142,39.7061997
END:VEVENT
END:VCALENDAR