BEGIN:VCALENDAR
VERSION:2.0
PRODID:-//Clear Creek County Library District Staging - ECPv6.15.20//NONSGML v1.0//EN
CALSCALE:GREGORIAN
METHOD:PUBLISH
X-WR-CALNAME:Clear Creek County Library District Staging
X-ORIGINAL-URL:https://cccldstaging1.org
X-WR-CALDESC:Events for Clear Creek County Library District Staging
REFRESH-INTERVAL;VALUE=DURATION:PT1H
X-Robots-Tag:noindex
X-PUBLISHED-TTL:PT1H
BEGIN:VTIMEZONE
TZID:America/Denver
BEGIN:DAYLIGHT
TZOFFSETFROM:-0700
TZOFFSETTO:-0600
TZNAME:MDT
DTSTART:20180311T090000
END:DAYLIGHT
BEGIN:STANDARD
TZOFFSETFROM:-0600
TZOFFSETTO:-0700
TZNAME:MST
DTSTART:20181104T080000
END:STANDARD
BEGIN:DAYLIGHT
TZOFFSETFROM:-0700
TZOFFSETTO:-0600
TZNAME:MDT
DTSTART:20190310T090000
END:DAYLIGHT
BEGIN:STANDARD
TZOFFSETFROM:-0600
TZOFFSETTO:-0700
TZNAME:MST
DTSTART:20191103T080000
END:STANDARD
BEGIN:DAYLIGHT
TZOFFSETFROM:-0700
TZOFFSETTO:-0600
TZNAME:MDT
DTSTART:20200308T090000
END:DAYLIGHT
BEGIN:STANDARD
TZOFFSETFROM:-0600
TZOFFSETTO:-0700
TZNAME:MST
DTSTART:20201101T080000
END:STANDARD
END:VTIMEZONE
BEGIN:VEVENT
DTSTART;TZID=America/Denver:20190711T173000
DTEND;TZID=America/Denver:20190711T190000
DTSTAMP:20260424T170651
CREATED:20190619T165509Z
LAST-MODIFIED:20190619T165509Z
UID:3231-1562866200-1562871600@cccldstaging1.org
SUMMARY:JTML Adult Craft Night
DESCRIPTION:Do you love to craft? Or are you craft-curious? Get creative and connect with other crafty patrons at our monthly craft workshops! No experience is necessary and all workshops are free. \nIn July\, we’ll be making strawberry jam!
URL:https://cccldstaging1.org/event/jtml-adult-craft-night-2/
LOCATION:John Tomay Memorial Library\, 605 6th Street\, Georgetown\, CO\, 80444\, United States
CATEGORIES:Adults,Library Events
GEO:39.7061997;-105.6974142
X-APPLE-STRUCTURED-LOCATION;VALUE=URI;X-ADDRESS=John Tomay Memorial Library 605 6th Street Georgetown CO 80444 United States;X-APPLE-RADIUS=500;X-TITLE=605 6th Street:geo:-105.6974142,39.7061997
END:VEVENT
BEGIN:VEVENT
DTSTART;TZID=America/Denver:20190710T130000
DTEND;TZID=America/Denver:20190710T140000
DTSTAMP:20260424T170651
CREATED:20190701T185325Z
LAST-MODIFIED:20190701T185325Z
UID:3376-1562763600-1562767200@cccldstaging1.org
SUMMARY:JTML Computer Basics
DESCRIPTION:Drop in for assistance with learning basic computer skills.
URL:https://cccldstaging1.org/event/jtml-computer-basics/2019-07-10/
LOCATION:John Tomay Memorial Library\, 605 6th Street\, Georgetown\, CO\, 80444\, United States
CATEGORIES:Adults,Library Events
GEO:39.7061997;-105.6974142
X-APPLE-STRUCTURED-LOCATION;VALUE=URI;X-ADDRESS=John Tomay Memorial Library 605 6th Street Georgetown CO 80444 United States;X-APPLE-RADIUS=500;X-TITLE=605 6th Street:geo:-105.6974142,39.7061997
END:VEVENT
BEGIN:VEVENT
DTSTART;TZID=America/Denver:20190710T130000
DTEND;TZID=America/Denver:20190710T140000
DTSTAMP:20260424T170651
CREATED:20190701T185325Z
LAST-MODIFIED:20190701T185325Z
UID:26503-1562763600-1562767200@cccldstaging1.org
SUMMARY:JTML Computer Basics
DESCRIPTION:Drop in for assistance with learning basic computer skills.
URL:https://cccldstaging1.org/event/jtml-computer-basics-3/2019-07-10/
LOCATION:John Tomay Memorial Library\, 605 6th Street\, Georgetown\, CO\, 80444\, United States
CATEGORIES:Adults,Library Events
GEO:39.7061997;-105.6974142
X-APPLE-STRUCTURED-LOCATION;VALUE=URI;X-ADDRESS=John Tomay Memorial Library 605 6th Street Georgetown CO 80444 United States;X-APPLE-RADIUS=500;X-TITLE=605 6th Street:geo:-105.6974142,39.7061997
END:VEVENT
BEGIN:VEVENT
DTSTART;TZID=America/Denver:20190710T130000
DTEND;TZID=America/Denver:20190710T140000
DTSTAMP:20260424T170651
CREATED:20190516T230555Z
LAST-MODIFIED:20190516T230555Z
UID:2870-1562763600-1562767200@cccldstaging1.org
SUMMARY:JTML Summer Reading Week 6: Emberclaw House
DESCRIPTION:Emberclaw House: 6th – 12th grade \nWeek 6 in Georgetown: Transfiguration – Spellcraft
URL:https://cccldstaging1.org/event/jtml-summer-reading-week-6-emberclaw-house/
LOCATION:John Tomay Memorial Library\, 605 6th Street\, Georgetown\, CO\, 80444\, United States
CATEGORIES:Library Events,Summer Reading
GEO:39.7061997;-105.6974142
X-APPLE-STRUCTURED-LOCATION;VALUE=URI;X-ADDRESS=John Tomay Memorial Library 605 6th Street Georgetown CO 80444 United States;X-APPLE-RADIUS=500;X-TITLE=605 6th Street:geo:-105.6974142,39.7061997
END:VEVENT
BEGIN:VEVENT
DTSTART;TZID=America/Denver:20190710T130000
DTEND;TZID=America/Denver:20190710T140000
DTSTAMP:20260424T170651
CREATED:20190516T230555Z
LAST-MODIFIED:20190516T230555Z
UID:26468-1562763600-1562767200@cccldstaging1.org
SUMMARY:JTML Summer Reading Week 6: Emberclaw House
DESCRIPTION:Emberclaw House: 6th – 12th grade \nWeek 6 in Georgetown: Transfiguration – Spellcraft
URL:https://cccldstaging1.org/event/jtml-summer-reading-week-6-emberclaw-house-2/
LOCATION:John Tomay Memorial Library\, 605 6th Street\, Georgetown\, CO\, 80444\, United States
CATEGORIES:Library Events,Summer Reading
GEO:39.7061997;-105.6974142
X-APPLE-STRUCTURED-LOCATION;VALUE=URI;X-ADDRESS=John Tomay Memorial Library 605 6th Street Georgetown CO 80444 United States;X-APPLE-RADIUS=500;X-TITLE=605 6th Street:geo:-105.6974142,39.7061997
END:VEVENT
BEGIN:VEVENT
DTSTART;TZID=America/Denver:20190710T100000
DTEND;TZID=America/Denver:20190710T120000
DTSTAMP:20260424T170651
CREATED:20190516T201317Z
LAST-MODIFIED:20190606T210419Z
UID:2837-1562752800-1562760000@cccldstaging1.org
SUMMARY:JTML Summer Reading Week 6: Pippinhoot & Featherfayre Houses
DESCRIPTION:Pippinhoot House: early learning – 2nd grade \nFeatherfayre House: 3rd – 5th grade \nWeek 6 in Georgetown: Spells & Ciphers – Quillcraft & Magic Madlibs
URL:https://cccldstaging1.org/event/jtml-summer-reading-week-6-pippinhoot-featherfayre-houses/
LOCATION:John Tomay Memorial Library\, 605 6th Street\, Georgetown\, CO\, 80444\, United States
CATEGORIES:Kids,Library Events,Summer Reading
GEO:39.7061997;-105.6974142
X-APPLE-STRUCTURED-LOCATION;VALUE=URI;X-ADDRESS=John Tomay Memorial Library 605 6th Street Georgetown CO 80444 United States;X-APPLE-RADIUS=500;X-TITLE=605 6th Street:geo:-105.6974142,39.7061997
END:VEVENT
BEGIN:VEVENT
DTSTART;TZID=America/Denver:20190710T100000
DTEND;TZID=America/Denver:20190710T120000
DTSTAMP:20260424T170651
CREATED:20190516T201317Z
LAST-MODIFIED:20190516T201317Z
UID:26452-1562752800-1562760000@cccldstaging1.org
SUMMARY:JTML Summer Reading Week 6: Pippinhoot & Featherfayre Houses
DESCRIPTION:Pippinhoot House: early learning – 2nd grade \nFeatherfayre House: 3rd – 5th grade \nWeek 6 in Georgetown: Spells & Ciphers – Quillcraft & Magic Madlibs
URL:https://cccldstaging1.org/event/jtml-summer-reading-week-6-pippinhoot-featherfayre-houses-2/
LOCATION:John Tomay Memorial Library\, 605 6th Street\, Georgetown\, CO\, 80444\, United States
CATEGORIES:Kids,Library Events,Summer Reading
GEO:39.7061997;-105.6974142
X-APPLE-STRUCTURED-LOCATION;VALUE=URI;X-ADDRESS=John Tomay Memorial Library 605 6th Street Georgetown CO 80444 United States;X-APPLE-RADIUS=500;X-TITLE=605 6th Street:geo:-105.6974142,39.7061997
END:VEVENT
BEGIN:VEVENT
DTSTART;TZID=America/Denver:20190704T100000
DTEND;TZID=America/Denver:20190704T160000
DTSTAMP:20260424T170651
CREATED:20190701T184446Z
LAST-MODIFIED:20190701T184446Z
UID:3366-1562234400-1562256000@cccldstaging1.org
SUMMARY:Friends of the Georgetown Library Book Sale
DESCRIPTION:Support the Friends of the Georgetown Library by visiting their 4th of July Book Sale at the John Tomay Memorial Library. The sale will be open July 4\, 6\, and 7 from 10 am – 4 pm.
URL:https://cccldstaging1.org/event/friends-of-the-georgetown-library-book-sale/2019-07-04/
LOCATION:John Tomay Memorial Library\, 605 6th Street\, Georgetown\, CO\, 80444\, United States
CATEGORIES:Adults,Community Events,Kids,Library Events
GEO:39.7061997;-105.6974142
X-APPLE-STRUCTURED-LOCATION;VALUE=URI;X-ADDRESS=John Tomay Memorial Library 605 6th Street Georgetown CO 80444 United States;X-APPLE-RADIUS=500;X-TITLE=605 6th Street:geo:-105.6974142,39.7061997
END:VEVENT
BEGIN:VEVENT
DTSTART;TZID=America/Denver:20190704T100000
DTEND;TZID=America/Denver:20190704T160000
DTSTAMP:20260424T170651
CREATED:20190701T184446Z
LAST-MODIFIED:20190701T184446Z
UID:26501-1562234400-1562256000@cccldstaging1.org
SUMMARY:Friends of the Georgetown Library Book Sale
DESCRIPTION:Support the Friends of the Georgetown Library by visiting their 4th of July Book Sale at the John Tomay Memorial Library. The sale will be open July 4\, 6\, and 7 from 10 am – 4 pm.
URL:https://cccldstaging1.org/event/friends-of-the-georgetown-library-book-sale-2/2019-07-04/
LOCATION:John Tomay Memorial Library\, 605 6th Street\, Georgetown\, CO\, 80444\, United States
CATEGORIES:Adults,Community Events,Kids,Library Events
GEO:39.7061997;-105.6974142
X-APPLE-STRUCTURED-LOCATION;VALUE=URI;X-ADDRESS=John Tomay Memorial Library 605 6th Street Georgetown CO 80444 United States;X-APPLE-RADIUS=500;X-TITLE=605 6th Street:geo:-105.6974142,39.7061997
END:VEVENT
BEGIN:VEVENT
DTSTART;TZID=America/Denver:20190626T130000
DTEND;TZID=America/Denver:20190626T140000
DTSTAMP:20260424T170651
CREATED:20190516T230058Z
LAST-MODIFIED:20190516T230058Z
UID:2866-1561554000-1561557600@cccldstaging1.org
SUMMARY:JTML Summer Reading Week 4: Emberclaw House
DESCRIPTION:Emberclaw House: 6th – 12th grade \nWeek 4 in Georgetown: Castles – Castlecraft
URL:https://cccldstaging1.org/event/jtml-summer-reading-week-4-emberclaw-house/
LOCATION:John Tomay Memorial Library\, 605 6th Street\, Georgetown\, CO\, 80444\, United States
CATEGORIES:Library Events,Summer Reading
GEO:39.7061997;-105.6974142
X-APPLE-STRUCTURED-LOCATION;VALUE=URI;X-ADDRESS=John Tomay Memorial Library 605 6th Street Georgetown CO 80444 United States;X-APPLE-RADIUS=500;X-TITLE=605 6th Street:geo:-105.6974142,39.7061997
END:VEVENT
BEGIN:VEVENT
DTSTART;TZID=America/Denver:20190626T130000
DTEND;TZID=America/Denver:20190626T140000
DTSTAMP:20260424T170651
CREATED:20190516T230058Z
LAST-MODIFIED:20190516T230058Z
UID:26466-1561554000-1561557600@cccldstaging1.org
SUMMARY:JTML Summer Reading Week 4: Emberclaw House
DESCRIPTION:Emberclaw House: 6th – 12th grade \nWeek 4 in Georgetown: Castles – Castlecraft
URL:https://cccldstaging1.org/event/jtml-summer-reading-week-4-emberclaw-house-2/
LOCATION:John Tomay Memorial Library\, 605 6th Street\, Georgetown\, CO\, 80444\, United States
CATEGORIES:Library Events,Summer Reading
GEO:39.7061997;-105.6974142
X-APPLE-STRUCTURED-LOCATION;VALUE=URI;X-ADDRESS=John Tomay Memorial Library 605 6th Street Georgetown CO 80444 United States;X-APPLE-RADIUS=500;X-TITLE=605 6th Street:geo:-105.6974142,39.7061997
END:VEVENT
BEGIN:VEVENT
DTSTART;TZID=America/Denver:20190626T100000
DTEND;TZID=America/Denver:20190626T120000
DTSTAMP:20260424T170651
CREATED:20190516T190441Z
LAST-MODIFIED:20190606T210256Z
UID:2824-1561543200-1561550400@cccldstaging1.org
SUMMARY:JTML Summer Reading Week 4: Pippinhoot & Featherfayre Houses
DESCRIPTION:Pippinhoot House: early learning – 2nd grade \nFeatherfayre House: 3rd – 5th grade \nWeek 4 in Georgetown: Castles – Castlecraft
URL:https://cccldstaging1.org/event/jtml-summer-reading-pippinhoot-featherfayre-houses-4/
LOCATION:John Tomay Memorial Library\, 605 6th Street\, Georgetown\, CO\, 80444\, United States
CATEGORIES:Kids,Library Events,Summer Reading
GEO:39.7061997;-105.6974142
X-APPLE-STRUCTURED-LOCATION;VALUE=URI;X-ADDRESS=John Tomay Memorial Library 605 6th Street Georgetown CO 80444 United States;X-APPLE-RADIUS=500;X-TITLE=605 6th Street:geo:-105.6974142,39.7061997
END:VEVENT
BEGIN:VEVENT
DTSTART;TZID=America/Denver:20190626T100000
DTEND;TZID=America/Denver:20190626T120000
DTSTAMP:20260424T170651
CREATED:20190516T190441Z
LAST-MODIFIED:20190516T190441Z
UID:26450-1561543200-1561550400@cccldstaging1.org
SUMMARY:JTML Summer Reading Week 4: Pippinhoot & Featherfayre Houses
DESCRIPTION:Pippinhoot House: early learning – 2nd grade \nFeatherfayre House: 3rd – 5th grade \nWeek 4 in Georgetown: Castles – Castlecraft
URL:https://cccldstaging1.org/event/jtml-summer-reading-pippinhoot-featherfayre-houses-4-2/
LOCATION:John Tomay Memorial Library\, 605 6th Street\, Georgetown\, CO\, 80444\, United States
CATEGORIES:Kids,Library Events,Summer Reading
GEO:39.7061997;-105.6974142
X-APPLE-STRUCTURED-LOCATION;VALUE=URI;X-ADDRESS=John Tomay Memorial Library 605 6th Street Georgetown CO 80444 United States;X-APPLE-RADIUS=500;X-TITLE=605 6th Street:geo:-105.6974142,39.7061997
END:VEVENT
BEGIN:VEVENT
DTSTART;TZID=America/Denver:20190619T130000
DTEND;TZID=America/Denver:20190619T140000
DTSTAMP:20260424T170651
CREATED:20190516T225409Z
LAST-MODIFIED:20190516T225409Z
UID:2862-1560949200-1560952800@cccldstaging1.org
SUMMARY:JTML Summer Reading Week 3: Emberclaw House
DESCRIPTION:Emberclaw House: 6th – 12th grade \nWeek 3 in Georgetown: Potions – Potion Workshop
URL:https://cccldstaging1.org/event/jtml-summer-reading-week-3-emberclaw-house/
LOCATION:John Tomay Memorial Library\, 605 6th Street\, Georgetown\, CO\, 80444\, United States
CATEGORIES:Library Events,Summer Reading
GEO:39.7061997;-105.6974142
X-APPLE-STRUCTURED-LOCATION;VALUE=URI;X-ADDRESS=John Tomay Memorial Library 605 6th Street Georgetown CO 80444 United States;X-APPLE-RADIUS=500;X-TITLE=605 6th Street:geo:-105.6974142,39.7061997
END:VEVENT
BEGIN:VEVENT
DTSTART;TZID=America/Denver:20190619T130000
DTEND;TZID=America/Denver:20190619T140000
DTSTAMP:20260424T170651
CREATED:20190516T225409Z
LAST-MODIFIED:20190516T225409Z
UID:26464-1560949200-1560952800@cccldstaging1.org
SUMMARY:JTML Summer Reading Week 3: Emberclaw House
DESCRIPTION:Emberclaw House: 6th – 12th grade \nWeek 3 in Georgetown: Potions – Potion Workshop
URL:https://cccldstaging1.org/event/jtml-summer-reading-week-3-emberclaw-house-2/
LOCATION:John Tomay Memorial Library\, 605 6th Street\, Georgetown\, CO\, 80444\, United States
CATEGORIES:Library Events,Summer Reading
GEO:39.7061997;-105.6974142
X-APPLE-STRUCTURED-LOCATION;VALUE=URI;X-ADDRESS=John Tomay Memorial Library 605 6th Street Georgetown CO 80444 United States;X-APPLE-RADIUS=500;X-TITLE=605 6th Street:geo:-105.6974142,39.7061997
END:VEVENT
BEGIN:VEVENT
DTSTART;TZID=America/Denver:20190619T100000
DTEND;TZID=America/Denver:20190619T120000
DTSTAMP:20260424T170651
CREATED:20190516T185718Z
LAST-MODIFIED:20190606T210123Z
UID:2820-1560938400-1560945600@cccldstaging1.org
SUMMARY:JTML Summer Reading Week 3: Pippinhoot & Featherfayre Houses
DESCRIPTION:Pippinhoot House: early learning – 2nd grade \nFeatherfayre House: 3rd – 5th grade \nWeek 3 in Georgetown: Potions Workshop
URL:https://cccldstaging1.org/event/jtml-summer-reading-pippinhoot-featherfayre-houses-3/
LOCATION:John Tomay Memorial Library\, 605 6th Street\, Georgetown\, CO\, 80444\, United States
CATEGORIES:Kids,Library Events,Summer Reading
GEO:39.7061997;-105.6974142
X-APPLE-STRUCTURED-LOCATION;VALUE=URI;X-ADDRESS=John Tomay Memorial Library 605 6th Street Georgetown CO 80444 United States;X-APPLE-RADIUS=500;X-TITLE=605 6th Street:geo:-105.6974142,39.7061997
END:VEVENT
BEGIN:VEVENT
DTSTART;TZID=America/Denver:20190619T100000
DTEND;TZID=America/Denver:20190619T120000
DTSTAMP:20260424T170651
CREATED:20190516T185718Z
LAST-MODIFIED:20190516T185718Z
UID:26448-1560938400-1560945600@cccldstaging1.org
SUMMARY:JTML Summer Reading Week 3: Pippinhoot & Featherfayre Houses
DESCRIPTION:Pippinhoot House: early learning – 2nd grade \nFeatherfayre House: 3rd – 5th grade \nWeek 3 in Georgetown: Potions Workshop
URL:https://cccldstaging1.org/event/jtml-summer-reading-pippinhoot-featherfayre-houses-3-2/
LOCATION:John Tomay Memorial Library\, 605 6th Street\, Georgetown\, CO\, 80444\, United States
CATEGORIES:Kids,Library Events,Summer Reading
GEO:39.7061997;-105.6974142
X-APPLE-STRUCTURED-LOCATION;VALUE=URI;X-ADDRESS=John Tomay Memorial Library 605 6th Street Georgetown CO 80444 United States;X-APPLE-RADIUS=500;X-TITLE=605 6th Street:geo:-105.6974142,39.7061997
END:VEVENT
BEGIN:VEVENT
DTSTART;TZID=America/Denver:20190613T173000
DTEND;TZID=America/Denver:20190613T190000
DTSTAMP:20260424T170651
CREATED:20190610T185201Z
LAST-MODIFIED:20190610T185201Z
UID:3152-1560447000-1560452400@cccldstaging1.org
SUMMARY:JTML Adult Craft Night
DESCRIPTION:Do you love to craft? Or are you craft-curious? Get creative and connect with other crafty patrons at our monthly craft workshops! No experience is necessary and all workshops are free\, but registration is required for each session. Please email holly@cccld.org to sign up. \nJune craft: pompom owls
URL:https://cccldstaging1.org/event/jtml-adult-craft-night/
LOCATION:John Tomay Memorial Library\, 605 6th Street\, Georgetown\, CO\, 80444\, United States
CATEGORIES:Adults,Library Events
GEO:39.7061997;-105.6974142
X-APPLE-STRUCTURED-LOCATION;VALUE=URI;X-ADDRESS=John Tomay Memorial Library 605 6th Street Georgetown CO 80444 United States;X-APPLE-RADIUS=500;X-TITLE=605 6th Street:geo:-105.6974142,39.7061997
END:VEVENT
BEGIN:VEVENT
DTSTART;TZID=America/Denver:20190613T173000
DTEND;TZID=America/Denver:20190613T190000
DTSTAMP:20260424T170651
CREATED:20190610T185201Z
LAST-MODIFIED:20190610T185201Z
UID:26489-1560447000-1560452400@cccldstaging1.org
SUMMARY:JTML Adult Craft Night
DESCRIPTION:Do you love to craft? Or are you craft-curious? Get creative and connect with other crafty patrons at our monthly craft workshops! No experience is necessary and all workshops are free\, but registration is required for each session. Please email holly@cccld.org to sign up. \nJune craft: pompom owls
URL:https://cccldstaging1.org/event/jtml-adult-craft-night-3/
LOCATION:John Tomay Memorial Library\, 605 6th Street\, Georgetown\, CO\, 80444\, United States
CATEGORIES:Adults,Library Events
GEO:39.7061997;-105.6974142
X-APPLE-STRUCTURED-LOCATION;VALUE=URI;X-ADDRESS=John Tomay Memorial Library 605 6th Street Georgetown CO 80444 United States;X-APPLE-RADIUS=500;X-TITLE=605 6th Street:geo:-105.6974142,39.7061997
END:VEVENT
BEGIN:VEVENT
DTSTART;TZID=America/Denver:20190612T130000
DTEND;TZID=America/Denver:20190612T140000
DTSTAMP:20260424T170651
CREATED:20190516T224716Z
LAST-MODIFIED:20190516T224716Z
UID:2858-1560344400-1560348000@cccldstaging1.org
SUMMARY:JTML Summer Reading Week 2: Emberclaw House
DESCRIPTION:Emberclaw House: 6th – 12th grade \nWeek 2 in Georgetown: Owlery Visit – Owlcraft
URL:https://cccldstaging1.org/event/jtml-summer-reading-week-2-emberclaw-house/
LOCATION:John Tomay Memorial Library\, 605 6th Street\, Georgetown\, CO\, 80444\, United States
CATEGORIES:Library Events,Summer Reading
GEO:39.7061997;-105.6974142
X-APPLE-STRUCTURED-LOCATION;VALUE=URI;X-ADDRESS=John Tomay Memorial Library 605 6th Street Georgetown CO 80444 United States;X-APPLE-RADIUS=500;X-TITLE=605 6th Street:geo:-105.6974142,39.7061997
END:VEVENT
BEGIN:VEVENT
DTSTART;TZID=America/Denver:20190612T130000
DTEND;TZID=America/Denver:20190612T140000
DTSTAMP:20260424T170651
CREATED:20190516T224716Z
LAST-MODIFIED:20190516T224716Z
UID:26462-1560344400-1560348000@cccldstaging1.org
SUMMARY:JTML Summer Reading Week 2: Emberclaw House
DESCRIPTION:Emberclaw House: 6th – 12th grade \nWeek 2 in Georgetown: Owlery Visit – Owlcraft
URL:https://cccldstaging1.org/event/jtml-summer-reading-week-2-emberclaw-house-2/
LOCATION:John Tomay Memorial Library\, 605 6th Street\, Georgetown\, CO\, 80444\, United States
CATEGORIES:Library Events,Summer Reading
GEO:39.7061997;-105.6974142
X-APPLE-STRUCTURED-LOCATION;VALUE=URI;X-ADDRESS=John Tomay Memorial Library 605 6th Street Georgetown CO 80444 United States;X-APPLE-RADIUS=500;X-TITLE=605 6th Street:geo:-105.6974142,39.7061997
END:VEVENT
BEGIN:VEVENT
DTSTART;TZID=America/Denver:20190612T100000
DTEND;TZID=America/Denver:20190612T120000
DTSTAMP:20260424T170651
CREATED:20190516T185152Z
LAST-MODIFIED:20190516T185152Z
UID:26446-1560333600-1560340800@cccldstaging1.org
SUMMARY:JTML Summer Reading Week 2: Pippinhoot & Featherfayre Houses
DESCRIPTION:Pippinhoot House: early learning – 2nd grade \nFeatherfayre House: 3rd – 5th grade \nWeek 2 in Georgetown: Owlery Visit – Owlcraft
URL:https://cccldstaging1.org/event/jtml-summer-reading-pippinhoot-featherfayre-houses-2-2/
LOCATION:John Tomay Memorial Library\, 605 6th Street\, Georgetown\, CO\, 80444\, United States
CATEGORIES:Kids,Library Events,Summer Reading
GEO:39.7061997;-105.6974142
X-APPLE-STRUCTURED-LOCATION;VALUE=URI;X-ADDRESS=John Tomay Memorial Library 605 6th Street Georgetown CO 80444 United States;X-APPLE-RADIUS=500;X-TITLE=605 6th Street:geo:-105.6974142,39.7061997
END:VEVENT
BEGIN:VEVENT
DTSTART;TZID=America/Denver:20190612T100000
DTEND;TZID=America/Denver:20190612T120000
DTSTAMP:20260424T170651
CREATED:20190516T185152Z
LAST-MODIFIED:20190606T205906Z
UID:2814-1560333600-1560340800@cccldstaging1.org
SUMMARY:JTML Summer Reading Week 2: Pippinhoot & Featherfayre Houses
DESCRIPTION:Pippinhoot House: early learning – 2nd grade \nFeatherfayre House: 3rd – 5th grade \nWeek 2 in Georgetown: Owlery Visit – Owlcraft
URL:https://cccldstaging1.org/event/jtml-summer-reading-pippinhoot-featherfayre-houses-2/
LOCATION:John Tomay Memorial Library\, 605 6th Street\, Georgetown\, CO\, 80444\, United States
CATEGORIES:Kids,Library Events,Summer Reading
GEO:39.7061997;-105.6974142
X-APPLE-STRUCTURED-LOCATION;VALUE=URI;X-ADDRESS=John Tomay Memorial Library 605 6th Street Georgetown CO 80444 United States;X-APPLE-RADIUS=500;X-TITLE=605 6th Street:geo:-105.6974142,39.7061997
END:VEVENT
BEGIN:VEVENT
DTSTART;TZID=America/Denver:20190605T130000
DTEND;TZID=America/Denver:20190605T140000
DTSTAMP:20260424T170651
CREATED:20190516T223849Z
LAST-MODIFIED:20190516T223849Z
UID:2854-1559739600-1559743200@cccldstaging1.org
SUMMARY:JTML Summer Reading Week 1: Emberclaw House
DESCRIPTION:Emberclaw House: 6th – 12th grade \nWeek 1 in Georgetown: Witches’ Welcome – Ollivander’s Wand Workshop
URL:https://cccldstaging1.org/event/jtml-summer-reading-week-1-emberclaw-house/
LOCATION:John Tomay Memorial Library\, 605 6th Street\, Georgetown\, CO\, 80444\, United States
CATEGORIES:Library Events,Summer Reading
GEO:39.7061997;-105.6974142
X-APPLE-STRUCTURED-LOCATION;VALUE=URI;X-ADDRESS=John Tomay Memorial Library 605 6th Street Georgetown CO 80444 United States;X-APPLE-RADIUS=500;X-TITLE=605 6th Street:geo:-105.6974142,39.7061997
END:VEVENT
BEGIN:VEVENT
DTSTART;TZID=America/Denver:20190605T130000
DTEND;TZID=America/Denver:20190605T140000
DTSTAMP:20260424T170651
CREATED:20190516T223849Z
LAST-MODIFIED:20190516T223849Z
UID:26460-1559739600-1559743200@cccldstaging1.org
SUMMARY:JTML Summer Reading Week 1: Emberclaw House
DESCRIPTION:Emberclaw House: 6th – 12th grade \nWeek 1 in Georgetown: Witches’ Welcome – Ollivander’s Wand Workshop
URL:https://cccldstaging1.org/event/jtml-summer-reading-week-1-emberclaw-house-2/
LOCATION:John Tomay Memorial Library\, 605 6th Street\, Georgetown\, CO\, 80444\, United States
CATEGORIES:Library Events,Summer Reading
GEO:39.7061997;-105.6974142
X-APPLE-STRUCTURED-LOCATION;VALUE=URI;X-ADDRESS=John Tomay Memorial Library 605 6th Street Georgetown CO 80444 United States;X-APPLE-RADIUS=500;X-TITLE=605 6th Street:geo:-105.6974142,39.7061997
END:VEVENT
BEGIN:VEVENT
DTSTART;TZID=America/Denver:20190605T100000
DTEND;TZID=America/Denver:20190605T120000
DTSTAMP:20260424T170651
CREATED:20190516T184219Z
LAST-MODIFIED:20190516T184219Z
UID:26444-1559728800-1559736000@cccldstaging1.org
SUMMARY:JTML Summer Reading Week 1: Pippinhoot & Featherfayre Houses
DESCRIPTION:Pippinhoot House: early learning – 2nd grade \nFeatherfayre House: 3rd – 5th grade \nWeek One in Georgetown: Witches & Wands – Magic Wand Workshop
URL:https://cccldstaging1.org/event/jtml-summer-reading-pippinhoot-featherfayre-houses-6/
LOCATION:John Tomay Memorial Library\, 605 6th Street\, Georgetown\, CO\, 80444\, United States
CATEGORIES:Kids,Library Events,Summer Reading
GEO:39.7061997;-105.6974142
X-APPLE-STRUCTURED-LOCATION;VALUE=URI;X-ADDRESS=John Tomay Memorial Library 605 6th Street Georgetown CO 80444 United States;X-APPLE-RADIUS=500;X-TITLE=605 6th Street:geo:-105.6974142,39.7061997
END:VEVENT
BEGIN:VEVENT
DTSTART;TZID=America/Denver:20190605T100000
DTEND;TZID=America/Denver:20190605T120000
DTSTAMP:20260424T170651
CREATED:20190516T184219Z
LAST-MODIFIED:20190516T190858Z
UID:2808-1559728800-1559736000@cccldstaging1.org
SUMMARY:JTML Summer Reading Week 1: Pippinhoot & Featherfayre Houses
DESCRIPTION:Pippinhoot House: early learning – 2nd grade \nFeatherfayre House: 3rd – 5th grade \nWeek One in Georgetown: Witches & Wands – Magic Wand Workshop
URL:https://cccldstaging1.org/event/jtml-summer-reading-pippinhoot-featherfayre-houses/
LOCATION:John Tomay Memorial Library\, 605 6th Street\, Georgetown\, CO\, 80444\, United States
CATEGORIES:Kids,Library Events,Summer Reading
GEO:39.7061997;-105.6974142
X-APPLE-STRUCTURED-LOCATION;VALUE=URI;X-ADDRESS=John Tomay Memorial Library 605 6th Street Georgetown CO 80444 United States;X-APPLE-RADIUS=500;X-TITLE=605 6th Street:geo:-105.6974142,39.7061997
END:VEVENT
BEGIN:VEVENT
DTSTART;TZID=America/Denver:20190525T100000
DTEND;TZID=America/Denver:20190525T160000
DTSTAMP:20260424T170651
CREATED:20190507T193857Z
LAST-MODIFIED:20190507T193857Z
UID:26440-1558778400-1558800000@cccldstaging1.org
SUMMARY:Friends of the Georgetown Library Memorial Day Weekend Book Sale
DESCRIPTION:Stop by the Friends of the Georgetown Library annual Memorial Day weekend book sale Saturday\, May 25\, Sunday\, May 26\, and Monday\, May 27 from 10 am to 4 pm.
URL:https://cccldstaging1.org/event/friends-of-the-georgetown-library-memorial-day-weekend-book-sale-2/2019-05-25/
LOCATION:John Tomay Memorial Library\, 605 6th Street\, Georgetown\, CO\, 80444\, United States
CATEGORIES:Library Events
GEO:39.7061997;-105.6974142
X-APPLE-STRUCTURED-LOCATION;VALUE=URI;X-ADDRESS=John Tomay Memorial Library 605 6th Street Georgetown CO 80444 United States;X-APPLE-RADIUS=500;X-TITLE=605 6th Street:geo:-105.6974142,39.7061997
END:VEVENT
BEGIN:VEVENT
DTSTART;TZID=America/Denver:20190525T100000
DTEND;TZID=America/Denver:20190525T160000
DTSTAMP:20260424T170651
CREATED:20190507T193857Z
LAST-MODIFIED:20190507T193857Z
UID:2709-1558778400-1558800000@cccldstaging1.org
SUMMARY:Friends of the Georgetown Library Memorial Day Weekend Book Sale
DESCRIPTION:Stop by the Friends of the Georgetown Library annual Memorial Day weekend book sale Saturday\, May 25\, Sunday\, May 26\, and Monday\, May 27 from 10 am to 4 pm.
URL:https://cccldstaging1.org/event/friends-of-the-georgetown-library-memorial-day-weekend-book-sale/2019-05-25/
LOCATION:John Tomay Memorial Library\, 605 6th Street\, Georgetown\, CO\, 80444\, United States
CATEGORIES:Library Events
GEO:39.7061997;-105.6974142
X-APPLE-STRUCTURED-LOCATION;VALUE=URI;X-ADDRESS=John Tomay Memorial Library 605 6th Street Georgetown CO 80444 United States;X-APPLE-RADIUS=500;X-TITLE=605 6th Street:geo:-105.6974142,39.7061997
END:VEVENT
BEGIN:VEVENT
DTSTART;TZID=America/Denver:20190516T190000
DTEND;TZID=America/Denver:20190516T190000
DTSTAMP:20260424T170651
CREATED:20190424T220243Z
LAST-MODIFIED:20190424T220243Z
UID:2513-1558033200-1558033200@cccldstaging1.org
SUMMARY:JTML Adult Book Group
DESCRIPTION:Connect with other readers in our community at monthly library book meetups. Share your ideas  and discover new stories. New readers are always welcome! Please contact holly@cccld.org for more information. \nMay’s Book Selection: Roughing It by Mark Twain
URL:https://cccldstaging1.org/event/jtml-adult-book-group/
LOCATION:John Tomay Memorial Library\, 605 6th Street\, Georgetown\, CO\, 80444\, United States
CATEGORIES:Adults,Library Events
GEO:39.7061997;-105.6974142
X-APPLE-STRUCTURED-LOCATION;VALUE=URI;X-ADDRESS=John Tomay Memorial Library 605 6th Street Georgetown CO 80444 United States;X-APPLE-RADIUS=500;X-TITLE=605 6th Street:geo:-105.6974142,39.7061997
END:VEVENT
END:VCALENDAR