BEGIN:VCALENDAR
VERSION:2.0
PRODID:-//Clear Creek County Library District Staging - ECPv6.15.20//NONSGML v1.0//EN
CALSCALE:GREGORIAN
METHOD:PUBLISH
X-WR-CALNAME:Clear Creek County Library District Staging
X-ORIGINAL-URL:https://cccldstaging1.org
X-WR-CALDESC:Events for Clear Creek County Library District Staging
REFRESH-INTERVAL;VALUE=DURATION:PT1H
X-Robots-Tag:noindex
X-PUBLISHED-TTL:PT1H
BEGIN:VTIMEZONE
TZID:America/Denver
BEGIN:DAYLIGHT
TZOFFSETFROM:-0700
TZOFFSETTO:-0600
TZNAME:MDT
DTSTART:20180311T090000
END:DAYLIGHT
BEGIN:STANDARD
TZOFFSETFROM:-0600
TZOFFSETTO:-0700
TZNAME:MST
DTSTART:20181104T080000
END:STANDARD
BEGIN:DAYLIGHT
TZOFFSETFROM:-0700
TZOFFSETTO:-0600
TZNAME:MDT
DTSTART:20190310T090000
END:DAYLIGHT
BEGIN:STANDARD
TZOFFSETFROM:-0600
TZOFFSETTO:-0700
TZNAME:MST
DTSTART:20191103T080000
END:STANDARD
BEGIN:DAYLIGHT
TZOFFSETFROM:-0700
TZOFFSETTO:-0600
TZNAME:MDT
DTSTART:20200308T090000
END:DAYLIGHT
BEGIN:STANDARD
TZOFFSETFROM:-0600
TZOFFSETTO:-0700
TZNAME:MST
DTSTART:20201101T080000
END:STANDARD
END:VTIMEZONE
BEGIN:VEVENT
DTSTART;TZID=America/Denver:20190507T111500
DTEND;TZID=America/Denver:20190507T111500
DTSTAMP:20260425T112729
CREATED:20190403T222322Z
LAST-MODIFIED:20190403T222322Z
UID:2130-1557227700-1557227700@cccldstaging1.org
SUMMARY:ISPL Storytime
DESCRIPTION:Join us at the Idaho Springs Public Library for stories\, fun activities\, and snacks each week. Connect with other families and your library!
URL:https://cccldstaging1.org/event/ispl-storytime-5/
LOCATION:Idaho Springs Public Library\, 219 14th Avenue\, Idaho Springs\, CO\, 80452\, United States
CATEGORIES:Kids,Library Events
GEO:39.742052;-105.5183552
X-APPLE-STRUCTURED-LOCATION;VALUE=URI;X-ADDRESS=Idaho Springs Public Library 219 14th Avenue Idaho Springs CO 80452 United States;X-APPLE-RADIUS=500;X-TITLE=219 14th Avenue:geo:-105.5183552,39.742052
END:VEVENT
BEGIN:VEVENT
DTSTART;TZID=America/Denver:20190507T111500
DTEND;TZID=America/Denver:20190507T111500
DTSTAMP:20260425T112729
CREATED:20190403T222322Z
LAST-MODIFIED:20190403T222322Z
UID:26359-1557227700-1557227700@cccldstaging1.org
SUMMARY:ISPL Storytime
DESCRIPTION:Join us at the Idaho Springs Public Library for stories\, fun activities\, and snacks each week. Connect with other families and your library!
URL:https://cccldstaging1.org/event/ispl-storytime-5-2/
LOCATION:Idaho Springs Public Library\, 219 14th Avenue\, Idaho Springs\, CO\, 80452\, United States
CATEGORIES:Kids,Library Events
GEO:39.742052;-105.5183552
X-APPLE-STRUCTURED-LOCATION;VALUE=URI;X-ADDRESS=Idaho Springs Public Library 219 14th Avenue Idaho Springs CO 80452 United States;X-APPLE-RADIUS=500;X-TITLE=219 14th Avenue:geo:-105.5183552,39.742052
END:VEVENT
BEGIN:VEVENT
DTSTART;TZID=America/Denver:20190501T153000
DTEND;TZID=America/Denver:20190501T170000
DTSTAMP:20260425T112729
CREATED:20190403T223448Z
LAST-MODIFIED:20190403T223448Z
UID:26368-1556724600-1556730000@cccldstaging1.org
SUMMARY:After-School Homework Help
DESCRIPTION:Students of all ages can get help with their homework from 3:30 – 5 pm on Wednesdays at the Idaho Springs Public Library. Volunteer tutors will be available to help with homework\, reading\, or other school activities.
URL:https://cccldstaging1.org/event/after-school-homework-help-5-2/
LOCATION:Idaho Springs Public Library\, 219 14th Avenue\, Idaho Springs\, CO\, 80452\, United States
CATEGORIES:Kids,Library Events
GEO:39.742052;-105.5183552
X-APPLE-STRUCTURED-LOCATION;VALUE=URI;X-ADDRESS=Idaho Springs Public Library 219 14th Avenue Idaho Springs CO 80452 United States;X-APPLE-RADIUS=500;X-TITLE=219 14th Avenue:geo:-105.5183552,39.742052
END:VEVENT
BEGIN:VEVENT
DTSTART;TZID=America/Denver:20190501T153000
DTEND;TZID=America/Denver:20190501T170000
DTSTAMP:20260425T112729
CREATED:20190403T223448Z
LAST-MODIFIED:20190403T223448Z
UID:2148-1556724600-1556730000@cccldstaging1.org
SUMMARY:After-School Homework Help
DESCRIPTION:Students of all ages can get help with their homework from 3:30 – 5 pm on Wednesdays at the Idaho Springs Public Library. Volunteer tutors will be available to help with homework\, reading\, or other school activities.
URL:https://cccldstaging1.org/event/after-school-homework-help-5/
LOCATION:Idaho Springs Public Library\, 219 14th Avenue\, Idaho Springs\, CO\, 80452\, United States
CATEGORIES:Kids,Library Events
GEO:39.742052;-105.5183552
X-APPLE-STRUCTURED-LOCATION;VALUE=URI;X-ADDRESS=Idaho Springs Public Library 219 14th Avenue Idaho Springs CO 80452 United States;X-APPLE-RADIUS=500;X-TITLE=219 14th Avenue:geo:-105.5183552,39.742052
END:VEVENT
BEGIN:VEVENT
DTSTART;TZID=America/Denver:20190430T153000
DTEND;TZID=America/Denver:20190430T153000
DTSTAMP:20260425T112729
CREATED:20190129T191851Z
LAST-MODIFIED:20190129T191851Z
UID:26225-1556638200-1556638200@cccldstaging1.org
SUMMARY:Día de los Niños
DESCRIPTION:Día is a nationally recognized initiative that emphasizes the importance of literacy for all children form all backgrounds. It is a daily commitment to linking children and their families to diverse books\, languages\, and cultures. Día is also known as El día de los niños or El día de los libros (Children’s Day or Book Day).
URL:https://cccldstaging1.org/event/dia-de-los-ninos-2/
LOCATION:Idaho Springs Public Library\, 219 14th Avenue\, Idaho Springs\, CO\, 80452\, United States
CATEGORIES:Kids,Library Events
GEO:39.742052;-105.5183552
X-APPLE-STRUCTURED-LOCATION;VALUE=URI;X-ADDRESS=Idaho Springs Public Library 219 14th Avenue Idaho Springs CO 80452 United States;X-APPLE-RADIUS=500;X-TITLE=219 14th Avenue:geo:-105.5183552,39.742052
END:VEVENT
BEGIN:VEVENT
DTSTART;TZID=America/Denver:20190430T153000
DTEND;TZID=America/Denver:20190430T153000
DTSTAMP:20260425T112729
CREATED:20190129T191851Z
LAST-MODIFIED:20190401T161152Z
UID:689-1556638200-1556638200@cccldstaging1.org
SUMMARY:Día de los Niños
DESCRIPTION:Día is a nationally recognized initiative that emphasizes the importance of literacy for all children form all backgrounds. It is a daily commitment to linking children and their families to diverse books\, languages\, and cultures. Día is also known as El día de los niños or El día de los libros (Children’s Day or Book Day).
URL:https://cccldstaging1.org/event/dia-de-los-ninos/
LOCATION:Idaho Springs Public Library\, 219 14th Avenue\, Idaho Springs\, CO\, 80452\, United States
CATEGORIES:Kids,Library Events
GEO:39.742052;-105.5183552
X-APPLE-STRUCTURED-LOCATION;VALUE=URI;X-ADDRESS=Idaho Springs Public Library 219 14th Avenue Idaho Springs CO 80452 United States;X-APPLE-RADIUS=500;X-TITLE=219 14th Avenue:geo:-105.5183552,39.742052
END:VEVENT
BEGIN:VEVENT
DTSTART;TZID=America/Denver:20190430T130000
DTEND;TZID=America/Denver:20190430T130000
DTSTAMP:20260425T112729
CREATED:20190403T230004Z
LAST-MODIFIED:20190403T230004Z
UID:26382-1556629200-1556629200@cccldstaging1.org
SUMMARY:ISPL Tech Time: Computer Basics
DESCRIPTION:Learn how to write a letter\, search the internet\, check the news\, find stock tips\, set up email\, and more.
URL:https://cccldstaging1.org/event/ispl-tech-time-computer-basics-5-2/
LOCATION:Idaho Springs Public Library\, 219 14th Avenue\, Idaho Springs\, CO\, 80452\, United States
CATEGORIES:Library Events
GEO:39.742052;-105.5183552
X-APPLE-STRUCTURED-LOCATION;VALUE=URI;X-ADDRESS=Idaho Springs Public Library 219 14th Avenue Idaho Springs CO 80452 United States;X-APPLE-RADIUS=500;X-TITLE=219 14th Avenue:geo:-105.5183552,39.742052
END:VEVENT
BEGIN:VEVENT
DTSTART;TZID=America/Denver:20190430T130000
DTEND;TZID=America/Denver:20190430T130000
DTSTAMP:20260425T112729
CREATED:20190403T230004Z
LAST-MODIFIED:20190403T230004Z
UID:2178-1556629200-1556629200@cccldstaging1.org
SUMMARY:ISPL Tech Time: Computer Basics
DESCRIPTION:Learn how to write a letter\, search the internet\, check the news\, find stock tips\, set up email\, and more.
URL:https://cccldstaging1.org/event/ispl-tech-time-computer-basics-5/
LOCATION:Idaho Springs Public Library\, 219 14th Avenue\, Idaho Springs\, CO\, 80452\, United States
CATEGORIES:Library Events
GEO:39.742052;-105.5183552
X-APPLE-STRUCTURED-LOCATION;VALUE=URI;X-ADDRESS=Idaho Springs Public Library 219 14th Avenue Idaho Springs CO 80452 United States;X-APPLE-RADIUS=500;X-TITLE=219 14th Avenue:geo:-105.5183552,39.742052
END:VEVENT
BEGIN:VEVENT
DTSTART;TZID=America/Denver:20190430T111500
DTEND;TZID=America/Denver:20190430T111500
DTSTAMP:20260425T112729
CREATED:20190403T222227Z
LAST-MODIFIED:20190403T222227Z
UID:2128-1556622900-1556622900@cccldstaging1.org
SUMMARY:ISPL Storytime
DESCRIPTION:Join us at the Idaho Springs Public Library for stories\, fun activities\, and snacks each week. Connect with other families and your library!
URL:https://cccldstaging1.org/event/ispl-storytime-4/
LOCATION:Idaho Springs Public Library\, 219 14th Avenue\, Idaho Springs\, CO\, 80452\, United States
CATEGORIES:Kids,Library Events
GEO:39.742052;-105.5183552
X-APPLE-STRUCTURED-LOCATION;VALUE=URI;X-ADDRESS=Idaho Springs Public Library 219 14th Avenue Idaho Springs CO 80452 United States;X-APPLE-RADIUS=500;X-TITLE=219 14th Avenue:geo:-105.5183552,39.742052
END:VEVENT
BEGIN:VEVENT
DTSTART;TZID=America/Denver:20190430T111500
DTEND;TZID=America/Denver:20190430T111500
DTSTAMP:20260425T112729
CREATED:20190403T222227Z
LAST-MODIFIED:20190403T222227Z
UID:26358-1556622900-1556622900@cccldstaging1.org
SUMMARY:ISPL Storytime
DESCRIPTION:Join us at the Idaho Springs Public Library for stories\, fun activities\, and snacks each week. Connect with other families and your library!
URL:https://cccldstaging1.org/event/ispl-storytime-4-2/
LOCATION:Idaho Springs Public Library\, 219 14th Avenue\, Idaho Springs\, CO\, 80452\, United States
CATEGORIES:Kids,Library Events
GEO:39.742052;-105.5183552
X-APPLE-STRUCTURED-LOCATION;VALUE=URI;X-ADDRESS=Idaho Springs Public Library 219 14th Avenue Idaho Springs CO 80452 United States;X-APPLE-RADIUS=500;X-TITLE=219 14th Avenue:geo:-105.5183552,39.742052
END:VEVENT
BEGIN:VEVENT
DTSTART;TZID=America/Denver:20190429T153000
DTEND;TZID=America/Denver:20190429T153000
DTSTAMP:20260425T112729
CREATED:20190403T225919Z
LAST-MODIFIED:20190403T225919Z
UID:26381-1556551800-1556551800@cccldstaging1.org
SUMMARY:ISPL League of the Beastly Dreadfuls Book Club
DESCRIPTION:Join the League of Beastly Dreadfuls Book Club at the Idaho Springs Public Library! There are snacks\, crafts\, and games each week.
URL:https://cccldstaging1.org/event/ispl-league-of-the-beastly-dreadfuls-book-club-4-2/
LOCATION:Idaho Springs Public Library\, 219 14th Avenue\, Idaho Springs\, CO\, 80452\, United States
CATEGORIES:Kids,Library Events
GEO:39.742052;-105.5183552
X-APPLE-STRUCTURED-LOCATION;VALUE=URI;X-ADDRESS=Idaho Springs Public Library 219 14th Avenue Idaho Springs CO 80452 United States;X-APPLE-RADIUS=500;X-TITLE=219 14th Avenue:geo:-105.5183552,39.742052
END:VEVENT
BEGIN:VEVENT
DTSTART;TZID=America/Denver:20190429T153000
DTEND;TZID=America/Denver:20190429T153000
DTSTAMP:20260425T112729
CREATED:20190403T225919Z
LAST-MODIFIED:20190403T225919Z
UID:2176-1556551800-1556551800@cccldstaging1.org
SUMMARY:ISPL League of the Beastly Dreadfuls Book Club
DESCRIPTION:Join the League of Beastly Dreadfuls Book Club at the Idaho Springs Public Library! There are snacks\, crafts\, and games each week.
URL:https://cccldstaging1.org/event/ispl-league-of-the-beastly-dreadfuls-book-club-4/
LOCATION:Idaho Springs Public Library\, 219 14th Avenue\, Idaho Springs\, CO\, 80452\, United States
CATEGORIES:Kids,Library Events
GEO:39.742052;-105.5183552
X-APPLE-STRUCTURED-LOCATION;VALUE=URI;X-ADDRESS=Idaho Springs Public Library 219 14th Avenue Idaho Springs CO 80452 United States;X-APPLE-RADIUS=500;X-TITLE=219 14th Avenue:geo:-105.5183552,39.742052
END:VEVENT
BEGIN:VEVENT
DTSTART;TZID=America/Denver:20190424T153000
DTEND;TZID=America/Denver:20190424T170000
DTSTAMP:20260425T112729
CREATED:20190403T223411Z
LAST-MODIFIED:20190403T223411Z
UID:2146-1556119800-1556125200@cccldstaging1.org
SUMMARY:After-School Homework Help
DESCRIPTION:Students of all ages can get help with their homework from 3:30 – 5 pm on Wednesdays at the Idaho Springs Public Library. Volunteer tutors will be available to help with homework\, reading\, or other school activities.
URL:https://cccldstaging1.org/event/after-school-homework-help-4/
LOCATION:Idaho Springs Public Library\, 219 14th Avenue\, Idaho Springs\, CO\, 80452\, United States
CATEGORIES:Kids,Library Events
GEO:39.742052;-105.5183552
X-APPLE-STRUCTURED-LOCATION;VALUE=URI;X-ADDRESS=Idaho Springs Public Library 219 14th Avenue Idaho Springs CO 80452 United States;X-APPLE-RADIUS=500;X-TITLE=219 14th Avenue:geo:-105.5183552,39.742052
END:VEVENT
BEGIN:VEVENT
DTSTART;TZID=America/Denver:20190424T153000
DTEND;TZID=America/Denver:20190424T170000
DTSTAMP:20260425T112729
CREATED:20190403T223411Z
LAST-MODIFIED:20190403T223411Z
UID:26367-1556119800-1556125200@cccldstaging1.org
SUMMARY:After-School Homework Help
DESCRIPTION:Students of all ages can get help with their homework from 3:30 – 5 pm on Wednesdays at the Idaho Springs Public Library. Volunteer tutors will be available to help with homework\, reading\, or other school activities.
URL:https://cccldstaging1.org/event/after-school-homework-help-4-2/
LOCATION:Idaho Springs Public Library\, 219 14th Avenue\, Idaho Springs\, CO\, 80452\, United States
CATEGORIES:Kids,Library Events
GEO:39.742052;-105.5183552
X-APPLE-STRUCTURED-LOCATION;VALUE=URI;X-ADDRESS=Idaho Springs Public Library 219 14th Avenue Idaho Springs CO 80452 United States;X-APPLE-RADIUS=500;X-TITLE=219 14th Avenue:geo:-105.5183552,39.742052
END:VEVENT
BEGIN:VEVENT
DTSTART;TZID=America/Denver:20190423T130000
DTEND;TZID=America/Denver:20190423T130000
DTSTAMP:20260425T112729
CREATED:20190403T225645Z
LAST-MODIFIED:20190403T225645Z
UID:26378-1556024400-1556024400@cccldstaging1.org
SUMMARY:ISPL Tech Time: Computer Basics
DESCRIPTION:Learn how to write a letter\, search the internet\, check the news\, find stock tips\, set up email\, and more.
URL:https://cccldstaging1.org/event/ispl-tech-time-computer-basics-4-2/
LOCATION:Idaho Springs Public Library\, 219 14th Avenue\, Idaho Springs\, CO\, 80452\, United States
CATEGORIES:Library Events
GEO:39.742052;-105.5183552
X-APPLE-STRUCTURED-LOCATION;VALUE=URI;X-ADDRESS=Idaho Springs Public Library 219 14th Avenue Idaho Springs CO 80452 United States;X-APPLE-RADIUS=500;X-TITLE=219 14th Avenue:geo:-105.5183552,39.742052
END:VEVENT
BEGIN:VEVENT
DTSTART;TZID=America/Denver:20190423T130000
DTEND;TZID=America/Denver:20190423T130000
DTSTAMP:20260425T112729
CREATED:20190403T225645Z
LAST-MODIFIED:20190403T225645Z
UID:2170-1556024400-1556024400@cccldstaging1.org
SUMMARY:ISPL Tech Time: Computer Basics
DESCRIPTION:Learn how to write a letter\, search the internet\, check the news\, find stock tips\, set up email\, and more.
URL:https://cccldstaging1.org/event/ispl-tech-time-computer-basics-4/
LOCATION:Idaho Springs Public Library\, 219 14th Avenue\, Idaho Springs\, CO\, 80452\, United States
CATEGORIES:Library Events
GEO:39.742052;-105.5183552
X-APPLE-STRUCTURED-LOCATION;VALUE=URI;X-ADDRESS=Idaho Springs Public Library 219 14th Avenue Idaho Springs CO 80452 United States;X-APPLE-RADIUS=500;X-TITLE=219 14th Avenue:geo:-105.5183552,39.742052
END:VEVENT
BEGIN:VEVENT
DTSTART;TZID=America/Denver:20190423T111500
DTEND;TZID=America/Denver:20190423T111500
DTSTAMP:20260425T112729
CREATED:20190403T222035Z
LAST-MODIFIED:20190403T222035Z
UID:2126-1556018100-1556018100@cccldstaging1.org
SUMMARY:ISPL Storytime
DESCRIPTION:Join us at the Idaho Springs Public Library for stories\, fun activities\, and snacks each week. Connect with other families and your library!
URL:https://cccldstaging1.org/event/ispl-storytime-3/
LOCATION:Idaho Springs Public Library\, 219 14th Avenue\, Idaho Springs\, CO\, 80452\, United States
CATEGORIES:Kids,Library Events
GEO:39.742052;-105.5183552
X-APPLE-STRUCTURED-LOCATION;VALUE=URI;X-ADDRESS=Idaho Springs Public Library 219 14th Avenue Idaho Springs CO 80452 United States;X-APPLE-RADIUS=500;X-TITLE=219 14th Avenue:geo:-105.5183552,39.742052
END:VEVENT
BEGIN:VEVENT
DTSTART;TZID=America/Denver:20190423T111500
DTEND;TZID=America/Denver:20190423T111500
DTSTAMP:20260425T112729
CREATED:20190403T222035Z
LAST-MODIFIED:20190403T222035Z
UID:26357-1556018100-1556018100@cccldstaging1.org
SUMMARY:ISPL Storytime
DESCRIPTION:Join us at the Idaho Springs Public Library for stories\, fun activities\, and snacks each week. Connect with other families and your library!
URL:https://cccldstaging1.org/event/ispl-storytime-3-2/
LOCATION:Idaho Springs Public Library\, 219 14th Avenue\, Idaho Springs\, CO\, 80452\, United States
CATEGORIES:Kids,Library Events
GEO:39.742052;-105.5183552
X-APPLE-STRUCTURED-LOCATION;VALUE=URI;X-ADDRESS=Idaho Springs Public Library 219 14th Avenue Idaho Springs CO 80452 United States;X-APPLE-RADIUS=500;X-TITLE=219 14th Avenue:geo:-105.5183552,39.742052
END:VEVENT
BEGIN:VEVENT
DTSTART;TZID=America/Denver:20190422T153000
DTEND;TZID=America/Denver:20190422T153000
DTSTAMP:20260425T112729
CREATED:20190403T225600Z
LAST-MODIFIED:20190403T225600Z
UID:26377-1555947000-1555947000@cccldstaging1.org
SUMMARY:ISPL League of the Beastly Dreadfuls Book Club
DESCRIPTION:Join the League of Beastly Dreadfuls Book Club at the Idaho Springs Public Library! There are snacks\, crafts\, and games each week.
URL:https://cccldstaging1.org/event/ispl-league-of-the-beastly-dreadfuls-book-club-3-2/
LOCATION:Idaho Springs Public Library\, 219 14th Avenue\, Idaho Springs\, CO\, 80452\, United States
CATEGORIES:Kids,Library Events
GEO:39.742052;-105.5183552
X-APPLE-STRUCTURED-LOCATION;VALUE=URI;X-ADDRESS=Idaho Springs Public Library 219 14th Avenue Idaho Springs CO 80452 United States;X-APPLE-RADIUS=500;X-TITLE=219 14th Avenue:geo:-105.5183552,39.742052
END:VEVENT
BEGIN:VEVENT
DTSTART;TZID=America/Denver:20190422T153000
DTEND;TZID=America/Denver:20190422T153000
DTSTAMP:20260425T112729
CREATED:20190403T225600Z
LAST-MODIFIED:20190403T225600Z
UID:2168-1555947000-1555947000@cccldstaging1.org
SUMMARY:ISPL League of the Beastly Dreadfuls Book Club
DESCRIPTION:Join the League of Beastly Dreadfuls Book Club at the Idaho Springs Public Library! There are snacks\, crafts\, and games each week.
URL:https://cccldstaging1.org/event/ispl-league-of-the-beastly-dreadfuls-book-club-3/
LOCATION:Idaho Springs Public Library\, 219 14th Avenue\, Idaho Springs\, CO\, 80452\, United States
CATEGORIES:Kids,Library Events
GEO:39.742052;-105.5183552
X-APPLE-STRUCTURED-LOCATION;VALUE=URI;X-ADDRESS=Idaho Springs Public Library 219 14th Avenue Idaho Springs CO 80452 United States;X-APPLE-RADIUS=500;X-TITLE=219 14th Avenue:geo:-105.5183552,39.742052
END:VEVENT
BEGIN:VEVENT
DTSTART;TZID=America/Denver:20190418T120000
DTEND;TZID=America/Denver:20190418T120000
DTSTAMP:20260425T112729
CREATED:20190329T161235Z
LAST-MODIFIED:20190329T161235Z
UID:1923-1555588800-1555588800@cccldstaging1.org
SUMMARY:Outsmart the Scammers: Financial Workshop
DESCRIPTION:Incidents of fraud are on the rise\, and scammers’ tactics are becoming more complex. That’s why it’s important to educate yourself about fraud. And while no one is immune\, there are steps you can take to Outsmart the Scammers. \nJoin us for this presentation and learn important strategies to help protect you and the ones you love. We’ll share: \n\nHow to spot certain red flags that may indicate a fraudulent encounter\nResources you can turn to in the event you or a loved one is targeted\nSteps you can take now to help protect yourself and your loved ones\n\nPresented by Jenny Donohoe\, AAMS\, Financial Advisor at Edward Jones
URL:https://cccldstaging1.org/event/outsmart-the-scammers-financial-workshop/
LOCATION:Idaho Springs Public Library\, 219 14th Avenue\, Idaho Springs\, CO\, 80452\, United States
CATEGORIES:Adults,Library Events
GEO:39.742052;-105.5183552
X-APPLE-STRUCTURED-LOCATION;VALUE=URI;X-ADDRESS=Idaho Springs Public Library 219 14th Avenue Idaho Springs CO 80452 United States;X-APPLE-RADIUS=500;X-TITLE=219 14th Avenue:geo:-105.5183552,39.742052
END:VEVENT
BEGIN:VEVENT
DTSTART;TZID=America/Denver:20190418T120000
DTEND;TZID=America/Denver:20190418T120000
DTSTAMP:20260425T112729
CREATED:20190329T161235Z
LAST-MODIFIED:20190329T161235Z
UID:26326-1555588800-1555588800@cccldstaging1.org
SUMMARY:Outsmart the Scammers: Financial Workshop
DESCRIPTION:Incidents of fraud are on the rise\, and scammers’ tactics are becoming more complex. That’s why it’s important to educate yourself about fraud. And while no one is immune\, there are steps you can take to Outsmart the Scammers. \nJoin us for this presentation and learn important strategies to help protect you and the ones you love. We’ll share: \n\nHow to spot certain red flags that may indicate a fraudulent encounter\nResources you can turn to in the event you or a loved one is targeted\nSteps you can take now to help protect yourself and your loved ones\n\nPresented by Jenny Donohoe\, AAMS\, Financial Advisor at Edward Jones
URL:https://cccldstaging1.org/event/outsmart-the-scammers-financial-workshop-2/
LOCATION:Idaho Springs Public Library\, 219 14th Avenue\, Idaho Springs\, CO\, 80452\, United States
CATEGORIES:Adults,Library Events
GEO:39.742052;-105.5183552
X-APPLE-STRUCTURED-LOCATION;VALUE=URI;X-ADDRESS=Idaho Springs Public Library 219 14th Avenue Idaho Springs CO 80452 United States;X-APPLE-RADIUS=500;X-TITLE=219 14th Avenue:geo:-105.5183552,39.742052
END:VEVENT
BEGIN:VEVENT
DTSTART;TZID=America/Denver:20190417T153000
DTEND;TZID=America/Denver:20190417T170000
DTSTAMP:20260425T112729
CREATED:20190403T223336Z
LAST-MODIFIED:20190403T223336Z
UID:2144-1555515000-1555520400@cccldstaging1.org
SUMMARY:After-School Homework Help
DESCRIPTION:Students of all ages can get help with their homework from 3:30 – 5 pm on Wednesdays at the Idaho Springs Public Library. Volunteer tutors will be available to help with homework\, reading\, or other school activities.
URL:https://cccldstaging1.org/event/after-school-homework-help-3/
LOCATION:Idaho Springs Public Library\, 219 14th Avenue\, Idaho Springs\, CO\, 80452\, United States
CATEGORIES:Kids,Library Events
GEO:39.742052;-105.5183552
X-APPLE-STRUCTURED-LOCATION;VALUE=URI;X-ADDRESS=Idaho Springs Public Library 219 14th Avenue Idaho Springs CO 80452 United States;X-APPLE-RADIUS=500;X-TITLE=219 14th Avenue:geo:-105.5183552,39.742052
END:VEVENT
BEGIN:VEVENT
DTSTART;TZID=America/Denver:20190417T153000
DTEND;TZID=America/Denver:20190417T170000
DTSTAMP:20260425T112729
CREATED:20190403T223336Z
LAST-MODIFIED:20190403T223336Z
UID:26366-1555515000-1555520400@cccldstaging1.org
SUMMARY:After-School Homework Help
DESCRIPTION:Students of all ages can get help with their homework from 3:30 – 5 pm on Wednesdays at the Idaho Springs Public Library. Volunteer tutors will be available to help with homework\, reading\, or other school activities.
URL:https://cccldstaging1.org/event/after-school-homework-help-3-2/
LOCATION:Idaho Springs Public Library\, 219 14th Avenue\, Idaho Springs\, CO\, 80452\, United States
CATEGORIES:Kids,Library Events
GEO:39.742052;-105.5183552
X-APPLE-STRUCTURED-LOCATION;VALUE=URI;X-ADDRESS=Idaho Springs Public Library 219 14th Avenue Idaho Springs CO 80452 United States;X-APPLE-RADIUS=500;X-TITLE=219 14th Avenue:geo:-105.5183552,39.742052
END:VEVENT
BEGIN:VEVENT
DTSTART;TZID=America/Denver:20190416T180000
DTEND;TZID=America/Denver:20190416T180000
DTSTAMP:20260425T112729
CREATED:20190328T204714Z
LAST-MODIFIED:20190403T205947Z
UID:1856-1555437600-1555437600@cccldstaging1.org
SUMMARY:District Board Meeting
DESCRIPTION:
URL:https://cccldstaging1.org/event/district-board-meeting/
LOCATION:Idaho Springs Public Library\, 219 14th Avenue\, Idaho Springs\, CO\, 80452\, United States
CATEGORIES:Library Events
GEO:39.742052;-105.5183552
X-APPLE-STRUCTURED-LOCATION;VALUE=URI;X-ADDRESS=Idaho Springs Public Library 219 14th Avenue Idaho Springs CO 80452 United States;X-APPLE-RADIUS=500;X-TITLE=219 14th Avenue:geo:-105.5183552,39.742052
END:VEVENT
BEGIN:VEVENT
DTSTART;TZID=America/Denver:20190416T180000
DTEND;TZID=America/Denver:20190416T180000
DTSTAMP:20260425T112729
CREATED:20190328T204714Z
LAST-MODIFIED:20190328T204714Z
UID:26316-1555437600-1555437600@cccldstaging1.org
SUMMARY:District Board Meeting
DESCRIPTION:
URL:https://cccldstaging1.org/event/district-board-meeting-8/
LOCATION:Idaho Springs Public Library\, 219 14th Avenue\, Idaho Springs\, CO\, 80452\, United States
CATEGORIES:Library Events
GEO:39.742052;-105.5183552
X-APPLE-STRUCTURED-LOCATION;VALUE=URI;X-ADDRESS=Idaho Springs Public Library 219 14th Avenue Idaho Springs CO 80452 United States;X-APPLE-RADIUS=500;X-TITLE=219 14th Avenue:geo:-105.5183552,39.742052
END:VEVENT
BEGIN:VEVENT
DTSTART;TZID=America/Denver:20190416T130000
DTEND;TZID=America/Denver:20190416T130000
DTSTAMP:20260425T112729
CREATED:20190403T225312Z
LAST-MODIFIED:20190403T225312Z
UID:26374-1555419600-1555419600@cccldstaging1.org
SUMMARY:ISPL Tech Time: Computer Basics
DESCRIPTION:Learn how to write a letter\, search the internet\, check the news\, find stock tips\, set up email\, and more.
URL:https://cccldstaging1.org/event/ispl-tech-time-computer-basics-3-2/
LOCATION:Idaho Springs Public Library\, 219 14th Avenue\, Idaho Springs\, CO\, 80452\, United States
CATEGORIES:Library Events
GEO:39.742052;-105.5183552
X-APPLE-STRUCTURED-LOCATION;VALUE=URI;X-ADDRESS=Idaho Springs Public Library 219 14th Avenue Idaho Springs CO 80452 United States;X-APPLE-RADIUS=500;X-TITLE=219 14th Avenue:geo:-105.5183552,39.742052
END:VEVENT
BEGIN:VEVENT
DTSTART;TZID=America/Denver:20190416T130000
DTEND;TZID=America/Denver:20190416T130000
DTSTAMP:20260425T112729
CREATED:20190403T225312Z
LAST-MODIFIED:20190403T225312Z
UID:2162-1555419600-1555419600@cccldstaging1.org
SUMMARY:ISPL Tech Time: Computer Basics
DESCRIPTION:Learn how to write a letter\, search the internet\, check the news\, find stock tips\, set up email\, and more.
URL:https://cccldstaging1.org/event/ispl-tech-time-computer-basics-3/
LOCATION:Idaho Springs Public Library\, 219 14th Avenue\, Idaho Springs\, CO\, 80452\, United States
CATEGORIES:Library Events
GEO:39.742052;-105.5183552
X-APPLE-STRUCTURED-LOCATION;VALUE=URI;X-ADDRESS=Idaho Springs Public Library 219 14th Avenue Idaho Springs CO 80452 United States;X-APPLE-RADIUS=500;X-TITLE=219 14th Avenue:geo:-105.5183552,39.742052
END:VEVENT
BEGIN:VEVENT
DTSTART;TZID=America/Denver:20190416T111500
DTEND;TZID=America/Denver:20190416T111500
DTSTAMP:20260425T112729
CREATED:20190403T221341Z
LAST-MODIFIED:20190403T221341Z
UID:2124-1555413300-1555413300@cccldstaging1.org
SUMMARY:ISPL Storytime
DESCRIPTION:Join us at the Idaho Springs Public Library for stories\, fun activities\, and snacks each week. Connect with other families and your library!
URL:https://cccldstaging1.org/event/ispl-storytime-2/
LOCATION:Idaho Springs Public Library\, 219 14th Avenue\, Idaho Springs\, CO\, 80452\, United States
CATEGORIES:Kids,Library Events
GEO:39.742052;-105.5183552
X-APPLE-STRUCTURED-LOCATION;VALUE=URI;X-ADDRESS=Idaho Springs Public Library 219 14th Avenue Idaho Springs CO 80452 United States;X-APPLE-RADIUS=500;X-TITLE=219 14th Avenue:geo:-105.5183552,39.742052
END:VEVENT
BEGIN:VEVENT
DTSTART;TZID=America/Denver:20190416T111500
DTEND;TZID=America/Denver:20190416T111500
DTSTAMP:20260425T112729
CREATED:20190403T221341Z
LAST-MODIFIED:20190403T221341Z
UID:26356-1555413300-1555413300@cccldstaging1.org
SUMMARY:ISPL Storytime
DESCRIPTION:Join us at the Idaho Springs Public Library for stories\, fun activities\, and snacks each week. Connect with other families and your library!
URL:https://cccldstaging1.org/event/ispl-storytime-2-2/
LOCATION:Idaho Springs Public Library\, 219 14th Avenue\, Idaho Springs\, CO\, 80452\, United States
CATEGORIES:Kids,Library Events
GEO:39.742052;-105.5183552
X-APPLE-STRUCTURED-LOCATION;VALUE=URI;X-ADDRESS=Idaho Springs Public Library 219 14th Avenue Idaho Springs CO 80452 United States;X-APPLE-RADIUS=500;X-TITLE=219 14th Avenue:geo:-105.5183552,39.742052
END:VEVENT
END:VCALENDAR