BEGIN:VCALENDAR
VERSION:2.0
PRODID:-//Clear Creek County Library District Staging - ECPv6.15.20//NONSGML v1.0//EN
CALSCALE:GREGORIAN
METHOD:PUBLISH
X-ORIGINAL-URL:https://cccldstaging1.org
X-WR-CALDESC:Events for Clear Creek County Library District Staging
REFRESH-INTERVAL;VALUE=DURATION:PT1H
X-Robots-Tag:noindex
X-PUBLISHED-TTL:PT1H
BEGIN:VTIMEZONE
TZID:America/Denver
BEGIN:DAYLIGHT
TZOFFSETFROM:-0700
TZOFFSETTO:-0600
TZNAME:MDT
DTSTART:20180311T090000
END:DAYLIGHT
BEGIN:STANDARD
TZOFFSETFROM:-0600
TZOFFSETTO:-0700
TZNAME:MST
DTSTART:20181104T080000
END:STANDARD
BEGIN:DAYLIGHT
TZOFFSETFROM:-0700
TZOFFSETTO:-0600
TZNAME:MDT
DTSTART:20190310T090000
END:DAYLIGHT
BEGIN:STANDARD
TZOFFSETFROM:-0600
TZOFFSETTO:-0700
TZNAME:MST
DTSTART:20191103T080000
END:STANDARD
BEGIN:DAYLIGHT
TZOFFSETFROM:-0700
TZOFFSETTO:-0600
TZNAME:MDT
DTSTART:20200308T090000
END:DAYLIGHT
BEGIN:STANDARD
TZOFFSETFROM:-0600
TZOFFSETTO:-0700
TZNAME:MST
DTSTART:20201101T080000
END:STANDARD
END:VTIMEZONE
BEGIN:VEVENT
DTSTART;TZID=America/Denver:20190611T100000
DTEND;TZID=America/Denver:20190611T120000
DTSTAMP:20260425T074417
CREATED:20190516T184952Z
LAST-MODIFIED:20190516T184952Z
UID:26445-1560247200-1560254400@cccldstaging1.org
SUMMARY:ISPL Summer Reading Week 2: Pippinhoot & Featherfayre Houses
DESCRIPTION:Pippinhoot House: early learning – 2nd grade \nFeatherfayre House: 3rd – 5th grade \nWeek 2 in Idaho Springs: Owlery Visit – Owlcraft
URL:https://cccldstaging1.org/event/ispl-summer-reading-pippinhoot-featherfayre-houses-2-2/
LOCATION:Idaho Springs Public Library\, 219 14th Avenue\, Idaho Springs\, CO\, 80452\, United States
CATEGORIES:Kids,Library Events,Summer Reading
GEO:39.742052;-105.5183552
X-APPLE-STRUCTURED-LOCATION;VALUE=URI;X-ADDRESS=Idaho Springs Public Library 219 14th Avenue Idaho Springs CO 80452 United States;X-APPLE-RADIUS=500;X-TITLE=219 14th Avenue:geo:-105.5183552,39.742052
END:VEVENT
BEGIN:VEVENT
DTSTART;TZID=America/Denver:20190611T100000
DTEND;TZID=America/Denver:20190611T120000
DTSTAMP:20260425T074417
CREATED:20190516T184952Z
LAST-MODIFIED:20190606T205815Z
UID:2812-1560247200-1560254400@cccldstaging1.org
SUMMARY:ISPL Summer Reading Week 2: Pippinhoot & Featherfayre Houses
DESCRIPTION:Pippinhoot House: early learning – 2nd grade \nFeatherfayre House: 3rd – 5th grade \nWeek 2 in Idaho Springs: Owlery Visit – Owlcraft
URL:https://cccldstaging1.org/event/ispl-summer-reading-pippinhoot-featherfayre-houses-2/
LOCATION:Idaho Springs Public Library\, 219 14th Avenue\, Idaho Springs\, CO\, 80452\, United States
CATEGORIES:Kids,Library Events,Summer Reading
GEO:39.742052;-105.5183552
X-APPLE-STRUCTURED-LOCATION;VALUE=URI;X-ADDRESS=Idaho Springs Public Library 219 14th Avenue Idaho Springs CO 80452 United States;X-APPLE-RADIUS=500;X-TITLE=219 14th Avenue:geo:-105.5183552,39.742052
END:VEVENT
BEGIN:VEVENT
DTSTART;TZID=America/Denver:20190610T173000
DTEND;TZID=America/Denver:20190610T190000
DTSTAMP:20260425T074417
CREATED:20190610T185110Z
LAST-MODIFIED:20190610T185239Z
UID:3149-1560187800-1560193200@cccldstaging1.org
SUMMARY:ISPL Adult Craft Night
DESCRIPTION:Do you love to craft? Or are you craft-curious? Get creative and connect with other crafty patrons at our monthly craft workshops! No experience is necessary and all workshops are free\, but registration is required for each session. Please email holly@cccld.org to sign up. \nJune craft: pompom owls
URL:https://cccldstaging1.org/event/ispl-adult-craft-night/
LOCATION:Idaho Springs Public Library\, 219 14th Avenue\, Idaho Springs\, CO\, 80452\, United States
CATEGORIES:Adults,Library Events
GEO:39.742052;-105.5183552
X-APPLE-STRUCTURED-LOCATION;VALUE=URI;X-ADDRESS=Idaho Springs Public Library 219 14th Avenue Idaho Springs CO 80452 United States;X-APPLE-RADIUS=500;X-TITLE=219 14th Avenue:geo:-105.5183552,39.742052
END:VEVENT
BEGIN:VEVENT
DTSTART;TZID=America/Denver:20190610T173000
DTEND;TZID=America/Denver:20190610T190000
DTSTAMP:20260425T074417
CREATED:20190610T185110Z
LAST-MODIFIED:20190610T185110Z
UID:26488-1560187800-1560193200@cccldstaging1.org
SUMMARY:ISPL Adult Craft Night
DESCRIPTION:Do you love to craft? Or are you craft-curious? Get creative and connect with other crafty patrons at our monthly craft workshops! No experience is necessary and all workshops are free\, but registration is required for each session. Please email holly@cccld.org to sign up. \nJune craft: pompom owls
URL:https://cccldstaging1.org/event/ispl-adult-craft-night-3/
LOCATION:Idaho Springs Public Library\, 219 14th Avenue\, Idaho Springs\, CO\, 80452\, United States
CATEGORIES:Adults,Library Events
GEO:39.742052;-105.5183552
X-APPLE-STRUCTURED-LOCATION;VALUE=URI;X-ADDRESS=Idaho Springs Public Library 219 14th Avenue Idaho Springs CO 80452 United States;X-APPLE-RADIUS=500;X-TITLE=219 14th Avenue:geo:-105.5183552,39.742052
END:VEVENT
BEGIN:VEVENT
DTSTART;TZID=America/Denver:20190604T130000
DTEND;TZID=America/Denver:20190604T140000
DTSTAMP:20260425T074417
CREATED:20190516T223637Z
LAST-MODIFIED:20190516T223637Z
UID:2851-1559653200-1559656800@cccldstaging1.org
SUMMARY:ISPL Summer Reading Week 1: Emberclaw House
DESCRIPTION:Emberclaw House: 6th – 12th grade \nWeek 1 in Idaho Springs: Witches’ Welcome – Ollivander’s Wand Workshop
URL:https://cccldstaging1.org/event/ispl-summer-reading-week-1-emberclaw-house/
LOCATION:Idaho Springs Public Library\, 219 14th Avenue\, Idaho Springs\, CO\, 80452\, United States
CATEGORIES:Library Events,Summer Reading
GEO:39.742052;-105.5183552
X-APPLE-STRUCTURED-LOCATION;VALUE=URI;X-ADDRESS=Idaho Springs Public Library 219 14th Avenue Idaho Springs CO 80452 United States;X-APPLE-RADIUS=500;X-TITLE=219 14th Avenue:geo:-105.5183552,39.742052
END:VEVENT
BEGIN:VEVENT
DTSTART;TZID=America/Denver:20190604T130000
DTEND;TZID=America/Denver:20190604T140000
DTSTAMP:20260425T074417
CREATED:20190516T223637Z
LAST-MODIFIED:20190516T223637Z
UID:26459-1559653200-1559656800@cccldstaging1.org
SUMMARY:ISPL Summer Reading Week 1: Emberclaw House
DESCRIPTION:Emberclaw House: 6th – 12th grade \nWeek 1 in Idaho Springs: Witches’ Welcome – Ollivander’s Wand Workshop
URL:https://cccldstaging1.org/event/ispl-summer-reading-week-1-emberclaw-house-2/
LOCATION:Idaho Springs Public Library\, 219 14th Avenue\, Idaho Springs\, CO\, 80452\, United States
CATEGORIES:Library Events,Summer Reading
GEO:39.742052;-105.5183552
X-APPLE-STRUCTURED-LOCATION;VALUE=URI;X-ADDRESS=Idaho Springs Public Library 219 14th Avenue Idaho Springs CO 80452 United States;X-APPLE-RADIUS=500;X-TITLE=219 14th Avenue:geo:-105.5183552,39.742052
END:VEVENT
BEGIN:VEVENT
DTSTART;TZID=America/Denver:20190604T100000
DTEND;TZID=America/Denver:20190604T120000
DTSTAMP:20260425T074417
CREATED:20190516T180128Z
LAST-MODIFIED:20190516T180128Z
UID:26443-1559642400-1559649600@cccldstaging1.org
SUMMARY:ISPL Summer Reading Week 1: Pippinhoot & Featherfayre Houses
DESCRIPTION:Pippinhoot House: early learning – 2nd grade \nFeatherfayre House: 3rd – 5th grade \nWeek One in Idaho Springs: Witches & Wands – Magic Wand Workshop
URL:https://cccldstaging1.org/event/ispl-summer-reading-pippinhoot-featherfayre-houses-5/
LOCATION:Idaho Springs Public Library\, 219 14th Avenue\, Idaho Springs\, CO\, 80452\, United States
CATEGORIES:Kids,Library Events,Summer Reading
GEO:39.742052;-105.5183552
X-APPLE-STRUCTURED-LOCATION;VALUE=URI;X-ADDRESS=Idaho Springs Public Library 219 14th Avenue Idaho Springs CO 80452 United States;X-APPLE-RADIUS=500;X-TITLE=219 14th Avenue:geo:-105.5183552,39.742052
END:VEVENT
BEGIN:VEVENT
DTSTART;TZID=America/Denver:20190604T100000
DTEND;TZID=America/Denver:20190604T120000
DTSTAMP:20260425T074417
CREATED:20190516T180128Z
LAST-MODIFIED:20190516T190820Z
UID:2803-1559642400-1559649600@cccldstaging1.org
SUMMARY:ISPL Summer Reading Week 1: Pippinhoot & Featherfayre Houses
DESCRIPTION:Pippinhoot House: early learning – 2nd grade \nFeatherfayre House: 3rd – 5th grade \nWeek One in Idaho Springs: Witches & Wands – Magic Wand Workshop
URL:https://cccldstaging1.org/event/ispl-summer-reading-pippinhoot-featherfayre-houses/
LOCATION:Idaho Springs Public Library\, 219 14th Avenue\, Idaho Springs\, CO\, 80452\, United States
CATEGORIES:Kids,Library Events,Summer Reading
GEO:39.742052;-105.5183552
X-APPLE-STRUCTURED-LOCATION;VALUE=URI;X-ADDRESS=Idaho Springs Public Library 219 14th Avenue Idaho Springs CO 80452 United States;X-APPLE-RADIUS=500;X-TITLE=219 14th Avenue:geo:-105.5183552,39.742052
END:VEVENT
BEGIN:VEVENT
DTSTART;TZID=America/Denver:20190520T130000
DTEND;TZID=America/Denver:20190520T143000
DTSTAMP:20260425T074417
CREATED:20190424T220639Z
LAST-MODIFIED:20190424T220639Z
UID:26433-1558357200-1558362600@cccldstaging1.org
SUMMARY:ISPL Adult Book Group
DESCRIPTION:Connect with other readers in our community at monthly library book meetups. Share your ideas and discover new stories. New readers are always welcome! Please contact lucy@cccld.org for more information. \nMay Book Selection: The President’s Kitchen Cabinet by Adrian Miller
URL:https://cccldstaging1.org/event/ispl-adult-book-group-2-2/
LOCATION:Idaho Springs Public Library\, 219 14th Avenue\, Idaho Springs\, CO\, 80452\, United States
CATEGORIES:Adults,Library Events
GEO:39.742052;-105.5183552
X-APPLE-STRUCTURED-LOCATION;VALUE=URI;X-ADDRESS=Idaho Springs Public Library 219 14th Avenue Idaho Springs CO 80452 United States;X-APPLE-RADIUS=500;X-TITLE=219 14th Avenue:geo:-105.5183552,39.742052
END:VEVENT
BEGIN:VEVENT
DTSTART;TZID=America/Denver:20190520T130000
DTEND;TZID=America/Denver:20190520T143000
DTSTAMP:20260425T074417
CREATED:20190424T220639Z
LAST-MODIFIED:20190424T220639Z
UID:2515-1558357200-1558362600@cccldstaging1.org
SUMMARY:ISPL Adult Book Group
DESCRIPTION:Connect with other readers in our community at monthly library book meetups. Share your ideas and discover new stories. New readers are always welcome! Please contact lucy@cccld.org for more information. \nMay Book Selection: The President’s Kitchen Cabinet by Adrian Miller
URL:https://cccldstaging1.org/event/ispl-adult-book-group-2/
LOCATION:Idaho Springs Public Library\, 219 14th Avenue\, Idaho Springs\, CO\, 80452\, United States
CATEGORIES:Adults,Library Events
GEO:39.742052;-105.5183552
X-APPLE-STRUCTURED-LOCATION;VALUE=URI;X-ADDRESS=Idaho Springs Public Library 219 14th Avenue Idaho Springs CO 80452 United States;X-APPLE-RADIUS=500;X-TITLE=219 14th Avenue:geo:-105.5183552,39.742052
END:VEVENT
BEGIN:VEVENT
DTSTART;TZID=America/Denver:20190515T153000
DTEND;TZID=America/Denver:20190515T170000
DTSTAMP:20260425T074417
CREATED:20190403T223600Z
LAST-MODIFIED:20190403T223600Z
UID:26370-1557934200-1557939600@cccldstaging1.org
SUMMARY:After-School Homework Help
DESCRIPTION:Students of all ages can get help with their homework from 3:30 – 5 pm on Wednesdays at the Idaho Springs Public Library. Volunteer tutors will be available to help with homework\, reading\, or other school activities.
URL:https://cccldstaging1.org/event/after-school-homework-help-7-2/
LOCATION:Idaho Springs Public Library\, 219 14th Avenue\, Idaho Springs\, CO\, 80452\, United States
CATEGORIES:Kids,Library Events
GEO:39.742052;-105.5183552
X-APPLE-STRUCTURED-LOCATION;VALUE=URI;X-ADDRESS=Idaho Springs Public Library 219 14th Avenue Idaho Springs CO 80452 United States;X-APPLE-RADIUS=500;X-TITLE=219 14th Avenue:geo:-105.5183552,39.742052
END:VEVENT
BEGIN:VEVENT
DTSTART;TZID=America/Denver:20190515T153000
DTEND;TZID=America/Denver:20190515T170000
DTSTAMP:20260425T074417
CREATED:20190403T223600Z
LAST-MODIFIED:20190403T223600Z
UID:2152-1557934200-1557939600@cccldstaging1.org
SUMMARY:After-School Homework Help
DESCRIPTION:Students of all ages can get help with their homework from 3:30 – 5 pm on Wednesdays at the Idaho Springs Public Library. Volunteer tutors will be available to help with homework\, reading\, or other school activities.
URL:https://cccldstaging1.org/event/after-school-homework-help-7/
LOCATION:Idaho Springs Public Library\, 219 14th Avenue\, Idaho Springs\, CO\, 80452\, United States
CATEGORIES:Kids,Library Events
GEO:39.742052;-105.5183552
X-APPLE-STRUCTURED-LOCATION;VALUE=URI;X-ADDRESS=Idaho Springs Public Library 219 14th Avenue Idaho Springs CO 80452 United States;X-APPLE-RADIUS=500;X-TITLE=219 14th Avenue:geo:-105.5183552,39.742052
END:VEVENT
BEGIN:VEVENT
DTSTART;TZID=America/Denver:20190514T111500
DTEND;TZID=America/Denver:20190514T111500
DTSTAMP:20260425T074417
CREATED:20190424T215125Z
LAST-MODIFIED:20190424T215125Z
UID:26430-1557832500-1557832500@cccldstaging1.org
SUMMARY:ISPL Storytime
DESCRIPTION:Join us at the Idaho Springs Public Library for stories\, fun activities\, and snacks each week. Connect with other families and your library! \nThis will be the last storytime before summer.
URL:https://cccldstaging1.org/event/ispl-storytime-6-2/
LOCATION:Idaho Springs Public Library\, 219 14th Avenue\, Idaho Springs\, CO\, 80452\, United States
CATEGORIES:Library Events
GEO:39.742052;-105.5183552
X-APPLE-STRUCTURED-LOCATION;VALUE=URI;X-ADDRESS=Idaho Springs Public Library 219 14th Avenue Idaho Springs CO 80452 United States;X-APPLE-RADIUS=500;X-TITLE=219 14th Avenue:geo:-105.5183552,39.742052
END:VEVENT
BEGIN:VEVENT
DTSTART;TZID=America/Denver:20190514T111500
DTEND;TZID=America/Denver:20190514T111500
DTSTAMP:20260425T074417
CREATED:20190424T215125Z
LAST-MODIFIED:20190424T215125Z
UID:2507-1557832500-1557832500@cccldstaging1.org
SUMMARY:ISPL Storytime
DESCRIPTION:Join us at the Idaho Springs Public Library for stories\, fun activities\, and snacks each week. Connect with other families and your library! \nThis will be the last storytime before summer.
URL:https://cccldstaging1.org/event/ispl-storytime-6/
LOCATION:Idaho Springs Public Library\, 219 14th Avenue\, Idaho Springs\, CO\, 80452\, United States
CATEGORIES:Library Events
GEO:39.742052;-105.5183552
X-APPLE-STRUCTURED-LOCATION;VALUE=URI;X-ADDRESS=Idaho Springs Public Library 219 14th Avenue Idaho Springs CO 80452 United States;X-APPLE-RADIUS=500;X-TITLE=219 14th Avenue:geo:-105.5183552,39.742052
END:VEVENT
BEGIN:VEVENT
DTSTART;TZID=America/Denver:20190513T173000
DTEND;TZID=America/Denver:20190513T173000
DTSTAMP:20260425T074417
CREATED:20190424T214859Z
LAST-MODIFIED:20190424T214859Z
UID:26428-1557768600-1557768600@cccldstaging1.org
SUMMARY:ISPL Adult Craft
DESCRIPTION:Do you love to craft? Or are you craft-curious? Get creative and connect with other crafty patrons at our monthly craft workshops! No experience is necessary and all workshops are free\, but registration is required for each session. Please email holly@cccld.org to sign up. \nMay Craft: Mendhi Tattoo Workshop
URL:https://cccldstaging1.org/event/ispl-adult-craft-4/
LOCATION:Idaho Springs Public Library\, 219 14th Avenue\, Idaho Springs\, CO\, 80452\, United States
CATEGORIES:Adults,Library Events
GEO:39.742052;-105.5183552
X-APPLE-STRUCTURED-LOCATION;VALUE=URI;X-ADDRESS=Idaho Springs Public Library 219 14th Avenue Idaho Springs CO 80452 United States;X-APPLE-RADIUS=500;X-TITLE=219 14th Avenue:geo:-105.5183552,39.742052
END:VEVENT
BEGIN:VEVENT
DTSTART;TZID=America/Denver:20190513T173000
DTEND;TZID=America/Denver:20190513T173000
DTSTAMP:20260425T074417
CREATED:20190424T214859Z
LAST-MODIFIED:20190424T214859Z
UID:2503-1557768600-1557768600@cccldstaging1.org
SUMMARY:ISPL Adult Craft
DESCRIPTION:Do you love to craft? Or are you craft-curious? Get creative and connect with other crafty patrons at our monthly craft workshops! No experience is necessary and all workshops are free\, but registration is required for each session. Please email holly@cccld.org to sign up. \nMay Craft: Mendhi Tattoo Workshop
URL:https://cccldstaging1.org/event/ispl-adult-craft/
LOCATION:Idaho Springs Public Library\, 219 14th Avenue\, Idaho Springs\, CO\, 80452\, United States
CATEGORIES:Adults,Library Events
GEO:39.742052;-105.5183552
X-APPLE-STRUCTURED-LOCATION;VALUE=URI;X-ADDRESS=Idaho Springs Public Library 219 14th Avenue Idaho Springs CO 80452 United States;X-APPLE-RADIUS=500;X-TITLE=219 14th Avenue:geo:-105.5183552,39.742052
END:VEVENT
BEGIN:VEVENT
DTSTART;TZID=America/Denver:20190510T170000
DTEND;TZID=America/Denver:20190510T170000
DTSTAMP:20260425T074417
CREATED:20190424T214400Z
LAST-MODIFIED:20190424T214400Z
UID:26427-1557507600-1557507600@cccldstaging1.org
SUMMARY:ISPL Movie Night - Spider-Man: Into the Spider-Verse
DESCRIPTION:Enjoy a free\, family-friendly movie on the big screen at your library! Satisfy your cravings with snacks and freshly-popped popcorn available for sale at our mini concessions stand.
URL:https://cccldstaging1.org/event/ispl-movie-night-spider-man-into-the-spider-verse-2/
LOCATION:Idaho Springs Public Library\, 219 14th Avenue\, Idaho Springs\, CO\, 80452\, United States
CATEGORIES:Library Events
GEO:39.742052;-105.5183552
X-APPLE-STRUCTURED-LOCATION;VALUE=URI;X-ADDRESS=Idaho Springs Public Library 219 14th Avenue Idaho Springs CO 80452 United States;X-APPLE-RADIUS=500;X-TITLE=219 14th Avenue:geo:-105.5183552,39.742052
END:VEVENT
BEGIN:VEVENT
DTSTART;TZID=America/Denver:20190510T170000
DTEND;TZID=America/Denver:20190510T170000
DTSTAMP:20260425T074417
CREATED:20190424T214400Z
LAST-MODIFIED:20190424T214400Z
UID:2501-1557507600-1557507600@cccldstaging1.org
SUMMARY:ISPL Movie Night - Spider-Man: Into the Spider-Verse
DESCRIPTION:Enjoy a free\, family-friendly movie on the big screen at your library! Satisfy your cravings with snacks and freshly-popped popcorn available for sale at our mini concessions stand.
URL:https://cccldstaging1.org/event/ispl-movie-night-spider-man-into-the-spider-verse/
LOCATION:Idaho Springs Public Library\, 219 14th Avenue\, Idaho Springs\, CO\, 80452\, United States
CATEGORIES:Library Events
GEO:39.742052;-105.5183552
X-APPLE-STRUCTURED-LOCATION;VALUE=URI;X-ADDRESS=Idaho Springs Public Library 219 14th Avenue Idaho Springs CO 80452 United States;X-APPLE-RADIUS=500;X-TITLE=219 14th Avenue:geo:-105.5183552,39.742052
END:VEVENT
BEGIN:VEVENT
DTSTART;TZID=America/Denver:20190508T153000
DTEND;TZID=America/Denver:20190508T170000
DTSTAMP:20260425T074417
CREATED:20190403T223520Z
LAST-MODIFIED:20190403T223520Z
UID:26369-1557329400-1557334800@cccldstaging1.org
SUMMARY:After-School Homework Help
DESCRIPTION:Students of all ages can get help with their homework from 3:30 – 5 pm on Wednesdays at the Idaho Springs Public Library. Volunteer tutors will be available to help with homework\, reading\, or other school activities.
URL:https://cccldstaging1.org/event/after-school-homework-help-6-2/
LOCATION:Idaho Springs Public Library\, 219 14th Avenue\, Idaho Springs\, CO\, 80452\, United States
CATEGORIES:Kids,Library Events
GEO:39.742052;-105.5183552
X-APPLE-STRUCTURED-LOCATION;VALUE=URI;X-ADDRESS=Idaho Springs Public Library 219 14th Avenue Idaho Springs CO 80452 United States;X-APPLE-RADIUS=500;X-TITLE=219 14th Avenue:geo:-105.5183552,39.742052
END:VEVENT
BEGIN:VEVENT
DTSTART;TZID=America/Denver:20190508T153000
DTEND;TZID=America/Denver:20190508T170000
DTSTAMP:20260425T074417
CREATED:20190403T223520Z
LAST-MODIFIED:20190403T223520Z
UID:2150-1557329400-1557334800@cccldstaging1.org
SUMMARY:After-School Homework Help
DESCRIPTION:Students of all ages can get help with their homework from 3:30 – 5 pm on Wednesdays at the Idaho Springs Public Library. Volunteer tutors will be available to help with homework\, reading\, or other school activities.
URL:https://cccldstaging1.org/event/after-school-homework-help-6/
LOCATION:Idaho Springs Public Library\, 219 14th Avenue\, Idaho Springs\, CO\, 80452\, United States
CATEGORIES:Kids,Library Events
GEO:39.742052;-105.5183552
X-APPLE-STRUCTURED-LOCATION;VALUE=URI;X-ADDRESS=Idaho Springs Public Library 219 14th Avenue Idaho Springs CO 80452 United States;X-APPLE-RADIUS=500;X-TITLE=219 14th Avenue:geo:-105.5183552,39.742052
END:VEVENT
BEGIN:VEVENT
DTSTART;TZID=America/Denver:20190507T111500
DTEND;TZID=America/Denver:20190507T111500
DTSTAMP:20260425T074417
CREATED:20190403T222322Z
LAST-MODIFIED:20190403T222322Z
UID:2130-1557227700-1557227700@cccldstaging1.org
SUMMARY:ISPL Storytime
DESCRIPTION:Join us at the Idaho Springs Public Library for stories\, fun activities\, and snacks each week. Connect with other families and your library!
URL:https://cccldstaging1.org/event/ispl-storytime-5/
LOCATION:Idaho Springs Public Library\, 219 14th Avenue\, Idaho Springs\, CO\, 80452\, United States
CATEGORIES:Kids,Library Events
GEO:39.742052;-105.5183552
X-APPLE-STRUCTURED-LOCATION;VALUE=URI;X-ADDRESS=Idaho Springs Public Library 219 14th Avenue Idaho Springs CO 80452 United States;X-APPLE-RADIUS=500;X-TITLE=219 14th Avenue:geo:-105.5183552,39.742052
END:VEVENT
BEGIN:VEVENT
DTSTART;TZID=America/Denver:20190507T111500
DTEND;TZID=America/Denver:20190507T111500
DTSTAMP:20260425T074417
CREATED:20190403T222322Z
LAST-MODIFIED:20190403T222322Z
UID:26359-1557227700-1557227700@cccldstaging1.org
SUMMARY:ISPL Storytime
DESCRIPTION:Join us at the Idaho Springs Public Library for stories\, fun activities\, and snacks each week. Connect with other families and your library!
URL:https://cccldstaging1.org/event/ispl-storytime-5-2/
LOCATION:Idaho Springs Public Library\, 219 14th Avenue\, Idaho Springs\, CO\, 80452\, United States
CATEGORIES:Kids,Library Events
GEO:39.742052;-105.5183552
X-APPLE-STRUCTURED-LOCATION;VALUE=URI;X-ADDRESS=Idaho Springs Public Library 219 14th Avenue Idaho Springs CO 80452 United States;X-APPLE-RADIUS=500;X-TITLE=219 14th Avenue:geo:-105.5183552,39.742052
END:VEVENT
BEGIN:VEVENT
DTSTART;TZID=America/Denver:20190501T153000
DTEND;TZID=America/Denver:20190501T170000
DTSTAMP:20260425T074417
CREATED:20190403T223448Z
LAST-MODIFIED:20190403T223448Z
UID:26368-1556724600-1556730000@cccldstaging1.org
SUMMARY:After-School Homework Help
DESCRIPTION:Students of all ages can get help with their homework from 3:30 – 5 pm on Wednesdays at the Idaho Springs Public Library. Volunteer tutors will be available to help with homework\, reading\, or other school activities.
URL:https://cccldstaging1.org/event/after-school-homework-help-5-2/
LOCATION:Idaho Springs Public Library\, 219 14th Avenue\, Idaho Springs\, CO\, 80452\, United States
CATEGORIES:Kids,Library Events
GEO:39.742052;-105.5183552
X-APPLE-STRUCTURED-LOCATION;VALUE=URI;X-ADDRESS=Idaho Springs Public Library 219 14th Avenue Idaho Springs CO 80452 United States;X-APPLE-RADIUS=500;X-TITLE=219 14th Avenue:geo:-105.5183552,39.742052
END:VEVENT
BEGIN:VEVENT
DTSTART;TZID=America/Denver:20190501T153000
DTEND;TZID=America/Denver:20190501T170000
DTSTAMP:20260425T074417
CREATED:20190403T223448Z
LAST-MODIFIED:20190403T223448Z
UID:2148-1556724600-1556730000@cccldstaging1.org
SUMMARY:After-School Homework Help
DESCRIPTION:Students of all ages can get help with their homework from 3:30 – 5 pm on Wednesdays at the Idaho Springs Public Library. Volunteer tutors will be available to help with homework\, reading\, or other school activities.
URL:https://cccldstaging1.org/event/after-school-homework-help-5/
LOCATION:Idaho Springs Public Library\, 219 14th Avenue\, Idaho Springs\, CO\, 80452\, United States
CATEGORIES:Kids,Library Events
GEO:39.742052;-105.5183552
X-APPLE-STRUCTURED-LOCATION;VALUE=URI;X-ADDRESS=Idaho Springs Public Library 219 14th Avenue Idaho Springs CO 80452 United States;X-APPLE-RADIUS=500;X-TITLE=219 14th Avenue:geo:-105.5183552,39.742052
END:VEVENT
BEGIN:VEVENT
DTSTART;TZID=America/Denver:20190430T153000
DTEND;TZID=America/Denver:20190430T153000
DTSTAMP:20260425T074417
CREATED:20190129T191851Z
LAST-MODIFIED:20190129T191851Z
UID:26225-1556638200-1556638200@cccldstaging1.org
SUMMARY:Día de los Niños
DESCRIPTION:Día is a nationally recognized initiative that emphasizes the importance of literacy for all children form all backgrounds. It is a daily commitment to linking children and their families to diverse books\, languages\, and cultures. Día is also known as El día de los niños or El día de los libros (Children’s Day or Book Day).
URL:https://cccldstaging1.org/event/dia-de-los-ninos-2/
LOCATION:Idaho Springs Public Library\, 219 14th Avenue\, Idaho Springs\, CO\, 80452\, United States
CATEGORIES:Kids,Library Events
GEO:39.742052;-105.5183552
X-APPLE-STRUCTURED-LOCATION;VALUE=URI;X-ADDRESS=Idaho Springs Public Library 219 14th Avenue Idaho Springs CO 80452 United States;X-APPLE-RADIUS=500;X-TITLE=219 14th Avenue:geo:-105.5183552,39.742052
END:VEVENT
BEGIN:VEVENT
DTSTART;TZID=America/Denver:20190430T153000
DTEND;TZID=America/Denver:20190430T153000
DTSTAMP:20260425T074417
CREATED:20190129T191851Z
LAST-MODIFIED:20190401T161152Z
UID:689-1556638200-1556638200@cccldstaging1.org
SUMMARY:Día de los Niños
DESCRIPTION:Día is a nationally recognized initiative that emphasizes the importance of literacy for all children form all backgrounds. It is a daily commitment to linking children and their families to diverse books\, languages\, and cultures. Día is also known as El día de los niños or El día de los libros (Children’s Day or Book Day).
URL:https://cccldstaging1.org/event/dia-de-los-ninos/
LOCATION:Idaho Springs Public Library\, 219 14th Avenue\, Idaho Springs\, CO\, 80452\, United States
CATEGORIES:Kids,Library Events
GEO:39.742052;-105.5183552
X-APPLE-STRUCTURED-LOCATION;VALUE=URI;X-ADDRESS=Idaho Springs Public Library 219 14th Avenue Idaho Springs CO 80452 United States;X-APPLE-RADIUS=500;X-TITLE=219 14th Avenue:geo:-105.5183552,39.742052
END:VEVENT
BEGIN:VEVENT
DTSTART;TZID=America/Denver:20190430T130000
DTEND;TZID=America/Denver:20190430T130000
DTSTAMP:20260425T074417
CREATED:20190403T230004Z
LAST-MODIFIED:20190403T230004Z
UID:26382-1556629200-1556629200@cccldstaging1.org
SUMMARY:ISPL Tech Time: Computer Basics
DESCRIPTION:Learn how to write a letter\, search the internet\, check the news\, find stock tips\, set up email\, and more.
URL:https://cccldstaging1.org/event/ispl-tech-time-computer-basics-5-2/
LOCATION:Idaho Springs Public Library\, 219 14th Avenue\, Idaho Springs\, CO\, 80452\, United States
CATEGORIES:Library Events
GEO:39.742052;-105.5183552
X-APPLE-STRUCTURED-LOCATION;VALUE=URI;X-ADDRESS=Idaho Springs Public Library 219 14th Avenue Idaho Springs CO 80452 United States;X-APPLE-RADIUS=500;X-TITLE=219 14th Avenue:geo:-105.5183552,39.742052
END:VEVENT
BEGIN:VEVENT
DTSTART;TZID=America/Denver:20190430T130000
DTEND;TZID=America/Denver:20190430T130000
DTSTAMP:20260425T074417
CREATED:20190403T230004Z
LAST-MODIFIED:20190403T230004Z
UID:2178-1556629200-1556629200@cccldstaging1.org
SUMMARY:ISPL Tech Time: Computer Basics
DESCRIPTION:Learn how to write a letter\, search the internet\, check the news\, find stock tips\, set up email\, and more.
URL:https://cccldstaging1.org/event/ispl-tech-time-computer-basics-5/
LOCATION:Idaho Springs Public Library\, 219 14th Avenue\, Idaho Springs\, CO\, 80452\, United States
CATEGORIES:Library Events
GEO:39.742052;-105.5183552
X-APPLE-STRUCTURED-LOCATION;VALUE=URI;X-ADDRESS=Idaho Springs Public Library 219 14th Avenue Idaho Springs CO 80452 United States;X-APPLE-RADIUS=500;X-TITLE=219 14th Avenue:geo:-105.5183552,39.742052
END:VEVENT
BEGIN:VEVENT
DTSTART;TZID=America/Denver:20190430T111500
DTEND;TZID=America/Denver:20190430T111500
DTSTAMP:20260425T074417
CREATED:20190403T222227Z
LAST-MODIFIED:20190403T222227Z
UID:2128-1556622900-1556622900@cccldstaging1.org
SUMMARY:ISPL Storytime
DESCRIPTION:Join us at the Idaho Springs Public Library for stories\, fun activities\, and snacks each week. Connect with other families and your library!
URL:https://cccldstaging1.org/event/ispl-storytime-4/
LOCATION:Idaho Springs Public Library\, 219 14th Avenue\, Idaho Springs\, CO\, 80452\, United States
CATEGORIES:Kids,Library Events
GEO:39.742052;-105.5183552
X-APPLE-STRUCTURED-LOCATION;VALUE=URI;X-ADDRESS=Idaho Springs Public Library 219 14th Avenue Idaho Springs CO 80452 United States;X-APPLE-RADIUS=500;X-TITLE=219 14th Avenue:geo:-105.5183552,39.742052
END:VEVENT
BEGIN:VEVENT
DTSTART;TZID=America/Denver:20190430T111500
DTEND;TZID=America/Denver:20190430T111500
DTSTAMP:20260425T074417
CREATED:20190403T222227Z
LAST-MODIFIED:20190403T222227Z
UID:26358-1556622900-1556622900@cccldstaging1.org
SUMMARY:ISPL Storytime
DESCRIPTION:Join us at the Idaho Springs Public Library for stories\, fun activities\, and snacks each week. Connect with other families and your library!
URL:https://cccldstaging1.org/event/ispl-storytime-4-2/
LOCATION:Idaho Springs Public Library\, 219 14th Avenue\, Idaho Springs\, CO\, 80452\, United States
CATEGORIES:Kids,Library Events
GEO:39.742052;-105.5183552
X-APPLE-STRUCTURED-LOCATION;VALUE=URI;X-ADDRESS=Idaho Springs Public Library 219 14th Avenue Idaho Springs CO 80452 United States;X-APPLE-RADIUS=500;X-TITLE=219 14th Avenue:geo:-105.5183552,39.742052
END:VEVENT
END:VCALENDAR