BEGIN:VCALENDAR
VERSION:2.0
PRODID:-//Clear Creek County Library District Staging - ECPv6.15.20//NONSGML v1.0//EN
CALSCALE:GREGORIAN
METHOD:PUBLISH
X-ORIGINAL-URL:https://cccldstaging1.org
X-WR-CALDESC:Events for Clear Creek County Library District Staging
REFRESH-INTERVAL;VALUE=DURATION:PT1H
X-Robots-Tag:noindex
X-PUBLISHED-TTL:PT1H
BEGIN:VTIMEZONE
TZID:America/Denver
BEGIN:DAYLIGHT
TZOFFSETFROM:-0700
TZOFFSETTO:-0600
TZNAME:MDT
DTSTART:20180311T090000
END:DAYLIGHT
BEGIN:STANDARD
TZOFFSETFROM:-0600
TZOFFSETTO:-0700
TZNAME:MST
DTSTART:20181104T080000
END:STANDARD
BEGIN:DAYLIGHT
TZOFFSETFROM:-0700
TZOFFSETTO:-0600
TZNAME:MDT
DTSTART:20190310T090000
END:DAYLIGHT
BEGIN:STANDARD
TZOFFSETFROM:-0600
TZOFFSETTO:-0700
TZNAME:MST
DTSTART:20191103T080000
END:STANDARD
BEGIN:DAYLIGHT
TZOFFSETFROM:-0700
TZOFFSETTO:-0600
TZNAME:MDT
DTSTART:20200308T090000
END:DAYLIGHT
BEGIN:STANDARD
TZOFFSETFROM:-0600
TZOFFSETTO:-0700
TZNAME:MST
DTSTART:20201101T080000
END:STANDARD
BEGIN:DAYLIGHT
TZOFFSETFROM:-0700
TZOFFSETTO:-0600
TZNAME:MDT
DTSTART:20210314T090000
END:DAYLIGHT
BEGIN:STANDARD
TZOFFSETFROM:-0600
TZOFFSETTO:-0700
TZNAME:MST
DTSTART:20211107T080000
END:STANDARD
BEGIN:DAYLIGHT
TZOFFSETFROM:-0700
TZOFFSETTO:-0600
TZNAME:MDT
DTSTART:20220313T090000
END:DAYLIGHT
BEGIN:STANDARD
TZOFFSETFROM:-0600
TZOFFSETTO:-0700
TZNAME:MST
DTSTART:20221106T080000
END:STANDARD
BEGIN:DAYLIGHT
TZOFFSETFROM:-0700
TZOFFSETTO:-0600
TZNAME:MDT
DTSTART:20230312T090000
END:DAYLIGHT
BEGIN:STANDARD
TZOFFSETFROM:-0600
TZOFFSETTO:-0700
TZNAME:MST
DTSTART:20231105T080000
END:STANDARD
BEGIN:DAYLIGHT
TZOFFSETFROM:-0700
TZOFFSETTO:-0600
TZNAME:MDT
DTSTART:20240310T090000
END:DAYLIGHT
BEGIN:STANDARD
TZOFFSETFROM:-0600
TZOFFSETTO:-0700
TZNAME:MST
DTSTART:20241103T080000
END:STANDARD
END:VTIMEZONE
BEGIN:VEVENT
DTSTART;TZID=America/Denver:20231206T173000
DTEND;TZID=America/Denver:20231206T200000
DTSTAMP:20260424T032839
CREATED:20230814T210344Z
LAST-MODIFIED:20230814T210344Z
UID:21261-1701883800-1701892800@cccldstaging1.org
SUMMARY:Wreath Workshop
DESCRIPTION:Join us at the Georgetown Old School for our annual wreath-making! Registration is required\, please email chris@cccld.org to register.
URL:https://cccldstaging1.org/event/wreath-workshop-2/2023-12-06/
LOCATION:Georgetown Heritage Center\, 809 Taos Street\, Georgetown\, CO\, 80444\, United States
CATEGORIES:Adults,Library Events
GEO:39.7076439;-105.6959246
X-APPLE-STRUCTURED-LOCATION;VALUE=URI;X-ADDRESS=Georgetown Heritage Center 809 Taos Street Georgetown CO 80444 United States;X-APPLE-RADIUS=500;X-TITLE=809 Taos Street:geo:-105.6959246,39.7076439
END:VEVENT
BEGIN:VEVENT
DTSTART;TZID=America/Denver:20231103T170000
DTEND;TZID=America/Denver:20231103T190000
DTSTAMP:20260424T032839
CREATED:20230612T183537Z
LAST-MODIFIED:20230612T183537Z
UID:20741-1699030800-1699038000@cccldstaging1.org
SUMMARY:Heritage Hops 2023
DESCRIPTION:Join local brewers and chefs for an evening of delicious beer and small-plate pairings. Proceeds will help fund the John Tomay Memorial Library renovation.
URL:https://cccldstaging1.org/event/heritage-hops-beer-and-food-pairing-experience/
LOCATION:Georgetown Heritage Center\, 809 Taos Street\, Georgetown\, CO\, 80444\, United States
CATEGORIES:Adults,Library Events
GEO:39.7076439;-105.6959246
X-APPLE-STRUCTURED-LOCATION;VALUE=URI;X-ADDRESS=Georgetown Heritage Center 809 Taos Street Georgetown CO 80444 United States;X-APPLE-RADIUS=500;X-TITLE=809 Taos Street:geo:-105.6959246,39.7076439
END:VEVENT
BEGIN:VEVENT
DTSTART;TZID=America/Denver:20230609T190000
DTEND;TZID=America/Denver:20230609T210000
DTSTAMP:20260424T032839
CREATED:20230502T155716Z
LAST-MODIFIED:20230502T155716Z
UID:20109-1686337200-1686344400@cccldstaging1.org
SUMMARY:JTML Friends Annual Mtg. & Jerry Barlow - Celtic Guitarist & Storyteller
DESCRIPTION:The Friends of the Georgetown Library present Jerry Barlow – Celtic Guitarist & Storyteller. The annual meeting will also be held. Tickets are by donation. Join us at the Old Georgetown School\, 809 Taos St.\, Georgetown\, CO. Doors open at 6 pm.
URL:https://cccldstaging1.org/event/jtml-friends-annual-mtg-jerry-barlow-celtic-guitarist-storyteller/
LOCATION:Georgetown Heritage Center\, 809 Taos Street\, Georgetown\, CO\, 80444\, United States
CATEGORIES:Adults,Community Events,Library Events
GEO:39.7076439;-105.6959246
X-APPLE-STRUCTURED-LOCATION;VALUE=URI;X-ADDRESS=Georgetown Heritage Center 809 Taos Street Georgetown CO 80444 United States;X-APPLE-RADIUS=500;X-TITLE=809 Taos Street:geo:-105.6959246,39.7076439
END:VEVENT
BEGIN:VEVENT
DTSTART;TZID=America/Denver:20230223T180000
DTEND;TZID=America/Denver:20230223T190000
DTSTAMP:20260424T032839
CREATED:20230201T214258Z
LAST-MODIFIED:20230201T214258Z
UID:19080-1677175200-1677178800@cccldstaging1.org
SUMMARY:GLA- Informational Reception on JTML Renovation
DESCRIPTION:Georgetown Library Association presents an informational reception on the John Tomay Memorial Library renovation. The public is invited to learn more about the upcoming renovation. Light refreshments will be served.
URL:https://cccldstaging1.org/event/gla-informational-reception-on-jtml-renovation/
LOCATION:Georgetown Heritage Center\, 809 Taos Street\, Georgetown\, CO\, 80444\, United States
CATEGORIES:Community Events,Library Events
GEO:39.7076439;-105.6959246
X-APPLE-STRUCTURED-LOCATION;VALUE=URI;X-ADDRESS=Georgetown Heritage Center 809 Taos Street Georgetown CO 80444 United States;X-APPLE-RADIUS=500;X-TITLE=809 Taos Street:geo:-105.6959246,39.7076439
END:VEVENT
BEGIN:VEVENT
DTSTART;TZID=America/Denver:20221207T173000
DTEND;TZID=America/Denver:20221207T193000
DTSTAMP:20260424T032839
CREATED:20221006T174127Z
LAST-MODIFIED:20221006T174127Z
UID:17049-1670434200-1670441400@cccldstaging1.org
SUMMARY:Wreath Workshop
DESCRIPTION:Join us at the Georgetown Heritage Center for our annual wreath-making! Please email chris@cccld.org to register.
URL:https://cccldstaging1.org/event/wreath-workshop/2022-12-07/
LOCATION:Georgetown Heritage Center\, 809 Taos Street\, Georgetown\, CO\, 80444\, United States
CATEGORIES:Adults,Library Events
GEO:39.7076439;-105.6959246
X-APPLE-STRUCTURED-LOCATION;VALUE=URI;X-ADDRESS=Georgetown Heritage Center 809 Taos Street Georgetown CO 80444 United States;X-APPLE-RADIUS=500;X-TITLE=809 Taos Street:geo:-105.6959246,39.7076439
END:VEVENT
BEGIN:VEVENT
DTSTART;TZID=America/Denver:20220510T173000
DTEND;TZID=America/Denver:20220510T193000
DTSTAMP:20260424T032839
CREATED:20220412T214718Z
LAST-MODIFIED:20220412T214718Z
UID:27109-1652203800-1652211000@cccldstaging1.org
SUMMARY:What's the Buzz?
DESCRIPTION:Join us at the Georgetown Heritage Center for a presentation on Mountain Pollinators. For information and to register email chris@cccld.org
URL:https://cccldstaging1.org/event/adult-craft-mountain-pollinators/
LOCATION:Georgetown Heritage Center\, 809 Taos Street\, Georgetown\, CO\, 80444\, United States
CATEGORIES:Adults,Library Events
GEO:39.7076439;-105.6959246
X-APPLE-STRUCTURED-LOCATION;VALUE=URI;X-ADDRESS=Georgetown Heritage Center 809 Taos Street Georgetown CO 80444 United States;X-APPLE-RADIUS=500;X-TITLE=809 Taos Street:geo:-105.6959246,39.7076439
END:VEVENT
BEGIN:VEVENT
DTSTART;TZID=America/Denver:20211216T170000
DTEND;TZID=America/Denver:20211216T183000
DTSTAMP:20260424T032839
CREATED:20211112T230559Z
LAST-MODIFIED:20211112T230559Z
UID:27058-1639674000-1639679400@cccldstaging1.org
SUMMARY:Adult Craft
DESCRIPTION:“Creativity is a continual surprise.”–Ray Bradbury. December’s craft is Holiday Wreaths. Email chris@cccld.org to learn more and register.
URL:https://cccldstaging1.org/event/creative-connection-jtml-2/
LOCATION:Georgetown Heritage Center\, 809 Taos Street\, Georgetown\, CO\, 80444\, United States
CATEGORIES:Adults,Library Events
GEO:39.7076439;-105.6959246
X-APPLE-STRUCTURED-LOCATION;VALUE=URI;X-ADDRESS=Georgetown Heritage Center 809 Taos Street Georgetown CO 80444 United States;X-APPLE-RADIUS=500;X-TITLE=809 Taos Street:geo:-105.6959246,39.7076439
END:VEVENT
BEGIN:VEVENT
DTSTART;TZID=America/Denver:20211215T170000
DTEND;TZID=America/Denver:20211215T183000
DTSTAMP:20260424T032839
CREATED:20211123T210255Z
LAST-MODIFIED:20211123T210255Z
UID:27060-1639587600-1639593000@cccldstaging1.org
SUMMARY:Adult Craft
DESCRIPTION:“Creativity is a continual surprise.”–Ray Bradbury. December’s craft is Holiday Wreaths. Email chris@cccld.org to learn more and register.
URL:https://cccldstaging1.org/event/adult-craft-5-2/
LOCATION:Georgetown Heritage Center\, 809 Taos Street\, Georgetown\, CO\, 80444\, United States
CATEGORIES:Adults,Library Events
GEO:39.7076439;-105.6959246
X-APPLE-STRUCTURED-LOCATION;VALUE=URI;X-ADDRESS=Georgetown Heritage Center 809 Taos Street Georgetown CO 80444 United States;X-APPLE-RADIUS=500;X-TITLE=809 Taos Street:geo:-105.6959246,39.7076439
END:VEVENT
BEGIN:VEVENT
DTSTART;VALUE=DATE:20200625
DTEND;VALUE=DATE:20200626
DTSTAMP:20260424T032839
CREATED:20200529T182830Z
LAST-MODIFIED:20200529T182830Z
UID:8717-1593043200-1593129599@cccldstaging1.org
SUMMARY:Native Plant Sale
DESCRIPTION:Check back for more information about our annual Native Plant Sale in collaboration with the Columbine Garden Club\, which takes the place of the June Extension Thursday.
URL:https://cccldstaging1.org/event/native-plant-sale/
LOCATION:Georgetown Heritage Center\, 809 Taos Street\, Georgetown\, CO\, 80444\, United States
CATEGORIES:Community Events
GEO:39.7076439;-105.6959246
X-APPLE-STRUCTURED-LOCATION;VALUE=URI;X-ADDRESS=Georgetown Heritage Center 809 Taos Street Georgetown CO 80444 United States;X-APPLE-RADIUS=500;X-TITLE=809 Taos Street:geo:-105.6959246,39.7076439
END:VEVENT
BEGIN:VEVENT
DTSTART;TZID=America/Denver:20200306T170000
DTEND;TZID=America/Denver:20200306T170000
DTSTAMP:20260424T032839
CREATED:20200210T211550Z
LAST-MODIFIED:20200221T183324Z
UID:7618-1583514000-1583514000@cccldstaging1.org
SUMMARY:Georgetown Movie Night
DESCRIPTION:Enjoy a free\, family-friendly movie on the big screen at your library! Satisfy your cravings with snacks and freshly-popped popcorn available for sale at our mini concessions stand. \nMarch Movie – Frozen II \n 
URL:https://cccldstaging1.org/event/georgetown-movie-night-6/
LOCATION:Georgetown Heritage Center\, 809 Taos Street\, Georgetown\, CO\, 80444\, United States
CATEGORIES:Adults,Kids,Library Events
GEO:39.7076439;-105.6959246
X-APPLE-STRUCTURED-LOCATION;VALUE=URI;X-ADDRESS=Georgetown Heritage Center 809 Taos Street Georgetown CO 80444 United States;X-APPLE-RADIUS=500;X-TITLE=809 Taos Street:geo:-105.6959246,39.7076439
END:VEVENT
BEGIN:VEVENT
DTSTART;TZID=America/Denver:20200306T170000
DTEND;TZID=America/Denver:20200306T170000
DTSTAMP:20260424T032839
CREATED:20200210T211550Z
LAST-MODIFIED:20200210T211550Z
UID:26878-1583514000-1583514000@cccldstaging1.org
SUMMARY:Georgetown Movie Night
DESCRIPTION:Enjoy a free\, family-friendly movie on the big screen at your library! Satisfy your cravings with snacks and freshly-popped popcorn available for sale at our mini concessions stand. \nMarch Movie – Frozen II \n 
URL:https://cccldstaging1.org/event/georgetown-movie-night-6-2/
LOCATION:Georgetown Heritage Center\, 809 Taos Street\, Georgetown\, CO\, 80444\, United States
CATEGORIES:Adults,Kids,Library Events
GEO:39.7076439;-105.6959246
X-APPLE-STRUCTURED-LOCATION;VALUE=URI;X-ADDRESS=Georgetown Heritage Center 809 Taos Street Georgetown CO 80444 United States;X-APPLE-RADIUS=500;X-TITLE=809 Taos Street:geo:-105.6959246,39.7076439
END:VEVENT
BEGIN:VEVENT
DTSTART;TZID=America/Denver:20200207T170000
DTEND;TZID=America/Denver:20200207T190000
DTSTAMP:20260424T032839
CREATED:20200114T200041Z
LAST-MODIFIED:20200114T200041Z
UID:6753-1581094800-1581102000@cccldstaging1.org
SUMMARY:Georgetown Movie Night
DESCRIPTION:Enjoy a free\, family-friendly movie on the big screen at your library! Satisfy your cravings with snacks and freshly-popped popcorn available for sale at our mini concessions stand. \nFebruary Movie – The Addams Family
URL:https://cccldstaging1.org/event/georgetown-movie-night-5/
LOCATION:Georgetown Heritage Center\, 809 Taos Street\, Georgetown\, CO\, 80444\, United States
CATEGORIES:Adults,Kids,Library Events
GEO:39.7076439;-105.6959246
X-APPLE-STRUCTURED-LOCATION;VALUE=URI;X-ADDRESS=Georgetown Heritage Center 809 Taos Street Georgetown CO 80444 United States;X-APPLE-RADIUS=500;X-TITLE=809 Taos Street:geo:-105.6959246,39.7076439
END:VEVENT
BEGIN:VEVENT
DTSTART;TZID=America/Denver:20200207T170000
DTEND;TZID=America/Denver:20200207T190000
DTSTAMP:20260424T032839
CREATED:20200114T200041Z
LAST-MODIFIED:20200114T200041Z
UID:26823-1581094800-1581102000@cccldstaging1.org
SUMMARY:Georgetown Movie Night
DESCRIPTION:Enjoy a free\, family-friendly movie on the big screen at your library! Satisfy your cravings with snacks and freshly-popped popcorn available for sale at our mini concessions stand. \nFebruary Movie – The Addams Family
URL:https://cccldstaging1.org/event/georgetown-movie-night-5-2/
LOCATION:Georgetown Heritage Center\, 809 Taos Street\, Georgetown\, CO\, 80444\, United States
CATEGORIES:Adults,Kids,Library Events
GEO:39.7076439;-105.6959246
X-APPLE-STRUCTURED-LOCATION;VALUE=URI;X-ADDRESS=Georgetown Heritage Center 809 Taos Street Georgetown CO 80444 United States;X-APPLE-RADIUS=500;X-TITLE=809 Taos Street:geo:-105.6959246,39.7076439
END:VEVENT
BEGIN:VEVENT
DTSTART;TZID=America/Denver:20200103T170000
DTEND;TZID=America/Denver:20200103T170000
DTSTAMP:20260424T032839
CREATED:20191218T221700Z
LAST-MODIFIED:20200103T224603Z
UID:5694-1578070800-1578070800@cccldstaging1.org
SUMMARY:Georgetown Movie Night
DESCRIPTION:Enjoy a free\, family-friendly movie on the big screen at your library! Satisfy your cravings with snacks and freshly-popped popcorn available for sale at our mini concessions stand. \nJanuary Movie: Abominable
URL:https://cccldstaging1.org/event/georgetown-movie-night-4/
LOCATION:Georgetown Heritage Center\, 809 Taos Street\, Georgetown\, CO\, 80444\, United States
CATEGORIES:Kids,Library Events
GEO:39.7076439;-105.6959246
X-APPLE-STRUCTURED-LOCATION;VALUE=URI;X-ADDRESS=Georgetown Heritage Center 809 Taos Street Georgetown CO 80444 United States;X-APPLE-RADIUS=500;X-TITLE=809 Taos Street:geo:-105.6959246,39.7076439
END:VEVENT
BEGIN:VEVENT
DTSTART;TZID=America/Denver:20200103T170000
DTEND;TZID=America/Denver:20200103T170000
DTSTAMP:20260424T032839
CREATED:20191218T221700Z
LAST-MODIFIED:20191218T221700Z
UID:26763-1578070800-1578070800@cccldstaging1.org
SUMMARY:Georgetown Movie Night
DESCRIPTION:Enjoy a free\, family-friendly movie on the big screen at your library! Satisfy your cravings with snacks and freshly-popped popcorn available for sale at our mini concessions stand. \nJanuary Movie: Abominable
URL:https://cccldstaging1.org/event/georgetown-movie-night-4-2/
LOCATION:Georgetown Heritage Center\, 809 Taos Street\, Georgetown\, CO\, 80444\, United States
CATEGORIES:Kids,Library Events
GEO:39.7076439;-105.6959246
X-APPLE-STRUCTURED-LOCATION;VALUE=URI;X-ADDRESS=Georgetown Heritage Center 809 Taos Street Georgetown CO 80444 United States;X-APPLE-RADIUS=500;X-TITLE=809 Taos Street:geo:-105.6959246,39.7076439
END:VEVENT
BEGIN:VEVENT
DTSTART;TZID=America/Denver:20191212T173000
DTEND;TZID=America/Denver:20191212T173000
DTSTAMP:20260424T032839
CREATED:20191125T190352Z
LAST-MODIFIED:20191125T190352Z
UID:5435-1576171800-1576171800@cccldstaging1.org
SUMMARY:Georgetown Adult Craft Night
DESCRIPTION:Do you love to craft? Or are you craft-curious? Get creative and connect with other crafty patrons at our monthly craft workshops! No experience is necessary and all workshops are free. \nJoin us for our annual wreathmaking in December! Please email holly@cccld.org to register and to reserve your supplies.
URL:https://cccldstaging1.org/event/georgetown-adult-craft-night-3/
LOCATION:Georgetown Heritage Center\, 809 Taos Street\, Georgetown\, CO\, 80444\, United States
CATEGORIES:Adults,Library Events
GEO:39.7076439;-105.6959246
X-APPLE-STRUCTURED-LOCATION;VALUE=URI;X-ADDRESS=Georgetown Heritage Center 809 Taos Street Georgetown CO 80444 United States;X-APPLE-RADIUS=500;X-TITLE=809 Taos Street:geo:-105.6959246,39.7076439
END:VEVENT
BEGIN:VEVENT
DTSTART;TZID=America/Denver:20191212T173000
DTEND;TZID=America/Denver:20191212T173000
DTSTAMP:20260424T032839
CREATED:20191125T190352Z
LAST-MODIFIED:20191125T190352Z
UID:26732-1576171800-1576171800@cccldstaging1.org
SUMMARY:Georgetown Adult Craft Night
DESCRIPTION:Do you love to craft? Or are you craft-curious? Get creative and connect with other crafty patrons at our monthly craft workshops! No experience is necessary and all workshops are free. \nJoin us for our annual wreathmaking in December! Please email holly@cccld.org to register and to reserve your supplies.
URL:https://cccldstaging1.org/event/georgetown-adult-craft-night-3-2/
LOCATION:Georgetown Heritage Center\, 809 Taos Street\, Georgetown\, CO\, 80444\, United States
CATEGORIES:Adults,Library Events
GEO:39.7076439;-105.6959246
X-APPLE-STRUCTURED-LOCATION;VALUE=URI;X-ADDRESS=Georgetown Heritage Center 809 Taos Street Georgetown CO 80444 United States;X-APPLE-RADIUS=500;X-TITLE=809 Taos Street:geo:-105.6959246,39.7076439
END:VEVENT
BEGIN:VEVENT
DTSTART;TZID=America/Denver:20191211T180000
DTEND;TZID=America/Denver:20191211T180000
DTSTAMP:20260424T032839
CREATED:20190328T205137Z
LAST-MODIFIED:20191115T205151Z
UID:1868-1576087200-1576087200@cccldstaging1.org
SUMMARY:District Board Meeting
DESCRIPTION:
URL:https://cccldstaging1.org/event/district-board-meeting-7/
LOCATION:Georgetown Heritage Center\, 809 Taos Street\, Georgetown\, CO\, 80444\, United States
CATEGORIES:Library Events
GEO:39.7076439;-105.6959246
X-APPLE-STRUCTURED-LOCATION;VALUE=URI;X-ADDRESS=Georgetown Heritage Center 809 Taos Street Georgetown CO 80444 United States;X-APPLE-RADIUS=500;X-TITLE=809 Taos Street:geo:-105.6959246,39.7076439
END:VEVENT
BEGIN:VEVENT
DTSTART;TZID=America/Denver:20191211T180000
DTEND;TZID=America/Denver:20191211T180000
DTSTAMP:20260424T032839
CREATED:20190328T205137Z
LAST-MODIFIED:20190328T205137Z
UID:26322-1576087200-1576087200@cccldstaging1.org
SUMMARY:District Board Meeting
DESCRIPTION:
URL:https://cccldstaging1.org/event/district-board-meeting-7-2/
LOCATION:Georgetown Heritage Center\, 809 Taos Street\, Georgetown\, CO\, 80444\, United States
CATEGORIES:Library Events
GEO:39.7076439;-105.6959246
X-APPLE-STRUCTURED-LOCATION;VALUE=URI;X-ADDRESS=Georgetown Heritage Center 809 Taos Street Georgetown CO 80444 United States;X-APPLE-RADIUS=500;X-TITLE=809 Taos Street:geo:-105.6959246,39.7076439
END:VEVENT
BEGIN:VEVENT
DTSTART;TZID=America/Denver:20191101T170000
DTEND;TZID=America/Denver:20191101T190000
DTSTAMP:20260424T032839
CREATED:20191029T194723Z
LAST-MODIFIED:20191029T194723Z
UID:26681-1572627600-1572634800@cccldstaging1.org
SUMMARY:Georgetown Movie Night
DESCRIPTION:Enjoy a free\, family-friendly movie on the big screen at your library! Satisfy your cravings with snacks and freshly-popped popcorn available for sale at our mini concessions stand. \nNovember Movie: The Lion King (live action)
URL:https://cccldstaging1.org/event/georgetown-movie-night-2-2/
LOCATION:Georgetown Heritage Center\, 809 Taos Street\, Georgetown\, CO\, 80444\, United States
CATEGORIES:Kids,Library Events
GEO:39.7076439;-105.6959246
X-APPLE-STRUCTURED-LOCATION;VALUE=URI;X-ADDRESS=Georgetown Heritage Center 809 Taos Street Georgetown CO 80444 United States;X-APPLE-RADIUS=500;X-TITLE=809 Taos Street:geo:-105.6959246,39.7076439
END:VEVENT
BEGIN:VEVENT
DTSTART;TZID=America/Denver:20191101T170000
DTEND;TZID=America/Denver:20191101T190000
DTSTAMP:20260424T032839
CREATED:20191029T194723Z
LAST-MODIFIED:20191029T194723Z
UID:5074-1572627600-1572634800@cccldstaging1.org
SUMMARY:Georgetown Movie Night
DESCRIPTION:Enjoy a free\, family-friendly movie on the big screen at your library! Satisfy your cravings with snacks and freshly-popped popcorn available for sale at our mini concessions stand. \nNovember Movie: The Lion King (live action)
URL:https://cccldstaging1.org/event/georgetown-movie-night-2/
LOCATION:Georgetown Heritage Center\, 809 Taos Street\, Georgetown\, CO\, 80444\, United States
CATEGORIES:Kids,Library Events
GEO:39.7076439;-105.6959246
X-APPLE-STRUCTURED-LOCATION;VALUE=URI;X-ADDRESS=Georgetown Heritage Center 809 Taos Street Georgetown CO 80444 United States;X-APPLE-RADIUS=500;X-TITLE=809 Taos Street:geo:-105.6959246,39.7076439
END:VEVENT
BEGIN:VEVENT
DTSTART;TZID=America/Denver:20191017T170000
DTEND;TZID=America/Denver:20191017T170000
DTSTAMP:20260424T032839
CREATED:20190403T214557Z
LAST-MODIFIED:20191010T181300Z
UID:2084-1571331600-1571331600@cccldstaging1.org
SUMMARY:Georgetown Library Association and Building Advisory Committee Meeting
DESCRIPTION:Quarterly meeting of the Georgetown Library Association and the Georgetown Building Advisory Committee. Find the schedule\, agendas\, and minutes here.
URL:https://cccldstaging1.org/event/georgetown-library-association-and-building-advisory-committee-meeting-3/
LOCATION:Georgetown Heritage Center\, 809 Taos Street\, Georgetown\, CO\, 80444\, United States
CATEGORIES:Library Events
GEO:39.7076439;-105.6959246
X-APPLE-STRUCTURED-LOCATION;VALUE=URI;X-ADDRESS=Georgetown Heritage Center 809 Taos Street Georgetown CO 80444 United States;X-APPLE-RADIUS=500;X-TITLE=809 Taos Street:geo:-105.6959246,39.7076439
END:VEVENT
BEGIN:VEVENT
DTSTART;TZID=America/Denver:20191017T170000
DTEND;TZID=America/Denver:20191017T170000
DTSTAMP:20260424T032839
CREATED:20190403T214557Z
LAST-MODIFIED:20190403T214557Z
UID:26348-1571331600-1571331600@cccldstaging1.org
SUMMARY:Georgetown Library Association and Building Advisory Committee Meeting
DESCRIPTION:Quarterly meeting of the Georgetown Library Association and the Georgetown Building Advisory Committee. Find the schedule\, agendas\, and minutes here.
URL:https://cccldstaging1.org/event/georgetown-library-association-and-building-advisory-committee-meeting-3-2/
LOCATION:Georgetown Heritage Center\, 809 Taos Street\, Georgetown\, CO\, 80444\, United States
CATEGORIES:Library Events
GEO:39.7076439;-105.6959246
X-APPLE-STRUCTURED-LOCATION;VALUE=URI;X-ADDRESS=Georgetown Heritage Center 809 Taos Street Georgetown CO 80444 United States;X-APPLE-RADIUS=500;X-TITLE=809 Taos Street:geo:-105.6959246,39.7076439
END:VEVENT
BEGIN:VEVENT
DTSTART;TZID=America/Denver:20191004T170000
DTEND;TZID=America/Denver:20191004T170000
DTSTAMP:20260424T032839
CREATED:20190924T165140Z
LAST-MODIFIED:20190924T165140Z
UID:26632-1570208400-1570208400@cccldstaging1.org
SUMMARY:Georgetown Movie Night
DESCRIPTION:Enjoy a free\, family-friendly movie on the big screen at your library! Satisfy your cravings with snacks and freshly-popped popcorn available for sale at our mini concessions stand. \nOctober Movie: Aladdin
URL:https://cccldstaging1.org/event/georgetown-movie-night-8/
LOCATION:Georgetown Heritage Center\, 809 Taos Street\, Georgetown\, CO\, 80444\, United States
CATEGORIES:Library Events
GEO:39.7076439;-105.6959246
X-APPLE-STRUCTURED-LOCATION;VALUE=URI;X-ADDRESS=Georgetown Heritage Center 809 Taos Street Georgetown CO 80444 United States;X-APPLE-RADIUS=500;X-TITLE=809 Taos Street:geo:-105.6959246,39.7076439
END:VEVENT
BEGIN:VEVENT
DTSTART;TZID=America/Denver:20191004T170000
DTEND;TZID=America/Denver:20191004T170000
DTSTAMP:20260424T032839
CREATED:20190924T165140Z
LAST-MODIFIED:20190924T165524Z
UID:4552-1570208400-1570208400@cccldstaging1.org
SUMMARY:Georgetown Movie Night
DESCRIPTION:Enjoy a free\, family-friendly movie on the big screen at your library! Satisfy your cravings with snacks and freshly-popped popcorn available for sale at our mini concessions stand. \nOctober Movie: Aladdin
URL:https://cccldstaging1.org/event/georgetown-movie-night/
LOCATION:Georgetown Heritage Center\, 809 Taos Street\, Georgetown\, CO\, 80444\, United States
CATEGORIES:Library Events
GEO:39.7076439;-105.6959246
X-APPLE-STRUCTURED-LOCATION;VALUE=URI;X-ADDRESS=Georgetown Heritage Center 809 Taos Street Georgetown CO 80444 United States;X-APPLE-RADIUS=500;X-TITLE=809 Taos Street:geo:-105.6959246,39.7076439
END:VEVENT
BEGIN:VEVENT
DTSTART;TZID=America/Denver:20190917T170000
DTEND;TZID=America/Denver:20190917T170000
DTSTAMP:20260424T032839
CREATED:20190328T205014Z
LAST-MODIFIED:20190328T205014Z
UID:1864-1568739600-1568739600@cccldstaging1.org
SUMMARY:District Board Meeting
DESCRIPTION:
URL:https://cccldstaging1.org/event/district-board-meeting-5/
LOCATION:Georgetown Heritage Center\, 809 Taos Street\, Georgetown\, CO\, 80444\, United States
CATEGORIES:Library Events
GEO:39.7076439;-105.6959246
X-APPLE-STRUCTURED-LOCATION;VALUE=URI;X-ADDRESS=Georgetown Heritage Center 809 Taos Street Georgetown CO 80444 United States;X-APPLE-RADIUS=500;X-TITLE=809 Taos Street:geo:-105.6959246,39.7076439
END:VEVENT
BEGIN:VEVENT
DTSTART;TZID=America/Denver:20190917T170000
DTEND;TZID=America/Denver:20190917T170000
DTSTAMP:20260424T032839
CREATED:20190328T205014Z
LAST-MODIFIED:20190328T205014Z
UID:26320-1568739600-1568739600@cccldstaging1.org
SUMMARY:District Board Meeting
DESCRIPTION:
URL:https://cccldstaging1.org/event/district-board-meeting-5-2/
LOCATION:Georgetown Heritage Center\, 809 Taos Street\, Georgetown\, CO\, 80444\, United States
CATEGORIES:Library Events
GEO:39.7076439;-105.6959246
X-APPLE-STRUCTURED-LOCATION;VALUE=URI;X-ADDRESS=Georgetown Heritage Center 809 Taos Street Georgetown CO 80444 United States;X-APPLE-RADIUS=500;X-TITLE=809 Taos Street:geo:-105.6959246,39.7076439
END:VEVENT
BEGIN:VEVENT
DTSTART;TZID=America/Denver:20190906T170000
DTEND;TZID=America/Denver:20190906T170000
DTSTAMP:20260424T032839
CREATED:20190729T203414Z
LAST-MODIFIED:20190729T203414Z
UID:3661-1567789200-1567789200@cccldstaging1.org
SUMMARY:JTML Movie Night
DESCRIPTION:Enjoy a free\, family-friendly movie on the big screen at your library! Satisfy your cravings with snacks and freshly-popped popcorn available for sale at our mini concessions stand.
URL:https://cccldstaging1.org/event/jtml-movie-night-2/
LOCATION:Georgetown Heritage Center\, 809 Taos Street\, Georgetown\, CO\, 80444\, United States
CATEGORIES:Adults,Community Events,Kids,Library Events
GEO:39.7076439;-105.6959246
X-APPLE-STRUCTURED-LOCATION;VALUE=URI;X-ADDRESS=Georgetown Heritage Center 809 Taos Street Georgetown CO 80444 United States;X-APPLE-RADIUS=500;X-TITLE=809 Taos Street:geo:-105.6959246,39.7076439
END:VEVENT
BEGIN:VEVENT
DTSTART;TZID=America/Denver:20190906T170000
DTEND;TZID=America/Denver:20190906T170000
DTSTAMP:20260424T032839
CREATED:20190729T203414Z
LAST-MODIFIED:20190729T203414Z
UID:26523-1567789200-1567789200@cccldstaging1.org
SUMMARY:JTML Movie Night
DESCRIPTION:Enjoy a free\, family-friendly movie on the big screen at your library! Satisfy your cravings with snacks and freshly-popped popcorn available for sale at our mini concessions stand.
URL:https://cccldstaging1.org/event/jtml-movie-night-2-2/
LOCATION:Georgetown Heritage Center\, 809 Taos Street\, Georgetown\, CO\, 80444\, United States
CATEGORIES:Adults,Community Events,Kids,Library Events
GEO:39.7076439;-105.6959246
X-APPLE-STRUCTURED-LOCATION;VALUE=URI;X-ADDRESS=Georgetown Heritage Center 809 Taos Street Georgetown CO 80444 United States;X-APPLE-RADIUS=500;X-TITLE=809 Taos Street:geo:-105.6959246,39.7076439
END:VEVENT
BEGIN:VEVENT
DTSTART;TZID=America/Denver:20190802T170000
DTEND;TZID=America/Denver:20190802T170000
DTSTAMP:20260424T032839
CREATED:20190717T222101Z
LAST-MODIFIED:20190717T222101Z
UID:26510-1564765200-1564765200@cccldstaging1.org
SUMMARY:JTML Movie Night
DESCRIPTION:Enjoy a free\, family-friendly movie on the big screen at your library! Satisfy your cravings with snacks and freshly-popped popcorn available for sale at our mini concessions stand.
URL:https://cccldstaging1.org/event/jtml-movie-night-3/
LOCATION:Georgetown Heritage Center\, 809 Taos Street\, Georgetown\, CO\, 80444\, United States
CATEGORIES:Adults,Kids,Library Events
GEO:39.7076439;-105.6959246
X-APPLE-STRUCTURED-LOCATION;VALUE=URI;X-ADDRESS=Georgetown Heritage Center 809 Taos Street Georgetown CO 80444 United States;X-APPLE-RADIUS=500;X-TITLE=809 Taos Street:geo:-105.6959246,39.7076439
END:VEVENT
END:VCALENDAR