BEGIN:VCALENDAR
VERSION:2.0
PRODID:-//Clear Creek County Library District Staging - ECPv6.15.20//NONSGML v1.0//EN
CALSCALE:GREGORIAN
METHOD:PUBLISH
X-ORIGINAL-URL:https://cccldstaging1.org
X-WR-CALDESC:Events for Clear Creek County Library District Staging
REFRESH-INTERVAL;VALUE=DURATION:PT1H
X-Robots-Tag:noindex
X-PUBLISHED-TTL:PT1H
BEGIN:VTIMEZONE
TZID:America/Denver
BEGIN:DAYLIGHT
TZOFFSETFROM:-0700
TZOFFSETTO:-0600
TZNAME:MDT
DTSTART:20180311T090000
END:DAYLIGHT
BEGIN:STANDARD
TZOFFSETFROM:-0600
TZOFFSETTO:-0700
TZNAME:MST
DTSTART:20181104T080000
END:STANDARD
BEGIN:DAYLIGHT
TZOFFSETFROM:-0700
TZOFFSETTO:-0600
TZNAME:MDT
DTSTART:20190310T090000
END:DAYLIGHT
BEGIN:STANDARD
TZOFFSETFROM:-0600
TZOFFSETTO:-0700
TZNAME:MST
DTSTART:20191103T080000
END:STANDARD
BEGIN:DAYLIGHT
TZOFFSETFROM:-0700
TZOFFSETTO:-0600
TZNAME:MDT
DTSTART:20200308T090000
END:DAYLIGHT
BEGIN:STANDARD
TZOFFSETFROM:-0600
TZOFFSETTO:-0700
TZNAME:MST
DTSTART:20201101T080000
END:STANDARD
BEGIN:DAYLIGHT
TZOFFSETFROM:-0700
TZOFFSETTO:-0600
TZNAME:MDT
DTSTART:20210314T090000
END:DAYLIGHT
BEGIN:STANDARD
TZOFFSETFROM:-0600
TZOFFSETTO:-0700
TZNAME:MST
DTSTART:20211107T080000
END:STANDARD
BEGIN:DAYLIGHT
TZOFFSETFROM:-0700
TZOFFSETTO:-0600
TZNAME:MDT
DTSTART:20220313T090000
END:DAYLIGHT
BEGIN:STANDARD
TZOFFSETFROM:-0600
TZOFFSETTO:-0700
TZNAME:MST
DTSTART:20221106T080000
END:STANDARD
BEGIN:DAYLIGHT
TZOFFSETFROM:-0700
TZOFFSETTO:-0600
TZNAME:MDT
DTSTART:20230312T090000
END:DAYLIGHT
BEGIN:STANDARD
TZOFFSETFROM:-0600
TZOFFSETTO:-0700
TZNAME:MST
DTSTART:20231105T080000
END:STANDARD
END:VTIMEZONE
BEGIN:VEVENT
DTSTART;TZID=America/Denver:20221026T173000
DTEND;TZID=America/Denver:20221026T193000
DTSTAMP:20260424T153020
CREATED:20220920T162410Z
LAST-MODIFIED:20220920T162410Z
UID:16825-1666805400-1666812600@cccldstaging1.org
SUMMARY:Spooky Mixology
DESCRIPTION:Make a spooky cocktail with other adult crafters. Space is limited\, and reservations are required. Please email chris@cccld.org for reservations and additional information. Meet at Cooper’s on the Creek at 5:30 pm.
URL:https://cccldstaging1.org/event/spooky-mixology/
LOCATION:Cooper’s on the Creek\, 1500 Argentine Street\, Georgetown\, CO\, 80444\, United States
CATEGORIES:Adults,Library Events
GEO:39.7154476;-105.6946412
X-APPLE-STRUCTURED-LOCATION;VALUE=URI;X-ADDRESS=Cooper’s on the Creek 1500 Argentine Street Georgetown CO 80444 United States;X-APPLE-RADIUS=500;X-TITLE=1500 Argentine Street:geo:-105.6946412,39.7154476
END:VEVENT
BEGIN:VEVENT
DTSTART;TZID=America/Denver:20191010T173000
DTEND;TZID=America/Denver:20191010T173000
DTSTAMP:20260424T153020
CREATED:20190924T171206Z
LAST-MODIFIED:20190924T171206Z
UID:26636-1570728600-1570728600@cccldstaging1.org
SUMMARY:Georgetown Adult Craft Night
DESCRIPTION:Do you love to craft? Or are you craft-curious? Get creative and connect with other crafty patrons at our monthly craft workshops! No experience is necessary and all workshops are free. \nJoin us for a special craft night at Cooper’s on the Creek\, where we’ll be making spooky Halloween cocktails and learning about mixology. Space is limited so register today by calling 303-569-2620 or emailing holly@cccld.org.
URL:https://cccldstaging1.org/event/georgetown-adult-craft-night-8/
LOCATION:Cooper’s on the Creek\, 1500 Argentine Street\, Georgetown\, CO\, 80444\, United States
CATEGORIES:Adults,Library Events
GEO:39.7154476;-105.6946412
X-APPLE-STRUCTURED-LOCATION;VALUE=URI;X-ADDRESS=Cooper’s on the Creek 1500 Argentine Street Georgetown CO 80444 United States;X-APPLE-RADIUS=500;X-TITLE=1500 Argentine Street:geo:-105.6946412,39.7154476
END:VEVENT
BEGIN:VEVENT
DTSTART;TZID=America/Denver:20191010T173000
DTEND;TZID=America/Denver:20191010T173000
DTSTAMP:20260424T153020
CREATED:20190924T171206Z
LAST-MODIFIED:20190924T171234Z
UID:4565-1570728600-1570728600@cccldstaging1.org
SUMMARY:Georgetown Adult Craft Night
DESCRIPTION:Do you love to craft? Or are you craft-curious? Get creative and connect with other crafty patrons at our monthly craft workshops! No experience is necessary and all workshops are free. \nJoin us for a special craft night at Cooper’s on the Creek\, where we’ll be making spooky Halloween cocktails and learning about mixology. Space is limited so register today by calling 303-569-2620 or emailing holly@cccld.org.
URL:https://cccldstaging1.org/event/georgetown-adult-craft-night/
LOCATION:Cooper’s on the Creek\, 1500 Argentine Street\, Georgetown\, CO\, 80444\, United States
CATEGORIES:Adults,Library Events
GEO:39.7154476;-105.6946412
X-APPLE-STRUCTURED-LOCATION;VALUE=URI;X-ADDRESS=Cooper’s on the Creek 1500 Argentine Street Georgetown CO 80444 United States;X-APPLE-RADIUS=500;X-TITLE=1500 Argentine Street:geo:-105.6946412,39.7154476
END:VEVENT
END:VCALENDAR