BEGIN:VCALENDAR
VERSION:2.0
PRODID:-//Clear Creek County Library District Staging - ECPv6.15.20//NONSGML v1.0//EN
CALSCALE:GREGORIAN
METHOD:PUBLISH
X-ORIGINAL-URL:https://cccldstaging1.org
X-WR-CALDESC:Events for Clear Creek County Library District Staging
REFRESH-INTERVAL;VALUE=DURATION:PT1H
X-Robots-Tag:noindex
X-PUBLISHED-TTL:PT1H
BEGIN:VTIMEZONE
TZID:America/Denver
BEGIN:DAYLIGHT
TZOFFSETFROM:-0700
TZOFFSETTO:-0600
TZNAME:MDT
DTSTART:20180311T090000
END:DAYLIGHT
BEGIN:STANDARD
TZOFFSETFROM:-0600
TZOFFSETTO:-0700
TZNAME:MST
DTSTART:20181104T080000
END:STANDARD
BEGIN:DAYLIGHT
TZOFFSETFROM:-0700
TZOFFSETTO:-0600
TZNAME:MDT
DTSTART:20190310T090000
END:DAYLIGHT
BEGIN:STANDARD
TZOFFSETFROM:-0600
TZOFFSETTO:-0700
TZNAME:MST
DTSTART:20191103T080000
END:STANDARD
BEGIN:DAYLIGHT
TZOFFSETFROM:-0700
TZOFFSETTO:-0600
TZNAME:MDT
DTSTART:20200308T090000
END:DAYLIGHT
BEGIN:STANDARD
TZOFFSETFROM:-0600
TZOFFSETTO:-0700
TZNAME:MST
DTSTART:20201101T080000
END:STANDARD
BEGIN:DAYLIGHT
TZOFFSETFROM:-0700
TZOFFSETTO:-0600
TZNAME:MDT
DTSTART:20210314T090000
END:DAYLIGHT
BEGIN:STANDARD
TZOFFSETFROM:-0600
TZOFFSETTO:-0700
TZNAME:MST
DTSTART:20211107T080000
END:STANDARD
BEGIN:DAYLIGHT
TZOFFSETFROM:-0700
TZOFFSETTO:-0600
TZNAME:MDT
DTSTART:20220313T090000
END:DAYLIGHT
BEGIN:STANDARD
TZOFFSETFROM:-0600
TZOFFSETTO:-0700
TZNAME:MST
DTSTART:20221106T080000
END:STANDARD
BEGIN:DAYLIGHT
TZOFFSETFROM:-0700
TZOFFSETTO:-0600
TZNAME:MDT
DTSTART:20230312T090000
END:DAYLIGHT
BEGIN:STANDARD
TZOFFSETFROM:-0600
TZOFFSETTO:-0700
TZNAME:MST
DTSTART:20231105T080000
END:STANDARD
BEGIN:DAYLIGHT
TZOFFSETFROM:-0700
TZOFFSETTO:-0600
TZNAME:MDT
DTSTART:20240310T090000
END:DAYLIGHT
BEGIN:STANDARD
TZOFFSETFROM:-0600
TZOFFSETTO:-0700
TZNAME:MST
DTSTART:20241103T080000
END:STANDARD
BEGIN:DAYLIGHT
TZOFFSETFROM:-0700
TZOFFSETTO:-0600
TZNAME:MDT
DTSTART:20250309T090000
END:DAYLIGHT
BEGIN:STANDARD
TZOFFSETFROM:-0600
TZOFFSETTO:-0700
TZNAME:MST
DTSTART:20251102T080000
END:STANDARD
END:VTIMEZONE
BEGIN:VEVENT
DTSTART;TZID=America/Denver:20241127T130000
DTEND;TZID=America/Denver:20241127T150000
DTSTAMP:20260423T171013
CREATED:20231129T163251Z
LAST-MODIFIED:20231129T163251Z
UID:22056-1732712400-1732719600@cccldstaging1.org
SUMMARY:Foot Care Clinic
DESCRIPTION:Free\, senior foot care clinic. Reservations are required\, call Heather at 303-567-2020. All clinics are held at the Clear Creek Recreation Center.
URL:https://cccldstaging1.org/event/foot-care-clinic-10/2024-11-27/
LOCATION:Clear Creek Metropolitan Recreation District\, 98 12th Avenue\, Idaho Springs\, CO\, 80452\, United States
CATEGORIES:Adults,Library Events
GEO:39.7419098;-105.5208484
X-APPLE-STRUCTURED-LOCATION;VALUE=URI;X-ADDRESS=Clear Creek Metropolitan Recreation District 98 12th Avenue Idaho Springs CO 80452 United States;X-APPLE-RADIUS=500;X-TITLE=98 12th Avenue:geo:-105.5208484,39.7419098
END:VEVENT
BEGIN:VEVENT
DTSTART;TZID=America/Denver:20240925T130000
DTEND;TZID=America/Denver:20240925T150000
DTSTAMP:20260423T171013
CREATED:20231129T163251Z
LAST-MODIFIED:20231129T163251Z
UID:22055-1727269200-1727276400@cccldstaging1.org
SUMMARY:Foot Care Clinic
DESCRIPTION:Free\, senior foot care clinic. Reservations are required\, call Heather at 303-567-2020. All clinics are held at the Clear Creek Recreation Center.
URL:https://cccldstaging1.org/event/foot-care-clinic-10/2024-09-25/
LOCATION:Clear Creek Metropolitan Recreation District\, 98 12th Avenue\, Idaho Springs\, CO\, 80452\, United States
CATEGORIES:Adults,Library Events
GEO:39.7419098;-105.5208484
X-APPLE-STRUCTURED-LOCATION;VALUE=URI;X-ADDRESS=Clear Creek Metropolitan Recreation District 98 12th Avenue Idaho Springs CO 80452 United States;X-APPLE-RADIUS=500;X-TITLE=98 12th Avenue:geo:-105.5208484,39.7419098
END:VEVENT
BEGIN:VEVENT
DTSTART;TZID=America/Denver:20240809T100000
DTEND;TZID=America/Denver:20240809T233000
DTSTAMP:20260423T171013
CREATED:20240802T162818Z
LAST-MODIFIED:20240802T162818Z
UID:24688-1723197600-1723246200@cccldstaging1.org
SUMMARY:Stories & Swimming
DESCRIPTION:Splash into storytime with us! Registration is required. To learn more and sign up\, please email holly@cccld.org. Many thanks to Clear Creek Recreation Center for welcoming storytime into their swimming pool!
URL:https://cccldstaging1.org/event/stories-swimming/
LOCATION:Clear Creek Metropolitan Recreation District\, 98 12th Avenue\, Idaho Springs\, CO\, 80452\, United States
CATEGORIES:Kids,Library Events
GEO:39.7419098;-105.5208484
X-APPLE-STRUCTURED-LOCATION;VALUE=URI;X-ADDRESS=Clear Creek Metropolitan Recreation District 98 12th Avenue Idaho Springs CO 80452 United States;X-APPLE-RADIUS=500;X-TITLE=98 12th Avenue:geo:-105.5208484,39.7419098
END:VEVENT
BEGIN:VEVENT
DTSTART;TZID=America/Denver:20240724T130000
DTEND;TZID=America/Denver:20240724T150000
DTSTAMP:20260423T171013
CREATED:20231129T163251Z
LAST-MODIFIED:20231129T163251Z
UID:22054-1721826000-1721833200@cccldstaging1.org
SUMMARY:Foot Care Clinic
DESCRIPTION:Free\, senior foot care clinic. Reservations are required\, call Heather at 303-567-2020. All clinics are held at the Clear Creek Recreation Center.
URL:https://cccldstaging1.org/event/foot-care-clinic-10/2024-07-24/
LOCATION:Clear Creek Metropolitan Recreation District\, 98 12th Avenue\, Idaho Springs\, CO\, 80452\, United States
CATEGORIES:Adults,Library Events
GEO:39.7419098;-105.5208484
X-APPLE-STRUCTURED-LOCATION;VALUE=URI;X-ADDRESS=Clear Creek Metropolitan Recreation District 98 12th Avenue Idaho Springs CO 80452 United States;X-APPLE-RADIUS=500;X-TITLE=98 12th Avenue:geo:-105.5208484,39.7419098
END:VEVENT
BEGIN:VEVENT
DTSTART;TZID=America/Denver:20240710T100000
DTEND;TZID=America/Denver:20240710T130000
DTSTAMP:20260423T171013
CREATED:20240610T170451Z
LAST-MODIFIED:20240610T170451Z
UID:24198-1720605600-1720616400@cccldstaging1.org
SUMMARY:Summer Reading Party
DESCRIPTION:Into the Waves! Summer Reading Party at the Clear Creek Recreation Center! Swimming\, Pizza\, Cake. Children under the age of eight years need a parent with them.
URL:https://cccldstaging1.org/event/summer-reading-party/
LOCATION:Clear Creek Metropolitan Recreation District\, 98 12th Avenue\, Idaho Springs\, CO\, 80452\, United States
CATEGORIES:Adults,Kids,Library Events,Summer Reading,Teens
GEO:39.7419098;-105.5208484
X-APPLE-STRUCTURED-LOCATION;VALUE=URI;X-ADDRESS=Clear Creek Metropolitan Recreation District 98 12th Avenue Idaho Springs CO 80452 United States;X-APPLE-RADIUS=500;X-TITLE=98 12th Avenue:geo:-105.5208484,39.7419098
END:VEVENT
BEGIN:VEVENT
DTSTART;TZID=America/Denver:20240522T130000
DTEND;TZID=America/Denver:20240522T150000
DTSTAMP:20260423T171013
CREATED:20231129T163251Z
LAST-MODIFIED:20231129T163251Z
UID:22053-1716382800-1716390000@cccldstaging1.org
SUMMARY:Foot Care Clinic
DESCRIPTION:Free\, senior foot care clinic. Reservations are required\, call Heather at 303-567-2020. All clinics are held at the Clear Creek Recreation Center.
URL:https://cccldstaging1.org/event/foot-care-clinic-10/2024-05-22/
LOCATION:Clear Creek Metropolitan Recreation District\, 98 12th Avenue\, Idaho Springs\, CO\, 80452\, United States
CATEGORIES:Adults,Library Events
GEO:39.7419098;-105.5208484
X-APPLE-STRUCTURED-LOCATION;VALUE=URI;X-ADDRESS=Clear Creek Metropolitan Recreation District 98 12th Avenue Idaho Springs CO 80452 United States;X-APPLE-RADIUS=500;X-TITLE=98 12th Avenue:geo:-105.5208484,39.7419098
END:VEVENT
BEGIN:VEVENT
DTSTART;TZID=America/Denver:20240124T130000
DTEND;TZID=America/Denver:20240124T150000
DTSTAMP:20260423T171013
CREATED:20231129T163251Z
LAST-MODIFIED:20231129T163251Z
UID:22045-1706101200-1706108400@cccldstaging1.org
SUMMARY:Foot Care Clinic
DESCRIPTION:Free\, senior foot care clinic. Reservations are required\, call Heather at 303-567-2020. All clinics are held at the Clear Creek Recreation Center.
URL:https://cccldstaging1.org/event/foot-care-clinic-10/2024-01-24/
LOCATION:Clear Creek Metropolitan Recreation District\, 98 12th Avenue\, Idaho Springs\, CO\, 80452\, United States
CATEGORIES:Adults,Library Events
GEO:39.7419098;-105.5208484
X-APPLE-STRUCTURED-LOCATION;VALUE=URI;X-ADDRESS=Clear Creek Metropolitan Recreation District 98 12th Avenue Idaho Springs CO 80452 United States;X-APPLE-RADIUS=500;X-TITLE=98 12th Avenue:geo:-105.5208484,39.7419098
END:VEVENT
BEGIN:VEVENT
DTSTART;TZID=America/Denver:20230726T130000
DTEND;TZID=America/Denver:20230726T150000
DTSTAMP:20260423T171013
CREATED:20230615T161312Z
LAST-MODIFIED:20230615T161312Z
UID:20757-1690376400-1690383600@cccldstaging1.org
SUMMARY:Foot Care Clinic
DESCRIPTION:Free\, senior foot care clinic. Reservations are required\, call Heather at 303-567-2020. All clinics are held at the Clear Creek Recreation Center.
URL:https://cccldstaging1.org/event/foot-care-clinic-9/
LOCATION:Clear Creek Metropolitan Recreation District\, 98 12th Avenue\, Idaho Springs\, CO\, 80452\, United States
CATEGORIES:Adults,Library Events
GEO:39.7419098;-105.5208484
X-APPLE-STRUCTURED-LOCATION;VALUE=URI;X-ADDRESS=Clear Creek Metropolitan Recreation District 98 12th Avenue Idaho Springs CO 80452 United States;X-APPLE-RADIUS=500;X-TITLE=98 12th Avenue:geo:-105.5208484,39.7419098
END:VEVENT
BEGIN:VEVENT
DTSTART;TZID=America/Denver:20220928T130000
DTEND;TZID=America/Denver:20220928T150000
DTSTAMP:20260423T171013
CREATED:20220823T164202Z
LAST-MODIFIED:20220823T164202Z
UID:16640-1664370000-1664377200@cccldstaging1.org
SUMMARY:Foot Care Clinic
DESCRIPTION:Free\, senior Foot Care Clinic. Reservations are required\, call Heather at 303-567-2020. All clinics are held at the Clear Creek Recreation Center.
URL:https://cccldstaging1.org/event/foot-care-clinic-7/
LOCATION:Clear Creek Metropolitan Recreation District\, 98 12th Avenue\, Idaho Springs\, CO\, 80452\, United States
CATEGORIES:Adults,Library Events
GEO:39.7419098;-105.5208484
X-APPLE-STRUCTURED-LOCATION;VALUE=URI;X-ADDRESS=Clear Creek Metropolitan Recreation District 98 12th Avenue Idaho Springs CO 80452 United States;X-APPLE-RADIUS=500;X-TITLE=98 12th Avenue:geo:-105.5208484,39.7419098
END:VEVENT
BEGIN:VEVENT
DTSTART;TZID=America/Denver:20220824T110000
DTEND;TZID=America/Denver:20220824T130000
DTSTAMP:20260423T171013
CREATED:20220713T183434Z
LAST-MODIFIED:20220713T183434Z
UID:16346-1661338800-1661346000@cccldstaging1.org
SUMMARY:Foot Care Clinic
DESCRIPTION:Free\, senior Foot Care Clinic. Reservations are required\, call Heather at 303-567-2020. All clinics are held at the Clear Creek Recreation Center.
URL:https://cccldstaging1.org/event/foot-care-clinic-6/
LOCATION:Clear Creek Metropolitan Recreation District\, 98 12th Avenue\, Idaho Springs\, CO\, 80452\, United States
CATEGORIES:Adults,Community Events,Library Events
GEO:39.7419098;-105.5208484
X-APPLE-STRUCTURED-LOCATION;VALUE=URI;X-ADDRESS=Clear Creek Metropolitan Recreation District 98 12th Avenue Idaho Springs CO 80452 United States;X-APPLE-RADIUS=500;X-TITLE=98 12th Avenue:geo:-105.5208484,39.7419098
END:VEVENT
BEGIN:VEVENT
DTSTART;TZID=America/Denver:20220727T130000
DTEND;TZID=America/Denver:20220727T150000
DTSTAMP:20260423T171013
CREATED:20220628T170416Z
LAST-MODIFIED:20220628T170416Z
UID:27146-1658926800-1658934000@cccldstaging1.org
SUMMARY:Foot Care Clinic
DESCRIPTION:Free\, senior Foot Care Clinic. Reservations are required\, call Heather at 303-567-2020. All clinics are held at the Clear Creek Recreation Center.
URL:https://cccldstaging1.org/event/foot-care-clinic-5/
LOCATION:Clear Creek Metropolitan Recreation District\, 98 12th Avenue\, Idaho Springs\, CO\, 80452\, United States
CATEGORIES:Adults,Library Events
GEO:39.7419098;-105.5208484
X-APPLE-STRUCTURED-LOCATION;VALUE=URI;X-ADDRESS=Clear Creek Metropolitan Recreation District 98 12th Avenue Idaho Springs CO 80452 United States;X-APPLE-RADIUS=500;X-TITLE=98 12th Avenue:geo:-105.5208484,39.7419098
END:VEVENT
BEGIN:VEVENT
DTSTART;TZID=America/Denver:20220622T130000
DTEND;TZID=America/Denver:20220622T150000
DTSTAMP:20260423T171013
CREATED:20220607T193836Z
LAST-MODIFIED:20220607T193836Z
UID:16047-1655902800-1655910000@cccldstaging1.org
SUMMARY:Foot Care Clinic
DESCRIPTION:Free\, senior Foot Care Clinic. Reservations are required\, call Heather at 303-567-2020. All clinics are held at the Clear Creek Recreation Center.
URL:https://cccldstaging1.org/event/foot-care-clinic-4/
LOCATION:Clear Creek Metropolitan Recreation District\, 98 12th Avenue\, Idaho Springs\, CO\, 80452\, United States
CATEGORIES:Adults,Library Events
GEO:39.7419098;-105.5208484
X-APPLE-STRUCTURED-LOCATION;VALUE=URI;X-ADDRESS=Clear Creek Metropolitan Recreation District 98 12th Avenue Idaho Springs CO 80452 United States;X-APPLE-RADIUS=500;X-TITLE=98 12th Avenue:geo:-105.5208484,39.7419098
END:VEVENT
BEGIN:VEVENT
DTSTART;TZID=America/Denver:20220525T130000
DTEND;TZID=America/Denver:20220525T150000
DTSTAMP:20260423T171013
CREATED:20220502T163124Z
LAST-MODIFIED:20220502T163124Z
UID:27117-1653483600-1653490800@cccldstaging1.org
SUMMARY:Foot Care Clinic
DESCRIPTION:Free foot care clinic for seniors. Registration is required\, call Heather at 303-567-2020.
URL:https://cccldstaging1.org/event/foot-care-clinic-3/
LOCATION:Clear Creek Metropolitan Recreation District\, 98 12th Avenue\, Idaho Springs\, CO\, 80452\, United States
GEO:39.7419098;-105.5208484
X-APPLE-STRUCTURED-LOCATION;VALUE=URI;X-ADDRESS=Clear Creek Metropolitan Recreation District 98 12th Avenue Idaho Springs CO 80452 United States;X-APPLE-RADIUS=500;X-TITLE=98 12th Avenue:geo:-105.5208484,39.7419098
END:VEVENT
BEGIN:VEVENT
DTSTART;TZID=America/Denver:20220427T130000
DTEND;TZID=America/Denver:20220427T150000
DTSTAMP:20260423T171013
CREATED:20220328T163629Z
LAST-MODIFIED:20220328T163629Z
UID:27101-1651064400-1651071600@cccldstaging1.org
SUMMARY:Foot Care Clinic
DESCRIPTION:Free\, senior Foot Care Clinic. Reservations are required\, call Heather at 303-567-2020. All clinics are held at the Clear Creek Recreation Center.
URL:https://cccldstaging1.org/event/foot-care-clinic-2/
LOCATION:Clear Creek Metropolitan Recreation District\, 98 12th Avenue\, Idaho Springs\, CO\, 80452\, United States
CATEGORIES:Adults,Library Events
GEO:39.7419098;-105.5208484
X-APPLE-STRUCTURED-LOCATION;VALUE=URI;X-ADDRESS=Clear Creek Metropolitan Recreation District 98 12th Avenue Idaho Springs CO 80452 United States;X-APPLE-RADIUS=500;X-TITLE=98 12th Avenue:geo:-105.5208484,39.7419098
END:VEVENT
BEGIN:VEVENT
DTSTART;TZID=America/Denver:20220323T130000
DTEND;TZID=America/Denver:20220323T150000
DTSTAMP:20260423T171013
CREATED:20220222T165727Z
LAST-MODIFIED:20220222T165727Z
UID:27079-1648040400-1648047600@cccldstaging1.org
SUMMARY:Foot Care Clinic
DESCRIPTION:Free\, senior foot care clinic. Reservations are required\, call Heather at 303-567-2020. All clinics are held at the Clear Creek Recreation Center.
URL:https://cccldstaging1.org/event/foot-care-clinic/
LOCATION:Clear Creek Metropolitan Recreation District\, 98 12th Avenue\, Idaho Springs\, CO\, 80452\, United States
CATEGORIES:Adults,Community Events,Library Events
GEO:39.7419098;-105.5208484
X-APPLE-STRUCTURED-LOCATION;VALUE=URI;X-ADDRESS=Clear Creek Metropolitan Recreation District 98 12th Avenue Idaho Springs CO 80452 United States;X-APPLE-RADIUS=500;X-TITLE=98 12th Avenue:geo:-105.5208484,39.7419098
END:VEVENT
BEGIN:VEVENT
DTSTART;TZID=America/Denver:20190806T110000
DTEND;TZID=America/Denver:20190806T140000
DTSTAMP:20260423T171013
CREATED:20190624T183908Z
LAST-MODIFIED:20190624T183908Z
UID:26499-1565089200-1565100000@cccldstaging1.org
SUMMARY:Summer Reading Graduation Party
DESCRIPTION:Celebrate the end of Summer Reading 2019! Receive your diploma\, redeem your Bookgems for prizes\, play Pool Quidditch\, enjoy a magic show\, and more!
URL:https://cccldstaging1.org/event/summer-reading-graduation-party-2/
LOCATION:Clear Creek Metropolitan Recreation District\, 98 12th Avenue\, Idaho Springs\, CO\, 80452\, United States
CATEGORIES:Adults,Kids,Library Events,Summer Reading
GEO:39.7419098;-105.5208484
X-APPLE-STRUCTURED-LOCATION;VALUE=URI;X-ADDRESS=Clear Creek Metropolitan Recreation District 98 12th Avenue Idaho Springs CO 80452 United States;X-APPLE-RADIUS=500;X-TITLE=98 12th Avenue:geo:-105.5208484,39.7419098
END:VEVENT
BEGIN:VEVENT
DTSTART;TZID=America/Denver:20190806T110000
DTEND;TZID=America/Denver:20190806T140000
DTSTAMP:20260423T171013
CREATED:20190624T183908Z
LAST-MODIFIED:20190624T183908Z
UID:3283-1565089200-1565100000@cccldstaging1.org
SUMMARY:Summer Reading Graduation Party
DESCRIPTION:Celebrate the end of Summer Reading 2019! Receive your diploma\, redeem your Bookgems for prizes\, play Pool Quidditch\, enjoy a magic show\, and more!
URL:https://cccldstaging1.org/event/summer-reading-graduation-party/
LOCATION:Clear Creek Metropolitan Recreation District\, 98 12th Avenue\, Idaho Springs\, CO\, 80452\, United States
CATEGORIES:Adults,Kids,Library Events,Summer Reading
GEO:39.7419098;-105.5208484
X-APPLE-STRUCTURED-LOCATION;VALUE=URI;X-ADDRESS=Clear Creek Metropolitan Recreation District 98 12th Avenue Idaho Springs CO 80452 United States;X-APPLE-RADIUS=500;X-TITLE=98 12th Avenue:geo:-105.5208484,39.7419098
END:VEVENT
END:VCALENDAR