BEGIN:VCALENDAR
VERSION:2.0
PRODID:-//Clear Creek County Library District Staging - ECPv6.15.20//NONSGML v1.0//EN
CALSCALE:GREGORIAN
METHOD:PUBLISH
X-WR-CALNAME:Clear Creek County Library District Staging
X-ORIGINAL-URL:https://cccldstaging1.org
X-WR-CALDESC:Events for Clear Creek County Library District Staging
REFRESH-INTERVAL;VALUE=DURATION:PT1H
X-Robots-Tag:noindex
X-PUBLISHED-TTL:PT1H
BEGIN:VTIMEZONE
TZID:America/Denver
BEGIN:DAYLIGHT
TZOFFSETFROM:-0700
TZOFFSETTO:-0600
TZNAME:MDT
DTSTART:20210314T090000
END:DAYLIGHT
BEGIN:STANDARD
TZOFFSETFROM:-0600
TZOFFSETTO:-0700
TZNAME:MST
DTSTART:20211107T080000
END:STANDARD
BEGIN:DAYLIGHT
TZOFFSETFROM:-0700
TZOFFSETTO:-0600
TZNAME:MDT
DTSTART:20220313T090000
END:DAYLIGHT
BEGIN:STANDARD
TZOFFSETFROM:-0600
TZOFFSETTO:-0700
TZNAME:MST
DTSTART:20221106T080000
END:STANDARD
BEGIN:DAYLIGHT
TZOFFSETFROM:-0700
TZOFFSETTO:-0600
TZNAME:MDT
DTSTART:20230312T090000
END:DAYLIGHT
BEGIN:STANDARD
TZOFFSETFROM:-0600
TZOFFSETTO:-0700
TZNAME:MST
DTSTART:20231105T080000
END:STANDARD
BEGIN:DAYLIGHT
TZOFFSETFROM:-0700
TZOFFSETTO:-0600
TZNAME:MDT
DTSTART:20240310T090000
END:DAYLIGHT
BEGIN:STANDARD
TZOFFSETFROM:-0600
TZOFFSETTO:-0700
TZNAME:MST
DTSTART:20241103T080000
END:STANDARD
END:VTIMEZONE
BEGIN:VEVENT
DTSTART;TZID=America/Denver:20230303T123000
DTEND;TZID=America/Denver:20230303T150000
DTSTAMP:20260424T044754
CREATED:20220823T170701Z
LAST-MODIFIED:20220823T170701Z
UID:17918-1677846600-1677855600@cccldstaging1.org
SUMMARY:ISPL COMPASS Fridays
DESCRIPTION:Join us for FREE guided and independent activities on Friday afternoons during the school year\, funded through your Library District.
URL:https://cccldstaging1.org/event/jtml-ispl-compass-fridays-2023-03-03/
LOCATION:CO\, 80444\, United States
CATEGORIES:Kids,Library Events,Teens
GEO:39.7104468;-105.6969788
END:VEVENT
BEGIN:VEVENT
DTSTART;TZID=America/Denver:20230224T123000
DTEND;TZID=America/Denver:20230224T150000
DTSTAMP:20260424T044754
CREATED:20220823T170701Z
LAST-MODIFIED:20220823T170701Z
UID:17917-1677241800-1677250800@cccldstaging1.org
SUMMARY:ISPL COMPASS Fridays
DESCRIPTION:Join us for FREE guided and independent activities on Friday afternoons during the school year\, funded through your Library District.
URL:https://cccldstaging1.org/event/jtml-ispl-compass-fridays-2023-02-24/
LOCATION:CO\, 80444\, United States
CATEGORIES:Kids,Library Events,Teens
GEO:39.7104468;-105.6969788
END:VEVENT
BEGIN:VEVENT
DTSTART;VALUE=DATE:20230220
DTEND;VALUE=DATE:20230221
DTSTAMP:20260424T044754
CREATED:20230124T154459Z
LAST-MODIFIED:20230124T154459Z
UID:18926-1676851200-1676937599@cccldstaging1.org
SUMMARY:LIBRARY CLOSED
DESCRIPTION:Presidents Day
URL:https://cccldstaging1.org/event/library-closed-3/
LOCATION:CO\, 80444\, United States
CATEGORIES:Library Events
GEO:39.7104468;-105.6969788
END:VEVENT
BEGIN:VEVENT
DTSTART;TZID=America/Denver:20230217T123000
DTEND;TZID=America/Denver:20230217T150000
DTSTAMP:20260424T044754
CREATED:20220823T170701Z
LAST-MODIFIED:20220823T170701Z
UID:17916-1676637000-1676646000@cccldstaging1.org
SUMMARY:ISPL COMPASS Fridays
DESCRIPTION:Join us for FREE guided and independent activities on Friday afternoons during the school year\, funded through your Library District.
URL:https://cccldstaging1.org/event/jtml-ispl-compass-fridays-2023-02-17/
LOCATION:CO\, 80444\, United States
CATEGORIES:Kids,Library Events,Teens
GEO:39.7104468;-105.6969788
END:VEVENT
BEGIN:VEVENT
DTSTART;TZID=America/Denver:20230210T123000
DTEND;TZID=America/Denver:20230210T150000
DTSTAMP:20260424T044754
CREATED:20220823T170701Z
LAST-MODIFIED:20220823T170701Z
UID:17915-1676032200-1676041200@cccldstaging1.org
SUMMARY:ISPL COMPASS Fridays
DESCRIPTION:Join us for FREE guided and independent activities on Friday afternoons during the school year\, funded through your Library District.
URL:https://cccldstaging1.org/event/jtml-ispl-compass-fridays-2023-02-10/
LOCATION:CO\, 80444\, United States
CATEGORIES:Kids,Library Events,Teens
GEO:39.7104468;-105.6969788
END:VEVENT
BEGIN:VEVENT
DTSTART;TZID=America/Denver:20230204T130000
DTEND;TZID=America/Denver:20230204T150000
DTSTAMP:20260424T044754
CREATED:20230117T231726Z
LAST-MODIFIED:20230117T231726Z
UID:18849-1675515600-1675522800@cccldstaging1.org
SUMMARY:Adult Snowshoe Excursion
DESCRIPTION:Join us for a guided snowshoe hike with Georgetown Outdoor Discovery. Ages 16 years and over\, beginners welcome\, snowshoes provided. FREE with a Clear Creek County library card. To learn more and register\, please contact chris@cccld.org
URL:https://cccldstaging1.org/event/adult-snowshoe-excursion/
LOCATION:CO\, 80444\, United States
CATEGORIES:Adults,Library Events
GEO:39.7104468;-105.6969788
END:VEVENT
BEGIN:VEVENT
DTSTART;TZID=America/Denver:20230203T123000
DTEND;TZID=America/Denver:20230203T150000
DTSTAMP:20260424T044754
CREATED:20220823T170701Z
LAST-MODIFIED:20220823T170701Z
UID:17914-1675427400-1675436400@cccldstaging1.org
SUMMARY:ISPL COMPASS Fridays
DESCRIPTION:Join us for FREE guided and independent activities on Friday afternoons during the school year\, funded through your Library District.
URL:https://cccldstaging1.org/event/jtml-ispl-compass-fridays-2023-02-03/
LOCATION:CO\, 80444\, United States
CATEGORIES:Kids,Library Events,Teens
GEO:39.7104468;-105.6969788
END:VEVENT
BEGIN:VEVENT
DTSTART;TZID=America/Denver:20230127T123000
DTEND;TZID=America/Denver:20230127T150000
DTSTAMP:20260424T044754
CREATED:20220823T170701Z
LAST-MODIFIED:20220823T170701Z
UID:17913-1674822600-1674831600@cccldstaging1.org
SUMMARY:ISPL COMPASS Fridays
DESCRIPTION:Join us for FREE guided and independent activities on Friday afternoons during the school year\, funded through your Library District.
URL:https://cccldstaging1.org/event/jtml-ispl-compass-fridays-2023-01-27/
LOCATION:CO\, 80444\, United States
CATEGORIES:Kids,Library Events,Teens
GEO:39.7104468;-105.6969788
END:VEVENT
BEGIN:VEVENT
DTSTART;TZID=America/Denver:20230120T123000
DTEND;TZID=America/Denver:20230120T150000
DTSTAMP:20260424T044754
CREATED:20220823T170701Z
LAST-MODIFIED:20220823T170701Z
UID:17912-1674217800-1674226800@cccldstaging1.org
SUMMARY:ISPL COMPASS Fridays
DESCRIPTION:Join us for FREE guided and independent activities on Friday afternoons during the school year\, funded through your Library District.
URL:https://cccldstaging1.org/event/jtml-ispl-compass-fridays-2023-01-20/
LOCATION:CO\, 80444\, United States
CATEGORIES:Kids,Library Events,Teens
GEO:39.7104468;-105.6969788
END:VEVENT
BEGIN:VEVENT
DTSTART;TZID=America/Denver:20230117T170000
DTEND;TZID=America/Denver:20230117T183000
DTSTAMP:20260424T044754
CREATED:20230124T213834Z
LAST-MODIFIED:20230124T213834Z
UID:18934-1673974800-1673980200@cccldstaging1.org
SUMMARY:Library District Board Meeting
DESCRIPTION:The Clear Creek County Library District Board of Trustees meets on the third Tuesday of the month at noon with the exception of December’s budget approval meeting on 12/12/2023.
URL:https://cccldstaging1.org/event/library-district-board-meeting/2023-01-17/
LOCATION:CO\, 80444\, United States
CATEGORIES:Community Events,Library Events
GEO:39.7104468;-105.6969788
END:VEVENT
BEGIN:VEVENT
DTSTART;VALUE=DATE:20230116
DTEND;VALUE=DATE:20230117
DTSTAMP:20260424T044754
CREATED:20221206T173934Z
LAST-MODIFIED:20221206T173934Z
UID:18491-1673827200-1673913599@cccldstaging1.org
SUMMARY:Library Closed - MLK Jr. Day
DESCRIPTION:
URL:https://cccldstaging1.org/event/library-closed-mlk-jr-day/
LOCATION:CO\, 80444\, United States
CATEGORIES:Adults,Kids,Library Events,Teens
GEO:39.7104468;-105.6969788
END:VEVENT
BEGIN:VEVENT
DTSTART;TZID=America/Denver:20230113T130000
DTEND;TZID=America/Denver:20230113T150000
DTSTAMP:20260424T044754
CREATED:20221216T162348Z
LAST-MODIFIED:20221216T162348Z
UID:18550-1673614800-1673622000@cccldstaging1.org
SUMMARY:Family Snowshoe Adventure
DESCRIPTION:Come snowshoe with CCCLD! Join us on a guided tour with Georgetown Outdoor Discovery. This adventure is FREE for Clear Creek County library cardholders. Space is limited — please contact chris@cccld.org to register.
URL:https://cccldstaging1.org/event/family-snowshoe-adventure-2/
LOCATION:CO\, 80444\, United States
CATEGORIES:Adults,Kids,Library Events,Teens
GEO:39.7104468;-105.6969788
END:VEVENT
BEGIN:VEVENT
DTSTART;VALUE=DATE:20230102
DTEND;VALUE=DATE:20230103
DTSTAMP:20260424T044754
CREATED:20221206T173839Z
LAST-MODIFIED:20221206T173839Z
UID:18489-1672617600-1672703999@cccldstaging1.org
SUMMARY:Library Closed - New Year's
DESCRIPTION:
URL:https://cccldstaging1.org/event/library-closed-new-years/
LOCATION:CO\, 80444\, United States
CATEGORIES:Adults,Kids,Library Events,Teens
GEO:39.7104468;-105.6969788
END:VEVENT
BEGIN:VEVENT
DTSTART;VALUE=DATE:20221231
DTEND;VALUE=DATE:20230101
DTSTAMP:20260424T044754
CREATED:20221107T174342Z
LAST-MODIFIED:20221107T174342Z
UID:17730-1672444800-1672531199@cccldstaging1.org
SUMMARY:Library Closed - New Year's Eve
DESCRIPTION:
URL:https://cccldstaging1.org/event/library-closed-new-years-eve/
LOCATION:CO\, 80444\, United States
CATEGORIES:Adults,Kids,Library Events
GEO:39.7104468;-105.6969788
END:VEVENT
BEGIN:VEVENT
DTSTART;VALUE=DATE:20221224
DTEND;VALUE=DATE:20221227
DTSTAMP:20260424T044754
CREATED:20221006T173041Z
LAST-MODIFIED:20221006T173041Z
UID:17042-1671840000-1672099199@cccldstaging1.org
SUMMARY:Christmas Holiday - All Libraries Closed
DESCRIPTION:Happy Holidays! All Clear Creek County libraries will be closed.
URL:https://cccldstaging1.org/event/christmas-holiday/
LOCATION:CO\, 80444\, United States
CATEGORIES:Library Events
GEO:39.7104468;-105.6969788
END:VEVENT
BEGIN:VEVENT
DTSTART;TZID=America/Denver:20221130T130000
DTEND;TZID=America/Denver:20221130T150000
DTSTAMP:20260424T044754
CREATED:20221006T165955Z
LAST-MODIFIED:20221006T165955Z
UID:16990-1669813200-1669820400@cccldstaging1.org
SUMMARY:Foot Care Clinic
DESCRIPTION:Free\, senior Foot Care Clinic. Reservations are required\, call Heather at 303-567-2020. All clinics are held at the Clear Creek Recreation Center.
URL:https://cccldstaging1.org/event/foot-care-clinic-8/
LOCATION:CO\, 80444\, United States
CATEGORIES:Adults,Library Events
GEO:39.7104468;-105.6969788
END:VEVENT
BEGIN:VEVENT
DTSTART;VALUE=DATE:20221124
DTEND;VALUE=DATE:20221128
DTSTAMP:20260424T044754
CREATED:20221006T170209Z
LAST-MODIFIED:20221006T170209Z
UID:16992-1669248000-1669593599@cccldstaging1.org
SUMMARY:Thanksgiving Holiday - All Libraries Closed
DESCRIPTION:Happy Thanksgiving. All Clear Creek County Libraries are closed\, November 24 – November 28.
URL:https://cccldstaging1.org/event/thanksgiving/
LOCATION:CO\, 80444\, United States
CATEGORIES:Library Events
GEO:39.7104468;-105.6969788
END:VEVENT
BEGIN:VEVENT
DTSTART;TZID=America/Denver:20221116T173000
DTEND;TZID=America/Denver:20221116T193000
DTSTAMP:20260424T044754
CREATED:20221101T175655Z
LAST-MODIFIED:20221101T175655Z
UID:17554-1668619800-1668627000@cccldstaging1.org
SUMMARY:Library District Board Meeting - Virtual
DESCRIPTION:The Clear Creek County Library District Board of Trustees meets on the third Wednesday of the month for the rest of 2022 at 5:30 pm\, with the exception of December’s budget meeting on 12/08/2022. Meetings are held at the Local History Archives in Georgetown in odd-numbered months and at the Idaho Springs Public Library in even-numbered months with the exception of the December meeting.
URL:https://cccldstaging1.org/event/library-district-board-meeting-virtual/
LOCATION:CO\, 80444\, United States
CATEGORIES:Adults,Community Events,Library Events
GEO:39.7104468;-105.6969788
END:VEVENT
BEGIN:VEVENT
DTSTART;VALUE=DATE:20221111
DTEND;VALUE=DATE:20221112
DTSTAMP:20260424T044754
CREATED:20221006T170332Z
LAST-MODIFIED:20221006T170332Z
UID:16994-1668124800-1668211199@cccldstaging1.org
SUMMARY:Veterans Day - All Libraries Closed
DESCRIPTION:All Clear Creek County libraries will be closed.
URL:https://cccldstaging1.org/event/veterans-day/
LOCATION:CO\, 80444\, United States
CATEGORIES:Library Events
GEO:39.7104468;-105.6969788
END:VEVENT
BEGIN:VEVENT
DTSTART;TZID=America/Denver:20221104T123000
DTEND;TZID=America/Denver:20221104T150000
DTSTAMP:20260424T044754
CREATED:20220823T170701Z
LAST-MODIFIED:20220823T170701Z
UID:16996-1667565000-1667574000@cccldstaging1.org
SUMMARY:JTML & ISPL COMPASS Fridays
DESCRIPTION:Join us for FREE guided and independent activities on Friday afternoons during the school year\, funded through your Library District.
URL:https://cccldstaging1.org/event/jtml-ispl-compass-fridays-2022-11-04/
LOCATION:CO\, 80444\, United States
CATEGORIES:Kids,Library Events,Teens
GEO:39.7104468;-105.6969788
END:VEVENT
BEGIN:VEVENT
DTSTART;TZID=America/Denver:20221031T170000
DTEND;TZID=America/Denver:20221031T190000
DTSTAMP:20260424T044754
CREATED:20220920T162821Z
LAST-MODIFIED:20220920T162821Z
UID:16827-1667235600-1667242800@cccldstaging1.org
SUMMARY:ISPL & JTML BOOkfest
DESCRIPTION:Stop by the library for a FREE kids’ book and a sweet treat on Halloween night. Sponsored by Friends of the Idaho Springs Library and Friends of the Georgetown Library.
URL:https://cccldstaging1.org/event/ispl-jtml-bookfest/
LOCATION:CO\, 80444\, United States
CATEGORIES:Adults,Kids,Library Events,Teens
GEO:39.7104468;-105.6969788
END:VEVENT
BEGIN:VEVENT
DTSTART;VALUE=DATE:20221010
DTEND;VALUE=DATE:20221011
DTSTAMP:20260424T044754
CREATED:20221006T173504Z
LAST-MODIFIED:20221006T173504Z
UID:17046-1665360000-1665446399@cccldstaging1.org
SUMMARY:Staff Development Day - All Libraries Closed
DESCRIPTION:
URL:https://cccldstaging1.org/event/staff-development-day-all-libraries-closed/
LOCATION:CO\, 80444\, United States
CATEGORIES:Library Events
GEO:39.7104468;-105.6969788
END:VEVENT
BEGIN:VEVENT
DTSTART;TZID=America/Denver:20221004T150000
DTEND;TZID=America/Denver:20221004T160000
DTSTAMP:20260424T044754
CREATED:20221004T165000Z
LAST-MODIFIED:20221004T165000Z
UID:16910-1664895600-1664899200@cccldstaging1.org
SUMMARY:Adult ASL@Project Support
DESCRIPTION:American Sign Language Classes for Adults–ages 15 and up–at Project Support Senior Center – 1402 Miner St. Please email joe@cccld.org for more information and to register.
URL:https://cccldstaging1.org/event/adult-asl-2/2022-10-04/
LOCATION:CO\, 80444\, United States
CATEGORIES:Adults,Library Events,Teens
GEO:39.7104468;-105.6969788
END:VEVENT
BEGIN:VEVENT
DTSTART;TZID=America/Denver:20220910T120000
DTEND;TZID=America/Denver:20220910T140000
DTSTAMP:20260424T044754
CREATED:20220823T163044Z
LAST-MODIFIED:20220823T163044Z
UID:16634-1662811200-1662818400@cccldstaging1.org
SUMMARY:ISPL OMEGA
DESCRIPTION:Join us for food and fun at our new LBGTQ+ Social Group for kids ages 12-20. Held monthly at the Idaho Springs Public Library. For further information email joe@cccld.org.
URL:https://cccldstaging1.org/event/ispl-omega/
LOCATION:CO\, 80444\, United States
CATEGORIES:Library Events,Teens
GEO:39.7104468;-105.6969788
END:VEVENT
BEGIN:VEVENT
DTSTART;TZID=America/Denver:20220907T100000
DTEND;TZID=America/Denver:20220907T110000
DTSTAMP:20260424T044754
CREATED:20220823T162133Z
LAST-MODIFIED:20220823T162133Z
UID:16620-1662544800-1662548400@cccldstaging1.org
SUMMARY:JTML Adult ASL
DESCRIPTION:American Sign Language Classes for Adults–ages 15 and up–at the John Tomay Memorial Library. Please email joe@cccld.org for more information and to register.
URL:https://cccldstaging1.org/event/jtml-adult-asl/2022-09-07/
LOCATION:CO\, 80444\, United States
CATEGORIES:Adults,Library Events
GEO:39.7104468;-105.6969788
END:VEVENT
BEGIN:VEVENT
DTSTART;TZID=America/Denver:20220902T123000
DTEND;TZID=America/Denver:20220902T150000
DTSTAMP:20260424T044754
CREATED:20220823T170701Z
LAST-MODIFIED:20220823T170701Z
UID:16662-1662121800-1662130800@cccldstaging1.org
SUMMARY:JTML & ISPL COMPASS Fridays
DESCRIPTION:Join us for FREE guided and independent activities on Friday afternoons during the school year\, funded through your Library District.
URL:https://cccldstaging1.org/event/jtml-ispl-compass-fridays/2022-09-02/
LOCATION:CO\, 80444\, United States
CATEGORIES:Kids,Library Events,Teens
GEO:39.7104468;-105.6969788
END:VEVENT
BEGIN:VEVENT
DTSTART;TZID=America/Denver:20220826T130000
DTEND;TZID=America/Denver:20220826T140000
DTSTAMP:20260424T044754
CREATED:20220802T190144Z
LAST-MODIFIED:20220802T190144Z
UID:16432-1661518800-1661522400@cccldstaging1.org
SUMMARY:ISPL & JTML Rock Painting
DESCRIPTION:COMPASS FRIDAYS – Let your COMPASS guide you to free Friday fun at your Clear Creek County Libraries!
URL:https://cccldstaging1.org/event/ispl-jtml-rock-painting/
LOCATION:CO\, 80444\, United States
CATEGORIES:Kids,Library Events,Teens
GEO:39.7104468;-105.6969788
END:VEVENT
BEGIN:VEVENT
DTSTART;TZID=America/Denver:20220822T090000
DTEND;TZID=America/Denver:20220822T170000
DTSTAMP:20260424T044754
CREATED:20220802T190847Z
LAST-MODIFIED:20220802T190847Z
UID:16436-1661158800-1661187600@cccldstaging1.org
SUMMARY:ISPL & JTML - Adult Craft  Kit - Take & Make
DESCRIPTION:During the summer months\, we are pleased to offer take-and-make Adult Craft kits. This August\, create your own miniature suncatcher with sea glass and shells! Kits will be available for pickup at your Clear Creek County Library after August 22\, while supplies last
URL:https://cccldstaging1.org/event/adult-craft-kit-take-make/
LOCATION:CO\, 80444\, United States
CATEGORIES:Adults,Library Events
GEO:39.7104468;-105.6969788
END:VEVENT
BEGIN:VEVENT
DTSTART;TZID=America/Denver:20220822T081500
DTEND;TZID=America/Denver:20220822T151500
DTSTAMP:20260424T044754
CREATED:20220713T183624Z
LAST-MODIFIED:20220713T183624Z
UID:16348-1661156100-1661181300@cccldstaging1.org
SUMMARY:School Starts
DESCRIPTION:
URL:https://cccldstaging1.org/event/school-starts/
LOCATION:CO\, 80444\, United States
CATEGORIES:Adults,Kids,Library Events,Teens
GEO:39.7104468;-105.6969788
END:VEVENT
BEGIN:VEVENT
DTSTART;TZID=America/Denver:20220819T100000
DTEND;TZID=America/Denver:20220819T110000
DTSTAMP:20260424T044754
CREATED:20220713T184010Z
LAST-MODIFIED:20220713T184010Z
UID:16352-1660903200-1660906800@cccldstaging1.org
SUMMARY:JTML Book Group
DESCRIPTION:Everyone is welcome. Email libby@cccld.org for more information.
URL:https://cccldstaging1.org/event/jtml-book-group-8/
LOCATION:CO\, 80444\, United States
CATEGORIES:Adults,Library Events
GEO:39.7104468;-105.6969788
END:VEVENT
END:VCALENDAR