BEGIN:VCALENDAR
VERSION:2.0
PRODID:-//Clear Creek County Library District Staging - ECPv6.15.20//NONSGML v1.0//EN
CALSCALE:GREGORIAN
METHOD:PUBLISH
X-WR-CALNAME:Clear Creek County Library District Staging
X-ORIGINAL-URL:https://cccldstaging1.org
X-WR-CALDESC:Events for Clear Creek County Library District Staging
REFRESH-INTERVAL;VALUE=DURATION:PT1H
X-Robots-Tag:noindex
X-PUBLISHED-TTL:PT1H
BEGIN:VTIMEZONE
TZID:America/Denver
BEGIN:DAYLIGHT
TZOFFSETFROM:-0700
TZOFFSETTO:-0600
TZNAME:MDT
DTSTART:20220313T090000
END:DAYLIGHT
BEGIN:STANDARD
TZOFFSETFROM:-0600
TZOFFSETTO:-0700
TZNAME:MST
DTSTART:20221106T080000
END:STANDARD
BEGIN:DAYLIGHT
TZOFFSETFROM:-0700
TZOFFSETTO:-0600
TZNAME:MDT
DTSTART:20230312T090000
END:DAYLIGHT
BEGIN:STANDARD
TZOFFSETFROM:-0600
TZOFFSETTO:-0700
TZNAME:MST
DTSTART:20231105T080000
END:STANDARD
BEGIN:DAYLIGHT
TZOFFSETFROM:-0700
TZOFFSETTO:-0600
TZNAME:MDT
DTSTART:20240310T090000
END:DAYLIGHT
BEGIN:STANDARD
TZOFFSETFROM:-0600
TZOFFSETTO:-0700
TZNAME:MST
DTSTART:20241103T080000
END:STANDARD
END:VTIMEZONE
BEGIN:VEVENT
DTSTART;TZID=America/Denver:20230315T160000
DTEND;TZID=America/Denver:20230315T161500
DTSTAMP:20260425T185004
CREATED:20230202T202826Z
LAST-MODIFIED:20230202T202826Z
UID:19093-1678896000-1678896900@cccldstaging1.org
SUMMARY:HS G Soccer HOME vs KIPP Denver Collegiate 4:00 pm
DESCRIPTION:
URL:https://cccldstaging1.org/event/hs-g-soccer-home-vs-kipp-denver-collegiate-400-pm/
LOCATION:CO
CATEGORIES:Community Events
END:VEVENT
BEGIN:VEVENT
DTSTART;TZID=America/Denver:20230314T173000
DTEND;TZID=America/Denver:20230314T190000
DTSTAMP:20260425T185004
CREATED:20230124T220613Z
LAST-MODIFIED:20230124T220613Z
UID:18966-1678815000-1678820400@cccldstaging1.org
SUMMARY:ISPL Adult Craft
DESCRIPTION:Do you love to craft? Or are you craft-curious? Get creative and connect with other crafty patrons at our monthly craft workshops! No experience is necessary and all workshops are free. March’s craft is Soup in a Jar. Please email chris@cccld.org to register and for additional information.
URL:https://cccldstaging1.org/event/ispl-adult-craft-9/
LOCATION:Idaho Springs Public Library\, 219 14th Avenue\, Idaho Springs\, CO\, 80452\, United States
CATEGORIES:Adults,Library Events
GEO:39.742052;-105.5183552
X-APPLE-STRUCTURED-LOCATION;VALUE=URI;X-ADDRESS=Idaho Springs Public Library 219 14th Avenue Idaho Springs CO 80452 United States;X-APPLE-RADIUS=500;X-TITLE=219 14th Avenue:geo:-105.5183552,39.742052
END:VEVENT
BEGIN:VEVENT
DTSTART;TZID=America/Denver:20230314T153000
DTEND;TZID=America/Denver:20230314T183000
DTSTAMP:20260425T185004
CREATED:20230202T202826Z
LAST-MODIFIED:20230202T202826Z
UID:19092-1678807800-1678818600@cccldstaging1.org
SUMMARY:HS Baseball AWAY vs Colorado Academy 330/ JV 530 BUS 2:00
DESCRIPTION:
URL:https://cccldstaging1.org/event/hs-baseball-away-vs-colorado-academy-330-jv-530/
LOCATION:CO
CATEGORIES:Community Events
END:VEVENT
BEGIN:VEVENT
DTSTART;TZID=America/Denver:20230313T160000
DTEND;TZID=America/Denver:20230313T170000
DTSTAMP:20260425T185004
CREATED:20230202T202826Z
LAST-MODIFIED:20230202T202826Z
UID:19091-1678723200-1678726800@cccldstaging1.org
SUMMARY:HS G Soccer AWAY @ Windsor Charter Academy  4:00 BUS 1:30
DESCRIPTION:
URL:https://cccldstaging1.org/event/hs-g-soccer-away-windsor-charter-academy-400/
LOCATION:CO
CATEGORIES:Community Events
END:VEVENT
BEGIN:VEVENT
DTSTART;VALUE=DATE:20230312
DTEND;VALUE=DATE:20230313
DTSTAMP:20260425T185004
CREATED:20230214T203021Z
LAST-MODIFIED:20230214T203021Z
UID:19216-1678579200-1678665599@cccldstaging1.org
SUMMARY:Daylight Savings - Spring Forward
DESCRIPTION:
URL:https://cccldstaging1.org/event/daylight-savings-spring-forward/
LOCATION:CO\, 80444\, United States
CATEGORIES:Community Events,Library Events
GEO:39.7104468;-105.6969788
END:VEVENT
BEGIN:VEVENT
DTSTART;TZID=America/Denver:20230311T100000
DTEND;TZID=America/Denver:20230311T110000
DTSTAMP:20260425T185004
CREATED:20230202T202826Z
LAST-MODIFIED:20230202T202826Z
UID:19090-1678528800-1678532400@cccldstaging1.org
SUMMARY:HS Baseball AWAY @Rocky Mountain Lutheran 10:00am BUS 8:00am
DESCRIPTION:
URL:https://cccldstaging1.org/event/hs-baseball-away-rocky-mountain-lutheran-1000am/
LOCATION:CO\, 80444\, United States
CATEGORIES:Community Events
END:VEVENT
BEGIN:VEVENT
DTSTART;TZID=America/Denver:20230310T123000
DTEND;TZID=America/Denver:20230310T150000
DTSTAMP:20260425T185004
CREATED:20220823T170701Z
LAST-MODIFIED:20220823T170701Z
UID:17919-1678451400-1678460400@cccldstaging1.org
SUMMARY:ISPL COMPASS Fridays
DESCRIPTION:Join us for FREE guided and independent activities on Friday afternoons during the school year\, funded through your Library District.
URL:https://cccldstaging1.org/event/jtml-ispl-compass-fridays-2023-03-10/
LOCATION:CO\, 80444\, United States
CATEGORIES:Kids,Library Events,Teens
GEO:39.7104468;-105.6969788
END:VEVENT
BEGIN:VEVENT
DTSTART;TZID=America/Denver:20230310T080000
DTEND;TZID=America/Denver:20230310T090000
DTSTAMP:20260425T185004
CREATED:20230202T202826Z
LAST-MODIFIED:20230202T202826Z
UID:19089-1678435200-1678438800@cccldstaging1.org
SUMMARY:HS Track @ Max Marr Invitational (Berthoud) Bus 11:00
DESCRIPTION:
URL:https://cccldstaging1.org/event/hs-track-max-marr-invitational-berthoud-time-tbd/
LOCATION:CO
CATEGORIES:Community Events
END:VEVENT
BEGIN:VEVENT
DTSTART;TZID=America/Denver:20230309T160000
DTEND;TZID=America/Denver:20230309T170000
DTSTAMP:20260425T185004
CREATED:20230202T202826Z
LAST-MODIFIED:20230202T202826Z
UID:19088-1678377600-1678381200@cccldstaging1.org
SUMMARY:MS Wrestling AWAY @ EGMS Invite 4:00
DESCRIPTION:
URL:https://cccldstaging1.org/event/ms-wrestling-away-egms-invite-400/
LOCATION:CO
CATEGORIES:Community Events
END:VEVENT
BEGIN:VEVENT
DTSTART;TZID=America/Denver:20230304T090000
DTEND;TZID=America/Denver:20230304T100000
DTSTAMP:20260425T185004
CREATED:20230103T173527Z
LAST-MODIFIED:20230103T173527Z
UID:18662-1677920400-1677924000@cccldstaging1.org
SUMMARY:Middle School Girls Basketball League Championships @ Fitzsimmons bus TBD
DESCRIPTION:
URL:https://cccldstaging1.org/event/middle-school-girls-basketball-league-championships-fitzsimmons-bus-tbd/
LOCATION:CO
CATEGORIES:Community Events
END:VEVENT
BEGIN:VEVENT
DTSTART;TZID=America/Denver:20230303T123000
DTEND;TZID=America/Denver:20230303T150000
DTSTAMP:20260425T185004
CREATED:20220823T170701Z
LAST-MODIFIED:20220823T170701Z
UID:17918-1677846600-1677855600@cccldstaging1.org
SUMMARY:ISPL COMPASS Fridays
DESCRIPTION:Join us for FREE guided and independent activities on Friday afternoons during the school year\, funded through your Library District.
URL:https://cccldstaging1.org/event/jtml-ispl-compass-fridays-2023-03-03/
LOCATION:CO\, 80444\, United States
CATEGORIES:Kids,Library Events,Teens
GEO:39.7104468;-105.6969788
END:VEVENT
BEGIN:VEVENT
DTSTART;TZID=America/Denver:20230301T160000
DTEND;TZID=America/Denver:20230301T200000
DTSTAMP:20260425T185004
CREATED:20230216T221849Z
LAST-MODIFIED:20230216T221849Z
UID:19327-1677686400-1677700800@cccldstaging1.org
SUMMARY:MS Wresting AWAY @ Summit MS 4:00 BUS TBD
DESCRIPTION:
URL:https://cccldstaging1.org/event/ms-wresting-away-summit-ms-400-bus-tbd/
LOCATION:CO
CATEGORIES:Community Events
END:VEVENT
BEGIN:VEVENT
DTSTART;TZID=America/Denver:20230228T161500
DTEND;TZID=America/Denver:20230228T171500
DTSTAMP:20260425T185004
CREATED:20230227T231653Z
LAST-MODIFIED:20230227T231653Z
UID:19437-1677600900-1677604500@cccldstaging1.org
SUMMARY:MS Girls BBall HOME 4:15
DESCRIPTION:
URL:https://cccldstaging1.org/event/ms-girls-bball-home-415/
LOCATION:CO
CATEGORIES:Community Events
END:VEVENT
BEGIN:VEVENT
DTSTART;TZID=America/Denver:20230227T161500
DTEND;TZID=America/Denver:20230227T171500
DTSTAMP:20260425T185004
CREATED:20230103T173527Z
LAST-MODIFIED:20230103T173527Z
UID:18661-1677514500-1677518100@cccldstaging1.org
SUMMARY:Middle School Girls Basketball HOME vs Fitzsimmons  4:15
DESCRIPTION:
URL:https://cccldstaging1.org/event/middle-school-girls-basketball-home-vs-fitzsimmons-415/
LOCATION:CO
CATEGORIES:Community Events
END:VEVENT
BEGIN:VEVENT
DTSTART;TZID=America/Denver:20230225T080000
DTEND;TZID=America/Denver:20230225T170000
DTSTAMP:20260425T185004
CREATED:20230214T215946Z
LAST-MODIFIED:20230214T215946Z
UID:19225-1677312000-1677344400@cccldstaging1.org
SUMMARY:MS Wrestling AWAY @ Bennett 8:00am
DESCRIPTION:
URL:https://cccldstaging1.org/event/ms-wrestling-away-bennett-800am/
LOCATION:CO\, 80444\, United States
CATEGORIES:Community Events
END:VEVENT
BEGIN:VEVENT
DTSTART;TZID=America/Denver:20230224T170000
DTEND;TZID=America/Denver:20230224T190000
DTSTAMP:20260425T185004
CREATED:20230117T232905Z
LAST-MODIFIED:20230117T232905Z
UID:18854-1677258000-1677265200@cccldstaging1.org
SUMMARY:ISPL - Monster Mash Party
DESCRIPTION:Get ready to rock your best monster mash costume and show off your dance moves. Don’t miss the FUN!! Food\, face painting\, dancing\, and games. Huge thanks to Tommyknocker Brewery for donating refreshments.
URL:https://cccldstaging1.org/event/ispl-monster-mash-party/
LOCATION:Idaho Springs Public Library\, 219 14th Avenue\, Idaho Springs\, CO\, 80452\, United States
CATEGORIES:Adults,Kids,Library Events,Teens
GEO:39.742052;-105.5183552
X-APPLE-STRUCTURED-LOCATION;VALUE=URI;X-ADDRESS=Idaho Springs Public Library 219 14th Avenue Idaho Springs CO 80452 United States;X-APPLE-RADIUS=500;X-TITLE=219 14th Avenue:geo:-105.5183552,39.742052
END:VEVENT
BEGIN:VEVENT
DTSTART;TZID=America/Denver:20230224T123000
DTEND;TZID=America/Denver:20230224T150000
DTSTAMP:20260425T185004
CREATED:20220823T170701Z
LAST-MODIFIED:20220823T170701Z
UID:17917-1677241800-1677250800@cccldstaging1.org
SUMMARY:ISPL COMPASS Fridays
DESCRIPTION:Join us for FREE guided and independent activities on Friday afternoons during the school year\, funded through your Library District.
URL:https://cccldstaging1.org/event/jtml-ispl-compass-fridays-2023-02-24/
LOCATION:CO\, 80444\, United States
CATEGORIES:Kids,Library Events,Teens
GEO:39.7104468;-105.6969788
END:VEVENT
BEGIN:VEVENT
DTSTART;TZID=America/Denver:20230223T180000
DTEND;TZID=America/Denver:20230223T190000
DTSTAMP:20260425T185004
CREATED:20230201T214258Z
LAST-MODIFIED:20230201T214258Z
UID:19080-1677175200-1677178800@cccldstaging1.org
SUMMARY:GLA- Informational Reception on JTML Renovation
DESCRIPTION:Georgetown Library Association presents an informational reception on the John Tomay Memorial Library renovation. The public is invited to learn more about the upcoming renovation. Light refreshments will be served.
URL:https://cccldstaging1.org/event/gla-informational-reception-on-jtml-renovation/
LOCATION:Georgetown Heritage Center\, 809 Taos Street\, Georgetown\, CO\, 80444\, United States
CATEGORIES:Community Events,Library Events
GEO:39.7076439;-105.6959246
X-APPLE-STRUCTURED-LOCATION;VALUE=URI;X-ADDRESS=Georgetown Heritage Center 809 Taos Street Georgetown CO 80444 United States;X-APPLE-RADIUS=500;X-TITLE=809 Taos Street:geo:-105.6959246,39.7076439
END:VEVENT
BEGIN:VEVENT
DTSTART;TZID=America/Denver:20230223T173000
DTEND;TZID=America/Denver:20230223T190000
DTSTAMP:20260425T185004
CREATED:20230124T223206Z
LAST-MODIFIED:20230124T223206Z
UID:18982-1677173400-1677178800@cccldstaging1.org
SUMMARY:Adult Craft
DESCRIPTION:Do you love to craft? Or are you craft-curious? Get creative and connect with other crafty patrons at our monthly craft workshops! No experience is necessary and all workshops are free. February’s craft is a Flower Arrangement Workshop. Registration is required. Meet at Marigold – 1620 Miner St.\, Idaho Springs. Please email chris@cccld.org to register and for additional information.
URL:https://cccldstaging1.org/event/adult-craft-7/
LOCATION:CO\, 80444\, United States
CATEGORIES:Adults,Library Events
END:VEVENT
BEGIN:VEVENT
DTSTART;TZID=America/Denver:20230223T160000
DTEND;TZID=America/Denver:20230223T200000
DTSTAMP:20260425T185004
CREATED:20230202T202826Z
LAST-MODIFIED:20230202T202826Z
UID:19087-1677168000-1677182400@cccldstaging1.org
SUMMARY:MS Wrestling HOME 4:00
DESCRIPTION:
URL:https://cccldstaging1.org/event/ms-wrestling-home-400/
LOCATION:CO
CATEGORIES:Community Events
END:VEVENT
BEGIN:VEVENT
DTSTART;TZID=America/Denver:20230223T070000
DTEND;TZID=America/Denver:20230225T080000
DTSTAMP:20260425T185004
CREATED:20221101T183012Z
LAST-MODIFIED:20221101T183012Z
UID:17571-1677135600-1677312000@cccldstaging1.org
SUMMARY:HS Wrestling State TBD
DESCRIPTION:
URL:https://cccldstaging1.org/event/hs-wrestling-state-tbd/
LOCATION:CO
CATEGORIES:Community Events
END:VEVENT
BEGIN:VEVENT
DTSTART;TZID=America/Denver:20230222T183000
DTEND;TZID=America/Denver:20230222T193000
DTSTAMP:20260425T185004
CREATED:20230214T215946Z
LAST-MODIFIED:20230214T215946Z
UID:19223-1677090600-1677094200@cccldstaging1.org
SUMMARY:HS Girls BBall  1st round district Playoffs away vs Lyons 6:00
DESCRIPTION:
URL:https://cccldstaging1.org/event/hs-girls-bball-1st-round-district-playoffs-away-northridge-high-school-630pm/
LOCATION:CO\, 80444\, United States
CATEGORIES:Community Events
END:VEVENT
BEGIN:VEVENT
DTSTART;TZID=America/Denver:20230222T180000
DTEND;TZID=America/Denver:20230222T190000
DTSTAMP:20260425T185004
CREATED:20230220T225209Z
LAST-MODIFIED:20230220T225209Z
UID:19379-1677088800-1677092400@cccldstaging1.org
SUMMARY:HS Boys V Basketball Playoff game HOME time 6:00
DESCRIPTION:
URL:https://cccldstaging1.org/event/hs-boys-v-basketball-playoff-game-home-time-600/
LOCATION:CO
CATEGORIES:Community Events
END:VEVENT
BEGIN:VEVENT
DTSTART;TZID=America/Denver:20230222T161500
DTEND;TZID=America/Denver:20230222T171500
DTSTAMP:20260425T185004
CREATED:20230103T173527Z
LAST-MODIFIED:20230103T173527Z
UID:18660-1677082500-1677086100@cccldstaging1.org
SUMMARY:Middle School Girls Basketball HOME vs Gilpin 4:15
DESCRIPTION:
URL:https://cccldstaging1.org/event/middle-school-girls-basketball-home-vs-gilpin-415/
LOCATION:CO
CATEGORIES:Community Events
END:VEVENT
BEGIN:VEVENT
DTSTART;TZID=America/Denver:20230221T173000
DTEND;TZID=America/Denver:20230221T190000
DTSTAMP:20260425T185004
CREATED:20230124T223118Z
LAST-MODIFIED:20230124T223118Z
UID:18980-1677000600-1677006000@cccldstaging1.org
SUMMARY:Adult Craft
DESCRIPTION:Do you love to craft? Or are you craft-curious? Get creative and connect with other crafty patrons at our monthly craft workshops! No experience is necessary and all workshops are free. February’s craft is a Flower Arrangement Workshop. Registration is required. Meet at Marigold – 1620 Miner St.\, Idaho Springs. Please email chris@cccld.org to register and for additional information.
URL:https://cccldstaging1.org/event/adult-craft-6/
LOCATION:CO\, 80444\, United States
CATEGORIES:Adults,Library Events
END:VEVENT
BEGIN:VEVENT
DTSTART;TZID=America/Denver:20230221T160000
DTEND;TZID=America/Denver:20230221T170000
DTSTAMP:20260425T185004
CREATED:20230202T202826Z
LAST-MODIFIED:20230202T202826Z
UID:19086-1676995200-1676998800@cccldstaging1.org
SUMMARY:MS G BBALL HOME vs Bennett 4:00
DESCRIPTION:
URL:https://cccldstaging1.org/event/ms-g-bball-home-vs-bennett-400/
LOCATION:CO
CATEGORIES:Community Events
END:VEVENT
BEGIN:VEVENT
DTSTART;VALUE=DATE:20230220
DTEND;VALUE=DATE:20230221
DTSTAMP:20260425T185004
CREATED:20230124T154459Z
LAST-MODIFIED:20230124T154459Z
UID:18926-1676851200-1676937599@cccldstaging1.org
SUMMARY:LIBRARY CLOSED
DESCRIPTION:Presidents Day
URL:https://cccldstaging1.org/event/library-closed-3/
LOCATION:CO\, 80444\, United States
CATEGORIES:Library Events
GEO:39.7104468;-105.6969788
END:VEVENT
BEGIN:VEVENT
DTSTART;TZID=America/Denver:20230218T090000
DTEND;TZID=America/Denver:20230218T120000
DTSTAMP:20260425T185004
CREATED:20230103T173526Z
LAST-MODIFIED:20230103T173526Z
UID:18659-1676710800-1676721600@cccldstaging1.org
SUMMARY:Middle School Girls Basketball AWAY @ Gilpin 9am Bus TBD
DESCRIPTION:
URL:https://cccldstaging1.org/event/middle-school-girls-basketball-away-gilpin-9am-bus-tbd/
LOCATION:CO
CATEGORIES:Community Events
END:VEVENT
BEGIN:VEVENT
DTSTART;TZID=America/Denver:20230217T161500
DTEND;TZID=America/Denver:20230217T181500
DTSTAMP:20260425T185004
CREATED:20230213T215340Z
LAST-MODIFIED:20230213T215340Z
UID:19210-1676650500-1676657700@cccldstaging1.org
SUMMARY:MS G BBall AWAY @ Gilpin :415 & Ft. Logan 5:15
DESCRIPTION:
URL:https://cccldstaging1.org/event/ms-g-bball-away-gilpin-415-ft-logan-515/
LOCATION:CO
CATEGORIES:Community Events
END:VEVENT
BEGIN:VEVENT
DTSTART;TZID=America/Denver:20230217T140000
DTEND;TZID=America/Denver:20230218T200000
DTSTAMP:20260425T185004
CREATED:20221101T183012Z
LAST-MODIFIED:20221101T183012Z
UID:17570-1676642400-1676750400@cccldstaging1.org
SUMMARY:HS Wrestling Regionals Leaving @10am from CCHS
DESCRIPTION:
URL:https://cccldstaging1.org/event/hs-wrestling-regionals-tbd/
LOCATION:CO\, 80444\, United States
CATEGORIES:Community Events
END:VEVENT
END:VCALENDAR