BEGIN:VCALENDAR
VERSION:2.0
PRODID:-//Clear Creek County Library District Staging - ECPv6.15.20//NONSGML v1.0//EN
CALSCALE:GREGORIAN
METHOD:PUBLISH
X-ORIGINAL-URL:https://cccldstaging1.org
X-WR-CALDESC:Events for Clear Creek County Library District Staging
REFRESH-INTERVAL;VALUE=DURATION:PT1H
X-Robots-Tag:noindex
X-PUBLISHED-TTL:PT1H
BEGIN:VTIMEZONE
TZID:America/Denver
BEGIN:DAYLIGHT
TZOFFSETFROM:-0700
TZOFFSETTO:-0600
TZNAME:MDT
DTSTART:20220313T090000
END:DAYLIGHT
BEGIN:STANDARD
TZOFFSETFROM:-0600
TZOFFSETTO:-0700
TZNAME:MST
DTSTART:20221106T080000
END:STANDARD
BEGIN:DAYLIGHT
TZOFFSETFROM:-0700
TZOFFSETTO:-0600
TZNAME:MDT
DTSTART:20230312T090000
END:DAYLIGHT
BEGIN:STANDARD
TZOFFSETFROM:-0600
TZOFFSETTO:-0700
TZNAME:MST
DTSTART:20231105T080000
END:STANDARD
BEGIN:DAYLIGHT
TZOFFSETFROM:-0700
TZOFFSETTO:-0600
TZNAME:MDT
DTSTART:20240310T090000
END:DAYLIGHT
BEGIN:STANDARD
TZOFFSETFROM:-0600
TZOFFSETTO:-0700
TZNAME:MST
DTSTART:20241103T080000
END:STANDARD
END:VTIMEZONE
BEGIN:VEVENT
DTSTART;TZID=America/Denver:20230407T080000
DTEND;TZID=America/Denver:20230407T090000
DTSTAMP:20260425T133303
CREATED:20230215T222031Z
LAST-MODIFIED:20230215T222031Z
UID:19244-1680854400-1680858000@cccldstaging1.org
SUMMARY:HS Track AWAY Birds of Prey invitational Time TBD
DESCRIPTION:
URL:https://cccldstaging1.org/event/hs-track-away-birds-of-prey-invitational-time-tbd/
LOCATION:CO
CATEGORIES:Community Events
END:VEVENT
BEGIN:VEVENT
DTSTART;TZID=America/Denver:20230406T173000
DTEND;TZID=America/Denver:20230406T190000
DTSTAMP:20260425T133303
CREATED:20230307T210503Z
LAST-MODIFIED:20230307T210503Z
UID:19500-1680802200-1680807600@cccldstaging1.org
SUMMARY:JTML Adult Craft
DESCRIPTION:Do you love to craft? Or are you craft-curious? Get creative and connect with other crafty patrons at our monthly craft workshops! No experience is necessary and all workshops are free. April’s craft is Ukranian Eggs with Megan Vickers. Please email chris@cccld.org to register and for additional information.
URL:https://cccldstaging1.org/event/jtml-adult-craft-10/
LOCATION:John Tomay Memorial Library\, 605 6th Street\, Georgetown\, CO\, 80444\, United States
CATEGORIES:Adults,Library Events
GEO:39.7061997;-105.6974142
X-APPLE-STRUCTURED-LOCATION;VALUE=URI;X-ADDRESS=John Tomay Memorial Library 605 6th Street Georgetown CO 80444 United States;X-APPLE-RADIUS=500;X-TITLE=605 6th Street:geo:-105.6974142,39.7061997
END:VEVENT
BEGIN:VEVENT
DTSTART;TZID=America/Denver:20230406T160000
DTEND;TZID=America/Denver:20230406T170000
DTSTAMP:20260425T133303
CREATED:20230215T222031Z
LAST-MODIFIED:20230215T222031Z
UID:19242-1680796800-1680800400@cccldstaging1.org
SUMMARY:HS Baseball HOME vs Dayspring Christian 4:00
DESCRIPTION:
URL:https://cccldstaging1.org/event/hs-baseball-home-vs-dayspring-christian-400/
LOCATION:CO
CATEGORIES:Community Events
END:VEVENT
BEGIN:VEVENT
DTSTART;TZID=America/Denver:20230406T160000
DTEND;TZID=America/Denver:20230406T170000
DTSTAMP:20260425T133303
CREATED:20230328T154410Z
LAST-MODIFIED:20230328T154410Z
UID:19709-1680796800-1680800400@cccldstaging1.org
SUMMARY:HS Baseball HOME vs Dayspring Christian 4:00
DESCRIPTION:
URL:https://cccldstaging1.org/event/hs-baseball-home-vs-dayspring-christian-400-2/
LOCATION:CO
CATEGORIES:Community Events
END:VEVENT
BEGIN:VEVENT
DTSTART;TZID=America/Denver:20230406T160000
DTEND;TZID=America/Denver:20230406T170000
DTSTAMP:20260425T133303
CREATED:20230215T222031Z
LAST-MODIFIED:20230215T222031Z
UID:19243-1680796800-1680800400@cccldstaging1.org
SUMMARY:HS Girls Soccer AWAY @ Lake County 4:00
DESCRIPTION:
URL:https://cccldstaging1.org/event/hs-girls-soccer-away-lake-county-400/
LOCATION:CO
CATEGORIES:Community Events
END:VEVENT
BEGIN:VEVENT
DTSTART;TZID=America/Denver:20230406T111500
DTEND;TZID=America/Denver:20230406T121500
DTSTAMP:20260425T133303
CREATED:20230331T220649Z
LAST-MODIFIED:20230331T220649Z
UID:19832-1680779700-1680783300@cccldstaging1.org
SUMMARY:JTML Storytime & Sign Language
DESCRIPTION:Join us for storytime\, crafts\, and sign language at the John Tomay Memorial Library.
URL:https://cccldstaging1.org/event/jtml-storytime-sign-language/2023-04-06/
LOCATION:John Tomay Memorial Library\, 605 6th Street\, Georgetown\, CO\, 80444\, United States
CATEGORIES:Adults,Kids,Library Events
GEO:39.7061997;-105.6974142
X-APPLE-STRUCTURED-LOCATION;VALUE=URI;X-ADDRESS=John Tomay Memorial Library 605 6th Street Georgetown CO 80444 United States;X-APPLE-RADIUS=500;X-TITLE=605 6th Street:geo:-105.6974142,39.7061997
END:VEVENT
BEGIN:VEVENT
DTSTART;TZID=America/Denver:20230405T183000
DTEND;TZID=America/Denver:20230405T193000
DTSTAMP:20260425T133303
CREATED:20230331T154455Z
LAST-MODIFIED:20230331T154455Z
UID:19805-1680719400-1680723000@cccldstaging1.org
SUMMARY:HS Wrestling Banquet 630 athletic commons
DESCRIPTION:
URL:https://cccldstaging1.org/event/hs-wrestling-banquet-630-athletic-commons/
LOCATION:CO
CATEGORIES:Community Events
END:VEVENT
BEGIN:VEVENT
DTSTART;TZID=America/Denver:20230405T160000
DTEND;TZID=America/Denver:20230405T170000
DTSTAMP:20260425T133303
CREATED:20230328T154409Z
LAST-MODIFIED:20230328T154409Z
UID:19707-1680710400-1680714000@cccldstaging1.org
SUMMARY:MS Baseball AWAY @Jaycee Park TIME: 4:00 Bus Departure 2:00
DESCRIPTION:
URL:https://cccldstaging1.org/event/ms-baseball-away-jaycee-park-time-400/
LOCATION:CO\, 80444\, United States
CATEGORIES:Community Events
END:VEVENT
BEGIN:VEVENT
DTSTART;TZID=America/Denver:20230404T180000
DTEND;TZID=America/Denver:20230404T190000
DTSTAMP:20260425T133303
CREATED:20230202T202827Z
LAST-MODIFIED:20230202T202827Z
UID:19105-1680631200-1680634800@cccldstaging1.org
SUMMARY:HS G Soccer AWAY @Wellington 6:00
DESCRIPTION:
URL:https://cccldstaging1.org/event/hs-g-soccer-away-wellington-600/
LOCATION:CO
CATEGORIES:Community Events
END:VEVENT
BEGIN:VEVENT
DTSTART;TZID=America/Denver:20230404T173000
DTEND;TZID=America/Denver:20230404T190000
DTSTAMP:20260425T133303
CREATED:20230307T210409Z
LAST-MODIFIED:20230307T210409Z
UID:19498-1680629400-1680634800@cccldstaging1.org
SUMMARY:CANCELLED ISPL Adult Craft
DESCRIPTION:CANCELLED DUE TO WEATHER – Rescheduled for April 18. Do you love to craft? Or are you craft-curious? Get creative and connect with other crafty patrons at our monthly craft workshops! No experience is necessary and all workshops are free. April’s craft is Ukranian Eggs with Megan Vickers. Please email chris@cccld.org to register and for additional information.
URL:https://cccldstaging1.org/event/ispl-adult-craft-10/
LOCATION:Idaho Springs Public Library\, 219 14th Avenue\, Idaho Springs\, CO\, 80452\, United States
CATEGORIES:Adults,Library Events
GEO:39.742052;-105.5183552
X-APPLE-STRUCTURED-LOCATION;VALUE=URI;X-ADDRESS=Idaho Springs Public Library 219 14th Avenue Idaho Springs CO 80452 United States;X-APPLE-RADIUS=500;X-TITLE=219 14th Avenue:geo:-105.5183552,39.742052
END:VEVENT
BEGIN:VEVENT
DTSTART;TZID=America/Denver:20230404T161500
DTEND;TZID=America/Denver:20230404T171500
DTSTAMP:20260425T133303
CREATED:20230202T202827Z
LAST-MODIFIED:20230202T202827Z
UID:19104-1680624900-1680628500@cccldstaging1.org
SUMMARY:HS LAX HOME vs PALMER 4:15
DESCRIPTION:
URL:https://cccldstaging1.org/event/hs-lax-home-vs-palmer-415/
LOCATION:CO
CATEGORIES:Community Events
END:VEVENT
BEGIN:VEVENT
DTSTART;TZID=America/Denver:20230404T111500
DTEND;TZID=America/Denver:20230404T121500
DTSTAMP:20260425T133303
CREATED:20230331T220502Z
LAST-MODIFIED:20230331T220502Z
UID:19827-1680606900-1680610500@cccldstaging1.org
SUMMARY:ISPL Storytime & Sign Language
DESCRIPTION:Join us for storytime\, crafts\, and sign language at the Idaho Springs Public Library.
URL:https://cccldstaging1.org/event/ispl-storytime-sign-language/2023-04-04/
LOCATION:Idaho Springs Public Library\, 219 14th Avenue\, Idaho Springs\, CO\, 80452\, United States
CATEGORIES:Adults,Kids,Library Events
GEO:39.742052;-105.5183552
X-APPLE-STRUCTURED-LOCATION;VALUE=URI;X-ADDRESS=Idaho Springs Public Library 219 14th Avenue Idaho Springs CO 80452 United States;X-APPLE-RADIUS=500;X-TITLE=219 14th Avenue:geo:-105.5183552,39.742052
END:VEVENT
BEGIN:VEVENT
DTSTART;TZID=America/Denver:20230403T160000
DTEND;TZID=America/Denver:20230403T170000
DTSTAMP:20260425T133303
CREATED:20230202T202827Z
LAST-MODIFIED:20230202T202827Z
UID:19103-1680537600-1680541200@cccldstaging1.org
SUMMARY:HS Baseball HOME vs Front Range Christian 4:00
DESCRIPTION:
URL:https://cccldstaging1.org/event/hs-baseball-home-vs-front-range-christian-400/
LOCATION:CO
CATEGORIES:Community Events
END:VEVENT
BEGIN:VEVENT
DTSTART;TZID=America/Denver:20230403T160000
DTEND;TZID=America/Denver:20230403T170000
DTSTAMP:20260425T133303
CREATED:20230223T231759Z
LAST-MODIFIED:20230223T231759Z
UID:19399-1680537600-1680541200@cccldstaging1.org
SUMMARY:HS G Soccer AWAY@ Nederland 4:00 BUS 2:30
DESCRIPTION:
URL:https://cccldstaging1.org/event/hs-g-soccer-away-nederland-400-bus-tbd/
LOCATION:CO
CATEGORIES:Community Events
END:VEVENT
BEGIN:VEVENT
DTSTART;TZID=America/Denver:20230401T110000
DTEND;TZID=America/Denver:20230401T120000
DTSTAMP:20260425T133303
CREATED:20230202T202826Z
LAST-MODIFIED:20230202T202826Z
UID:19102-1680346800-1680350400@cccldstaging1.org
SUMMARY:HS Baseball HOME vs Gilpin 11:00
DESCRIPTION:
URL:https://cccldstaging1.org/event/hs-baseball-home-vs-gilpin-1100/
LOCATION:CO
CATEGORIES:Community Events
END:VEVENT
BEGIN:VEVENT
DTSTART;TZID=America/Denver:20230401T070000
DTEND;TZID=America/Denver:20230401T080000
DTSTAMP:20260425T133303
CREATED:20230202T202826Z
LAST-MODIFIED:20230202T202826Z
UID:19101-1680332400-1680336000@cccldstaging1.org
SUMMARY:HS Track AWAY @ Kiowa Classic Bus 6:15
DESCRIPTION:
URL:https://cccldstaging1.org/event/hs-track-away-kiowa-classic-time-tbd/
LOCATION:CO
CATEGORIES:Community Events
END:VEVENT
BEGIN:VEVENT
DTSTART;TZID=America/Denver:20230331T160000
DTEND;TZID=America/Denver:20230331T170000
DTSTAMP:20260425T133303
CREATED:20230202T202826Z
LAST-MODIFIED:20230202T202826Z
UID:19100-1680278400-1680282000@cccldstaging1.org
SUMMARY:HS LAX HOME vs Smoky Hill High School 4:00
DESCRIPTION:
URL:https://cccldstaging1.org/event/hs-lax-home-vs-bishop-machebeuf-400/
LOCATION:CO
CATEGORIES:Community Events
END:VEVENT
BEGIN:VEVENT
DTSTART;TZID=America/Denver:20230331T130000
DTEND;TZID=America/Denver:20230331T140000
DTSTAMP:20260425T133303
CREATED:20230216T221849Z
LAST-MODIFIED:20230216T221849Z
UID:19328-1680267600-1680271200@cccldstaging1.org
SUMMARY:MS Girls Soccer HOME vs Gilpin Time 1:00
DESCRIPTION:
URL:https://cccldstaging1.org/event/ms-girls-soccer-home-vs-gilpin-time-300/
LOCATION:CO
CATEGORIES:Community Events
END:VEVENT
BEGIN:VEVENT
DTSTART;TZID=America/Denver:20230330T160000
DTEND;TZID=America/Denver:20230330T170000
DTSTAMP:20260425T133303
CREATED:20230202T202826Z
LAST-MODIFIED:20230202T202826Z
UID:19099-1680192000-1680195600@cccldstaging1.org
SUMMARY:HS G Soccer HOME vs Bishop Machebeuf 4:00
DESCRIPTION:
URL:https://cccldstaging1.org/event/hs-g-soccer-home-vs-bishop-machebeuf-400/
LOCATION:CO
CATEGORIES:Community Events
END:VEVENT
BEGIN:VEVENT
DTSTART;TZID=America/Denver:20230329T160000
DTEND;TZID=America/Denver:20230329T170000
DTSTAMP:20260425T133303
CREATED:20230329T154343Z
LAST-MODIFIED:20230329T154343Z
UID:19752-1680105600-1680109200@cccldstaging1.org
SUMMARY:HS Soccer HOME vs Loveland Classical 4:00
DESCRIPTION:
URL:https://cccldstaging1.org/event/hs-soccer-home-vs-loveland-classical-400/
LOCATION:CO
CATEGORIES:Community Events
END:VEVENT
BEGIN:VEVENT
DTSTART;TZID=America/Denver:20230328T183000
DTEND;TZID=America/Denver:20230328T200000
DTSTAMP:20260425T133303
CREATED:20230307T161659Z
LAST-MODIFIED:20230307T161659Z
UID:19493-1680028200-1680033600@cccldstaging1.org
SUMMARY:Friends of the Idaho Springs Library Annual Meeting
DESCRIPTION:Friends of the Idaho Springs Library Annual Meeting and Author Panel. Refreshments!
URL:https://cccldstaging1.org/event/friends-of-the-idaho-springs-library-annual-meeting/
LOCATION:Idaho Springs Public Library\, 219 14th Avenue\, Idaho Springs\, CO\, 80452\, United States
CATEGORIES:Library Events
GEO:39.742052;-105.5183552
X-APPLE-STRUCTURED-LOCATION;VALUE=URI;X-ADDRESS=Idaho Springs Public Library 219 14th Avenue Idaho Springs CO 80452 United States;X-APPLE-RADIUS=500;X-TITLE=219 14th Avenue:geo:-105.5183552,39.742052
END:VEVENT
BEGIN:VEVENT
DTSTART;TZID=America/Denver:20230328T160000
DTEND;TZID=America/Denver:20230328T170000
DTSTAMP:20260425T133303
CREATED:20230215T222031Z
LAST-MODIFIED:20230215T222031Z
UID:19241-1680019200-1680022800@cccldstaging1.org
SUMMARY:HS Baseball AWAY @ Sheridan 4:00
DESCRIPTION:
URL:https://cccldstaging1.org/event/hs-baseball-away-sheridan-400-2/
LOCATION:CO
CATEGORIES:Community Events
END:VEVENT
BEGIN:VEVENT
DTSTART;TZID=America/Denver:20230328T160000
DTEND;TZID=America/Denver:20230328T170000
DTSTAMP:20260425T133303
CREATED:20230202T202826Z
LAST-MODIFIED:20230202T202826Z
UID:19098-1680019200-1680022800@cccldstaging1.org
SUMMARY:HS Baseball AWAY @ Sheridan 4:00
DESCRIPTION:
URL:https://cccldstaging1.org/event/hs-baseball-away-sheridan-400/
LOCATION:CO
CATEGORIES:Community Events
END:VEVENT
BEGIN:VEVENT
DTSTART;TZID=America/Denver:20230328T160000
DTEND;TZID=America/Denver:20230328T170000
DTSTAMP:20260425T133303
CREATED:20230202T202826Z
LAST-MODIFIED:20230202T202826Z
UID:19097-1680019200-1680022800@cccldstaging1.org
SUMMARY:HS G Soccer AWAY VS Twin Peaks Charter Academy 4:00 Bus:2:00
DESCRIPTION:
URL:https://cccldstaging1.org/event/hs-g-soccer-away-vs-twin-peaks-charter-academy-400/
LOCATION:CO\, 80444\, United States
CATEGORIES:Community Events
END:VEVENT
BEGIN:VEVENT
DTSTART;TZID=America/Denver:20230327T160000
DTEND;TZID=America/Denver:20230327T170000
DTSTAMP:20260425T133303
CREATED:20230202T202826Z
LAST-MODIFIED:20230202T202826Z
UID:19096-1679932800-1679936400@cccldstaging1.org
SUMMARY:HS  G Soccer HOME vs Loveland Classical 4:00
DESCRIPTION:
URL:https://cccldstaging1.org/event/hs-g-soccer-home-vs-loveland-classical-400/
LOCATION:CO
CATEGORIES:Community Events
END:VEVENT
BEGIN:VEVENT
DTSTART;VALUE=DATE:20230320
DTEND;VALUE=DATE:20230325
DTSTAMP:20260425T133303
CREATED:20230214T203131Z
LAST-MODIFIED:20230214T203131Z
UID:19218-1679270400-1679702399@cccldstaging1.org
SUMMARY:Spring Break - Clear Creek County Schools
DESCRIPTION:
URL:https://cccldstaging1.org/event/spring-break-clear-creek-county-schools/
LOCATION:CO\, 80444\, United States
CATEGORIES:Community Events,Library Events
GEO:39.7104468;-105.6969788
END:VEVENT
BEGIN:VEVENT
DTSTART;TZID=America/Denver:20230317T123000
DTEND;TZID=America/Denver:20230317T150000
DTSTAMP:20260425T133303
CREATED:20220823T170701Z
LAST-MODIFIED:20220823T170701Z
UID:17920-1679056200-1679065200@cccldstaging1.org
SUMMARY:ISPL COMPASS Fridays
DESCRIPTION:Join us for FREE guided and independent activities on Friday afternoons during the school year\, funded through your Library District.
URL:https://cccldstaging1.org/event/jtml-ispl-compass-fridays-2023-03-17/
LOCATION:CO\, 80444\, United States
CATEGORIES:Kids,Library Events,Teens
GEO:39.7104468;-105.6969788
END:VEVENT
BEGIN:VEVENT
DTSTART;TZID=America/Denver:20230317T080000
DTEND;TZID=America/Denver:20230317T090000
DTSTAMP:20260425T133303
CREATED:20230202T202826Z
LAST-MODIFIED:20230202T202826Z
UID:19095-1679040000-1679043600@cccldstaging1.org
SUMMARY:HS Track :Weld Central Early Season Invite : Time TBD
DESCRIPTION:
URL:https://cccldstaging1.org/event/hs-track-weld-central-early-season-invite-time-tbd/
LOCATION:CO
CATEGORIES:Community Events
END:VEVENT
BEGIN:VEVENT
DTSTART;TZID=America/Denver:20230316T173000
DTEND;TZID=America/Denver:20230316T190000
DTSTAMP:20260425T133303
CREATED:20230124T220710Z
LAST-MODIFIED:20230124T220710Z
UID:18968-1678987800-1678993200@cccldstaging1.org
SUMMARY:JTML Adult Craft
DESCRIPTION:Do you love to craft? Or are you craft-curious? Get creative and connect with other crafty patrons at our monthly craft workshops! No experience is necessary and all workshops are free. March’s craft is Soup in a Jar. Please email chris@cccld.org to register and for additional information.
URL:https://cccldstaging1.org/event/jtml-adult-craft-9/
LOCATION:John Tomay Memorial Library\, 605 6th Street\, Georgetown\, CO\, 80444\, United States
CATEGORIES:Adults,Library Events
GEO:39.7061997;-105.6974142
X-APPLE-STRUCTURED-LOCATION;VALUE=URI;X-ADDRESS=John Tomay Memorial Library 605 6th Street Georgetown CO 80444 United States;X-APPLE-RADIUS=500;X-TITLE=605 6th Street:geo:-105.6974142,39.7061997
END:VEVENT
BEGIN:VEVENT
DTSTART;TZID=America/Denver:20230316T161500
DTEND;TZID=America/Denver:20230316T171500
DTSTAMP:20260425T133303
CREATED:20230202T202826Z
LAST-MODIFIED:20230202T202826Z
UID:19094-1678983300-1678986900@cccldstaging1.org
SUMMARY:HS Baseball away at Ellicott High School 4:15
DESCRIPTION:
URL:https://cccldstaging1.org/event/hs-baseball-away-at-ellicott-high-school-415/
LOCATION:CO
CATEGORIES:Community Events
END:VEVENT
END:VCALENDAR