BEGIN:VCALENDAR
VERSION:2.0
PRODID:-//Clear Creek County Library District Staging - ECPv6.15.20//NONSGML v1.0//EN
CALSCALE:GREGORIAN
METHOD:PUBLISH
X-WR-CALNAME:Clear Creek County Library District Staging
X-ORIGINAL-URL:https://cccldstaging1.org
X-WR-CALDESC:Events for Clear Creek County Library District Staging
REFRESH-INTERVAL;VALUE=DURATION:PT1H
X-Robots-Tag:noindex
X-PUBLISHED-TTL:PT1H
BEGIN:VTIMEZONE
TZID:America/Denver
BEGIN:DAYLIGHT
TZOFFSETFROM:-0700
TZOFFSETTO:-0600
TZNAME:MDT
DTSTART:20220313T090000
END:DAYLIGHT
BEGIN:STANDARD
TZOFFSETFROM:-0600
TZOFFSETTO:-0700
TZNAME:MST
DTSTART:20221106T080000
END:STANDARD
BEGIN:DAYLIGHT
TZOFFSETFROM:-0700
TZOFFSETTO:-0600
TZNAME:MDT
DTSTART:20230312T090000
END:DAYLIGHT
BEGIN:STANDARD
TZOFFSETFROM:-0600
TZOFFSETTO:-0700
TZNAME:MST
DTSTART:20231105T080000
END:STANDARD
BEGIN:DAYLIGHT
TZOFFSETFROM:-0700
TZOFFSETTO:-0600
TZNAME:MDT
DTSTART:20240310T090000
END:DAYLIGHT
BEGIN:STANDARD
TZOFFSETFROM:-0600
TZOFFSETTO:-0700
TZNAME:MST
DTSTART:20241103T080000
END:STANDARD
END:VTIMEZONE
BEGIN:VEVENT
DTSTART;TZID=America/Denver:20230926T160000
DTEND;TZID=America/Denver:20230926T180000
DTSTAMP:20260424T104040
CREATED:20230518T180455Z
LAST-MODIFIED:20230518T180455Z
UID:20288-1695744000-1695751200@cccldstaging1.org
SUMMARY:MS Volleyball AWAY @ Lake County 4/5
DESCRIPTION:
URL:https://cccldstaging1.org/event/ms-volleyball-away-lake-county-4-5/
LOCATION:CO
CATEGORIES:Community Events
END:VEVENT
BEGIN:VEVENT
DTSTART;TZID=America/Denver:20230926T160000
DTEND;TZID=America/Denver:20230926T170000
DTSTAMP:20260424T104040
CREATED:20230518T180455Z
LAST-MODIFIED:20230518T180455Z
UID:20287-1695744000-1695747600@cccldstaging1.org
SUMMARY:MS Football AWAY @ South Park
DESCRIPTION:
URL:https://cccldstaging1.org/event/ms-football-away-south-park/
LOCATION:CO
CATEGORIES:Community Events
END:VEVENT
BEGIN:VEVENT
DTSTART;TZID=America/Denver:20230923T140000
DTEND;TZID=America/Denver:20230923T150000
DTSTAMP:20260424T104040
CREATED:20230518T180455Z
LAST-MODIFIED:20230518T180455Z
UID:20286-1695477600-1695481200@cccldstaging1.org
SUMMARY:HS Football AWAY @ Sheridan 2:00
DESCRIPTION:
URL:https://cccldstaging1.org/event/hs-football-away-sheridan-200/
LOCATION:CO
CATEGORIES:Community Events
END:VEVENT
BEGIN:VEVENT
DTSTART;TZID=America/Denver:20230922T160000
DTEND;TZID=America/Denver:20230922T190000
DTSTAMP:20260424T104040
CREATED:20230518T180454Z
LAST-MODIFIED:20230518T180454Z
UID:20285-1695398400-1695409200@cccldstaging1.org
SUMMARY:HS Volleyball HOME vs Highland 4/5/6
DESCRIPTION:
URL:https://cccldstaging1.org/event/hs-volleyball-home-vs-highland-4-5-6/
LOCATION:CO
CATEGORIES:Community Events
END:VEVENT
BEGIN:VEVENT
DTSTART;TZID=America/Denver:20230922T140000
DTEND;TZID=America/Denver:20230922T160000
DTSTAMP:20260424T104040
CREATED:20230808T165439Z
LAST-MODIFIED:20230808T165439Z
UID:21189-1695391200-1695398400@cccldstaging1.org
SUMMARY:JTML-Virtual Reality
DESCRIPTION:Explore new worlds and great games at our virtual reality sessions for tweens and teens (ages 12 years and older). Registration is required. Please email heather@cccld.org to learn more and save your spot.
URL:https://cccldstaging1.org/event/jtml-virtual-reality-6/2023-09-22/
LOCATION:John Tomay Memorial Library\, 605 6th Street\, Georgetown\, CO\, 80444\, United States
CATEGORIES:Library Events,Teens
GEO:39.7061997;-105.6974142
X-APPLE-STRUCTURED-LOCATION;VALUE=URI;X-ADDRESS=John Tomay Memorial Library 605 6th Street Georgetown CO 80444 United States;X-APPLE-RADIUS=500;X-TITLE=605 6th Street:geo:-105.6974142,39.7061997
END:VEVENT
BEGIN:VEVENT
DTSTART;TZID=America/Denver:20230921T150000
DTEND;TZID=America/Denver:20230921T170000
DTSTAMP:20260424T104040
CREATED:20230615T214632Z
LAST-MODIFIED:20230615T214632Z
UID:20771-1695308400-1695315600@cccldstaging1.org
SUMMARY:JTML Book Group
DESCRIPTION:Everyone is welcome. Email libby@cccld.org for more information.
URL:https://cccldstaging1.org/event/jtml-book-group-14/2023-09-21/
LOCATION:John Tomay Memorial Library\, 605 6th Street\, Georgetown\, CO\, 80444\, United States
CATEGORIES:Adults,Library Events
GEO:39.7061997;-105.6974142
X-APPLE-STRUCTURED-LOCATION;VALUE=URI;X-ADDRESS=John Tomay Memorial Library 605 6th Street Georgetown CO 80444 United States;X-APPLE-RADIUS=500;X-TITLE=605 6th Street:geo:-105.6974142,39.7061997
END:VEVENT
BEGIN:VEVENT
DTSTART;TZID=America/Denver:20230919T160000
DTEND;TZID=America/Denver:20230919T190000
DTSTAMP:20260424T104040
CREATED:20230518T180454Z
LAST-MODIFIED:20230518T180454Z
UID:20283-1695139200-1695150000@cccldstaging1.org
SUMMARY:HS Volleyball AWAY@ Denver Christian 4/5/6 Bus:
DESCRIPTION:
URL:https://cccldstaging1.org/event/hs-volleyball-away-denver-christian-4-5-6-bus/
LOCATION:CO
CATEGORIES:Community Events
END:VEVENT
BEGIN:VEVENT
DTSTART;TZID=America/Denver:20230919T160000
DTEND;TZID=America/Denver:20230919T170000
DTSTAMP:20260424T104040
CREATED:20230518T180454Z
LAST-MODIFIED:20230518T180454Z
UID:20284-1695139200-1695142800@cccldstaging1.org
SUMMARY:MS Football HOME vs Estes Park
DESCRIPTION:
URL:https://cccldstaging1.org/event/ms-football-home-vs-estes-park/
LOCATION:CO
CATEGORIES:Community Events
END:VEVENT
BEGIN:VEVENT
DTSTART;TZID=America/Denver:20230918T163000
DTEND;TZID=America/Denver:20230918T183000
DTSTAMP:20260424T104040
CREATED:20230518T180454Z
LAST-MODIFIED:20230518T180454Z
UID:20282-1695054600-1695061800@cccldstaging1.org
SUMMARY:MS Volleyball HOME vs East Grand MS 4:30/5:30
DESCRIPTION:
URL:https://cccldstaging1.org/event/ms-volleyball-home-vs-east-grand-ms-430-530/
LOCATION:CO
CATEGORIES:Community Events
END:VEVENT
BEGIN:VEVENT
DTSTART;TZID=America/Denver:20230914T190000
DTEND;TZID=America/Denver:20230914T200000
DTSTAMP:20260424T104040
CREATED:20230517T174923Z
LAST-MODIFIED:20230517T174923Z
UID:20259-1694718000-1694721600@cccldstaging1.org
SUMMARY:HS Football HOME vs Roaring Fork
DESCRIPTION:
URL:https://cccldstaging1.org/event/hs-football-home-vs-roaring-fork/
LOCATION:CO
CATEGORIES:Community Events
END:VEVENT
BEGIN:VEVENT
DTSTART;TZID=America/Denver:20230914T173000
DTEND;TZID=America/Denver:20230914T193000
DTSTAMP:20260424T104040
CREATED:20230727T163212Z
LAST-MODIFIED:20230727T163212Z
UID:21091-1694712600-1694719800@cccldstaging1.org
SUMMARY:JTML Adult Craft
DESCRIPTION:Join us each month for a great adult craft at the John Tomay Memorial Library. This month’s craft is Jewelry with Kate. For information and to register email chris@cccld.org
URL:https://cccldstaging1.org/event/jtml-adult-craft-11/
LOCATION:John Tomay Memorial Library\, 605 6th Street\, Georgetown\, CO\, 80444\, United States
CATEGORIES:Adults,Library Events
GEO:39.7061997;-105.6974142
X-APPLE-STRUCTURED-LOCATION;VALUE=URI;X-ADDRESS=John Tomay Memorial Library 605 6th Street Georgetown CO 80444 United States;X-APPLE-RADIUS=500;X-TITLE=605 6th Street:geo:-105.6974142,39.7061997
END:VEVENT
BEGIN:VEVENT
DTSTART;TZID=America/Denver:20230914T160000
DTEND;TZID=America/Denver:20230914T180000
DTSTAMP:20260424T104040
CREATED:20230518T180454Z
LAST-MODIFIED:20230518T180454Z
UID:20280-1694707200-1694714400@cccldstaging1.org
SUMMARY:MS Volleyball AWAY @ Fort Logan 4/5
DESCRIPTION:
URL:https://cccldstaging1.org/event/ms-volleyball-away-fort-logan-4-5/
LOCATION:CO
CATEGORIES:Community Events
END:VEVENT
BEGIN:VEVENT
DTSTART;TZID=America/Denver:20230913T163000
DTEND;TZID=America/Denver:20230913T183000
DTSTAMP:20260424T104040
CREATED:20230518T180454Z
LAST-MODIFIED:20230518T180454Z
UID:20279-1694622600-1694629800@cccldstaging1.org
SUMMARY:MS Volleyball AWAY @ Gilpin  4:30/5:30
DESCRIPTION:
URL:https://cccldstaging1.org/event/ms-volleyball-away-gilpin-430-530/
LOCATION:CO
CATEGORIES:Community Events
END:VEVENT
BEGIN:VEVENT
DTSTART;TZID=America/Denver:20230913T160000
DTEND;TZID=America/Denver:20230913T170000
DTSTAMP:20260424T104040
CREATED:20230518T180454Z
LAST-MODIFIED:20230518T180454Z
UID:20278-1694620800-1694624400@cccldstaging1.org
SUMMARY:MS Football AWAY @ Gilpin
DESCRIPTION:
URL:https://cccldstaging1.org/event/ms-football-away-gilpin/
LOCATION:CO
CATEGORIES:Community Events
END:VEVENT
BEGIN:VEVENT
DTSTART;TZID=America/Denver:20230912T173000
DTEND;TZID=America/Denver:20230912T193000
DTSTAMP:20260424T104040
CREATED:20230727T163034Z
LAST-MODIFIED:20230727T163034Z
UID:21089-1694539800-1694547000@cccldstaging1.org
SUMMARY:ISPL Adult Craft
DESCRIPTION:Join us each month for a great adult craft at the Idaho Springs Public Library. This month’s craft is Jewelry with Kate. For information and to register email chris@cccld.org
URL:https://cccldstaging1.org/event/ispl-adult-craft-12/
LOCATION:Idaho Springs Public Library\, 219 14th Avenue\, Idaho Springs\, CO\, 80452\, United States
CATEGORIES:Adults,Library Events
GEO:39.742052;-105.5183552
X-APPLE-STRUCTURED-LOCATION;VALUE=URI;X-ADDRESS=Idaho Springs Public Library 219 14th Avenue Idaho Springs CO 80452 United States;X-APPLE-RADIUS=500;X-TITLE=219 14th Avenue:geo:-105.5183552,39.742052
END:VEVENT
BEGIN:VEVENT
DTSTART;TZID=America/Denver:20230912T160000
DTEND;TZID=America/Denver:20230912T190000
DTSTAMP:20260424T104040
CREATED:20230518T180454Z
LAST-MODIFIED:20230518T180454Z
UID:20277-1694534400-1694545200@cccldstaging1.org
SUMMARY:HS Volleyball HOME vs Front Range 4/5/6
DESCRIPTION:
URL:https://cccldstaging1.org/event/hs-volleyball-home-vs-front-range-4-5-6/
LOCATION:CO
CATEGORIES:Community Events
END:VEVENT
BEGIN:VEVENT
DTSTART;TZID=America/Denver:20230911T160000
DTEND;TZID=America/Denver:20230911T180000
DTSTAMP:20260424T104040
CREATED:20230518T180454Z
LAST-MODIFIED:20230518T180454Z
UID:20276-1694448000-1694455200@cccldstaging1.org
SUMMARY:MS Volleyball HOME vs Fitzsimmons 4/5
DESCRIPTION:
URL:https://cccldstaging1.org/event/ms-volleyball-home-vs-fitzsimmons-4-5/
LOCATION:CO
CATEGORIES:Community Events
END:VEVENT
BEGIN:VEVENT
DTSTART;TZID=America/Denver:20230910T110000
DTEND;TZID=America/Denver:20230910T140000
DTSTAMP:20260424T104040
CREATED:20230727T162715Z
LAST-MODIFIED:20230727T162715Z
UID:21087-1694343600-1694354400@cccldstaging1.org
SUMMARY:Touch-A-Truck
DESCRIPTION:The Clear Creek Rotary\, along with Al Frei and Sons Walstrum Quarry\, is hosting their Touch-a-Truck event on Sunday\, Sept. 10 from 10am-2pm. Kids of all ages can climb on and ride the giant earth movers\, tour a fire engine\, explore an ambulance\, meet law enforcement personnel\, and maybe even work the controls of a life-size excavator.  Be sure to find us at Touch-A-Truck to learn more about library resources\, programs\, and services. \nLocation:\nAlbert Frei & Sons / Walstrum Quarry\n33501 US-6\, Idaho Springs\, CO 80452
URL:https://cccldstaging1.org/event/touch-a-truck/
LOCATION:CO\, 80444\, United States
CATEGORIES:Adults,Community Events,Kids,Library Events,Teens
GEO:39.7104468;-105.6969788
END:VEVENT
BEGIN:VEVENT
DTSTART;TZID=America/Denver:20230908T140000
DTEND;TZID=America/Denver:20230908T160000
DTSTAMP:20260424T104040
CREATED:20230808T165342Z
LAST-MODIFIED:20230808T165342Z
UID:21187-1694181600-1694188800@cccldstaging1.org
SUMMARY:ISPL-Virtual Reality
DESCRIPTION:Explore new worlds and great games at our virtual reality sessions for tweens and teens (ages 12 years and older). Registration is required. Please email heather@cccld.org to learn more and save your spot.
URL:https://cccldstaging1.org/event/ispl-virtual-reality-6/2023-09-08/
LOCATION:Idaho Springs Public Library\, 219 14th Avenue\, Idaho Springs\, CO\, 80452\, United States
CATEGORIES:Library Events,Teens
GEO:39.742052;-105.5183552
X-APPLE-STRUCTURED-LOCATION;VALUE=URI;X-ADDRESS=Idaho Springs Public Library 219 14th Avenue Idaho Springs CO 80452 United States;X-APPLE-RADIUS=500;X-TITLE=219 14th Avenue:geo:-105.5183552,39.742052
END:VEVENT
BEGIN:VEVENT
DTSTART;TZID=America/Denver:20230907T190000
DTEND;TZID=America/Denver:20230907T200000
DTSTAMP:20260424T104040
CREATED:20230517T174923Z
LAST-MODIFIED:20230517T174923Z
UID:20258-1694113200-1694116800@cccldstaging1.org
SUMMARY:HS Football HOME vs Pinnacle *HOMECOMING*
DESCRIPTION:
URL:https://cccldstaging1.org/event/hs-football-home-vs-pinnacle/
LOCATION:CO
CATEGORIES:Community Events
END:VEVENT
BEGIN:VEVENT
DTSTART;TZID=America/Denver:20230907T111500
DTEND;TZID=America/Denver:20230907T121500
DTSTAMP:20260424T104040
CREATED:20230727T161856Z
LAST-MODIFIED:20230727T161856Z
UID:21069-1694085300-1694088900@cccldstaging1.org
SUMMARY:JTML Storytime
DESCRIPTION:Join us for storytime and crafts at the John Tomay Memorial Library.
URL:https://cccldstaging1.org/event/jtml-storytime-10/2023-09-07/
LOCATION:John Tomay Memorial Library\, 605 6th Street\, Georgetown\, CO\, 80444\, United States
CATEGORIES:Kids,Library Events
GEO:39.7061997;-105.6974142
X-APPLE-STRUCTURED-LOCATION;VALUE=URI;X-ADDRESS=John Tomay Memorial Library 605 6th Street Georgetown CO 80444 United States;X-APPLE-RADIUS=500;X-TITLE=605 6th Street:geo:-105.6974142,39.7061997
END:VEVENT
BEGIN:VEVENT
DTSTART;TZID=America/Denver:20230906T170000
DTEND;TZID=America/Denver:20230906T180000
DTSTAMP:20260424T104040
CREATED:20230727T201522Z
LAST-MODIFIED:20230727T201522Z
UID:21119-1694019600-1694023200@cccldstaging1.org
SUMMARY:HS Volleyball AWAY @ Lotus 5/6 pm BUS TBD
DESCRIPTION:
URL:https://cccldstaging1.org/event/hs-volleyball-away-lotus-5-6-pm-bus-tbd/
LOCATION:CO
CATEGORIES:Community Events
END:VEVENT
BEGIN:VEVENT
DTSTART;TZID=America/Denver:20230906T161500
DTEND;TZID=America/Denver:20230906T171500
DTSTAMP:20260424T104040
CREATED:20230518T180454Z
LAST-MODIFIED:20230518T180454Z
UID:20274-1694016900-1694020500@cccldstaging1.org
SUMMARY:MS Football HOME vs Fort Logan (Hybrid)
DESCRIPTION:
URL:https://cccldstaging1.org/event/ms-football-home-vs-fort-logan-hybrid/
LOCATION:CO
CATEGORIES:Community Events
END:VEVENT
BEGIN:VEVENT
DTSTART;TZID=America/Denver:20230906T160000
DTEND;TZID=America/Denver:20230906T170000
DTSTAMP:20260424T104040
CREATED:20230802T204351Z
LAST-MODIFIED:20230802T204351Z
UID:21156-1694016000-1694019600@cccldstaging1.org
SUMMARY:MS Volleyball HOME vs. Fort Logan Northgate 4:00
DESCRIPTION:
URL:https://cccldstaging1.org/event/ms-volleyball-home-vs-fort-logan-northgate-400/
LOCATION:CO
CATEGORIES:Community Events
END:VEVENT
BEGIN:VEVENT
DTSTART;TZID=America/Denver:20230905T163000
DTEND;TZID=America/Denver:20230905T193000
DTSTAMP:20260424T104040
CREATED:20230726T201412Z
LAST-MODIFIED:20230726T201412Z
UID:21035-1693931400-1693942200@cccldstaging1.org
SUMMARY:HS Volleyball HOME vs Estes 4:30/5:30/6:30
DESCRIPTION:Homecoming Game
URL:https://cccldstaging1.org/event/hs-volleyball-home-vs-estes-430-530-630/
LOCATION:CO
CATEGORIES:Community Events
END:VEVENT
BEGIN:VEVENT
DTSTART;TZID=America/Denver:20230905T160000
DTEND;TZID=America/Denver:20230905T180000
DTSTAMP:20260424T104040
CREATED:20230518T180454Z
LAST-MODIFIED:20230518T180454Z
UID:20273-1693929600-1693936800@cccldstaging1.org
SUMMARY:MS Volleyball HOME vs Fort Logan 4/5
DESCRIPTION:
URL:https://cccldstaging1.org/event/ms-volleyball-home-vs-fort-logan-4-5/
LOCATION:CO
CATEGORIES:Community Events
END:VEVENT
BEGIN:VEVENT
DTSTART;TZID=America/Denver:20230905T111500
DTEND;TZID=America/Denver:20230905T121500
DTSTAMP:20260424T104040
CREATED:20230727T161653Z
LAST-MODIFIED:20230727T161653Z
UID:21051-1693912500-1693916100@cccldstaging1.org
SUMMARY:ISPL Storytime
DESCRIPTION:Join us for storytime and crafts at the Idaho Springs Public Library.
URL:https://cccldstaging1.org/event/ispl-storytime-10/2023-09-05/
LOCATION:Idaho Springs Public Library\, 219 14th Avenue\, Idaho Springs\, CO\, 80452\, United States
CATEGORIES:Kids,Library Events
GEO:39.742052;-105.5183552
X-APPLE-STRUCTURED-LOCATION;VALUE=URI;X-ADDRESS=Idaho Springs Public Library 219 14th Avenue Idaho Springs CO 80452 United States;X-APPLE-RADIUS=500;X-TITLE=219 14th Avenue:geo:-105.5183552,39.742052
END:VEVENT
BEGIN:VEVENT
DTSTART;VALUE=DATE:20230904
DTEND;VALUE=DATE:20230905
DTSTAMP:20260424T104040
CREATED:20230124T215340Z
LAST-MODIFIED:20230124T215340Z
UID:18956-1693785600-1693871999@cccldstaging1.org
SUMMARY:LIBRARY CLOSED
DESCRIPTION:Labor Day
URL:https://cccldstaging1.org/event/library-closed-7/
LOCATION:CO\, 80444\, United States
CATEGORIES:Library Events
GEO:39.7104468;-105.6969788
END:VEVENT
BEGIN:VEVENT
DTSTART;TZID=America/Denver:20230902T100000
DTEND;TZID=America/Denver:20230902T160000
DTSTAMP:20260424T104040
CREATED:20230808T151854Z
LAST-MODIFIED:20230808T151854Z
UID:21181-1693648800-1693670400@cccldstaging1.org
SUMMARY:JTML Friends Book Sale
DESCRIPTION:Friends of the Georgetown Library Book Sale. September 2\, 3 & 4 – 10 am – 4 pm @ John Tomay Memorial Library – 605 6th St.\, Georgetown\, CO.
URL:https://cccldstaging1.org/event/jtml-friends-book-sale-3/2023-09-02/
LOCATION:John Tomay Memorial Library\, 605 6th Street\, Georgetown\, CO\, 80444\, United States
CATEGORIES:Adults,Community Events,Kids,Library Events,Teens
GEO:39.7061997;-105.6974142
X-APPLE-STRUCTURED-LOCATION;VALUE=URI;X-ADDRESS=John Tomay Memorial Library 605 6th Street Georgetown CO 80444 United States;X-APPLE-RADIUS=500;X-TITLE=605 6th Street:geo:-105.6974142,39.7061997
END:VEVENT
BEGIN:VEVENT
DTSTART;TZID=America/Denver:20230901T173000
DTEND;TZID=America/Denver:20230901T190000
DTSTAMP:20260424T104040
CREATED:20230517T174923Z
LAST-MODIFIED:20230517T174923Z
UID:20257-1693589400-1693594800@cccldstaging1.org
SUMMARY:HS Football AWAY @ Ellicott BUS TBD
DESCRIPTION:
URL:https://cccldstaging1.org/event/hs-football-away-ellicott-bus-tbd/
LOCATION:CO
CATEGORIES:Community Events
END:VEVENT
END:VCALENDAR