BEGIN:VCALENDAR
VERSION:2.0
PRODID:-//Clear Creek County Library District Staging - ECPv6.15.20//NONSGML v1.0//EN
CALSCALE:GREGORIAN
METHOD:PUBLISH
X-WR-CALNAME:Clear Creek County Library District Staging
X-ORIGINAL-URL:https://cccldstaging1.org
X-WR-CALDESC:Events for Clear Creek County Library District Staging
REFRESH-INTERVAL;VALUE=DURATION:PT1H
X-Robots-Tag:noindex
X-PUBLISHED-TTL:PT1H
BEGIN:VTIMEZONE
TZID:America/Denver
BEGIN:DAYLIGHT
TZOFFSETFROM:-0700
TZOFFSETTO:-0600
TZNAME:MDT
DTSTART:20200308T090000
END:DAYLIGHT
BEGIN:STANDARD
TZOFFSETFROM:-0600
TZOFFSETTO:-0700
TZNAME:MST
DTSTART:20201101T080000
END:STANDARD
BEGIN:DAYLIGHT
TZOFFSETFROM:-0700
TZOFFSETTO:-0600
TZNAME:MDT
DTSTART:20210314T090000
END:DAYLIGHT
BEGIN:STANDARD
TZOFFSETFROM:-0600
TZOFFSETTO:-0700
TZNAME:MST
DTSTART:20211107T080000
END:STANDARD
BEGIN:DAYLIGHT
TZOFFSETFROM:-0700
TZOFFSETTO:-0600
TZNAME:MDT
DTSTART:20220313T090000
END:DAYLIGHT
BEGIN:STANDARD
TZOFFSETFROM:-0600
TZOFFSETTO:-0700
TZNAME:MST
DTSTART:20221106T080000
END:STANDARD
END:VTIMEZONE
BEGIN:VEVENT
DTSTART;TZID=America/Denver:20211215T170000
DTEND;TZID=America/Denver:20211215T183000
DTSTAMP:20260425T202558
CREATED:20211123T210255Z
LAST-MODIFIED:20211123T210255Z
UID:27060-1639587600-1639593000@cccldstaging1.org
SUMMARY:Adult Craft
DESCRIPTION:“Creativity is a continual surprise.”–Ray Bradbury. December’s craft is Holiday Wreaths. Email chris@cccld.org to learn more and register.
URL:https://cccldstaging1.org/event/adult-craft-5-2/
LOCATION:Georgetown Heritage Center\, 809 Taos Street\, Georgetown\, CO\, 80444\, United States
CATEGORIES:Adults,Library Events
GEO:39.7076439;-105.6959246
X-APPLE-STRUCTURED-LOCATION;VALUE=URI;X-ADDRESS=Georgetown Heritage Center 809 Taos Street Georgetown CO 80444 United States;X-APPLE-RADIUS=500;X-TITLE=809 Taos Street:geo:-105.6959246,39.7076439
END:VEVENT
BEGIN:VEVENT
DTSTART;TZID=America/Denver:20211213T160000
DTEND;TZID=America/Denver:20211213T170000
DTSTAMP:20260425T202558
CREATED:20211112T223900Z
LAST-MODIFIED:20211112T223900Z
UID:27048-1639411200-1639414800@cccldstaging1.org
SUMMARY:ISPL Book Group
DESCRIPTION:Everyone is welcome. Email libby@cccld.org for more information.
URL:https://cccldstaging1.org/event/ispl-book-group-5/2021-12-13/
LOCATION:Idaho Springs Public Library\, 219 14th Avenue\, Idaho Springs\, CO\, 80452\, United States
CATEGORIES:Adults,Library Events
GEO:39.742052;-105.5183552
X-APPLE-STRUCTURED-LOCATION;VALUE=URI;X-ADDRESS=Idaho Springs Public Library 219 14th Avenue Idaho Springs CO 80452 United States;X-APPLE-RADIUS=500;X-TITLE=219 14th Avenue:geo:-105.5183552,39.742052
END:VEVENT
BEGIN:VEVENT
DTSTART;TZID=America/Denver:20211207T154500
DTEND;TZID=America/Denver:20211207T164500
DTSTAMP:20260425T202558
CREATED:20211112T225309Z
LAST-MODIFIED:20211112T225309Z
UID:27055-1638891900-1638895500@cccldstaging1.org
SUMMARY:Youth Craft Club - JTML
DESCRIPTION:Join the fun this month for Salt Dough Ornaments @ JTML–in person or virtual. Email courtney@cccld.org to learn more and register.
URL:https://cccldstaging1.org/event/youth-craft-club-jtml-2/
LOCATION:CO\, 80444\, United States
CATEGORIES:Library Events,Teens
GEO:39.7104468;-105.6969788
END:VEVENT
BEGIN:VEVENT
DTSTART;TZID=America/Denver:20211207T103000
DTEND;TZID=America/Denver:20211207T113000
DTSTAMP:20260425T202558
CREATED:20211006T214330Z
LAST-MODIFIED:20211006T214330Z
UID:27028-1638873000-1638876600@cccldstaging1.org
SUMMARY:Financial Advisor Workshops
DESCRIPTION:Financial Advisor Zach Pitman Workshops.
URL:https://cccldstaging1.org/event/financial-advisor-workshops/
LOCATION:CO\, 80444\, United States
CATEGORIES:Adults,Library Events
GEO:39.7104468;-105.6969788
END:VEVENT
BEGIN:VEVENT
DTSTART;TZID=America/Denver:20211206T153000
DTEND;TZID=America/Denver:20211206T163000
DTSTAMP:20260425T202558
CREATED:20211112T230303Z
LAST-MODIFIED:20211112T230303Z
UID:27057-1638804600-1638808200@cccldstaging1.org
SUMMARY:Youth Craft Club - ISPL
DESCRIPTION:Join the fun this month for Salt Dough Ornaments @ JTML–in person or virtual. Email courtney@cccld.org to learn more and register.
URL:https://cccldstaging1.org/event/youth-craft-club-ispl-2/
LOCATION:CO\, 80444\, United States
CATEGORIES:Library Events,Teens
GEO:39.7104468;-105.6969788
END:VEVENT
BEGIN:VEVENT
DTSTART;TZID=America/Denver:20211205T090000
DTEND;TZID=America/Denver:20211205T140000
DTSTAMP:20260425T202558
CREATED:20211112T223313Z
LAST-MODIFIED:20211112T223313Z
UID:27047-1638694800-1638712800@cccldstaging1.org
SUMMARY:Winter Craft Workshops - Georgetown Christmas Market
DESCRIPTION:Free creative fun for kids during the Georgetown Christmas Market.
URL:https://cccldstaging1.org/event/georgetown-christmas-market-2/2021-12-05/
LOCATION:John Tomay Memorial Library\, 605 6th Street\, Georgetown\, CO\, 80444\, United States
CATEGORIES:Adults,Community Events,Kids,Library Events,Teens
GEO:39.7061997;-105.6974142
X-APPLE-STRUCTURED-LOCATION;VALUE=URI;X-ADDRESS=John Tomay Memorial Library 605 6th Street Georgetown CO 80444 United States;X-APPLE-RADIUS=500;X-TITLE=605 6th Street:geo:-105.6974142,39.7061997
END:VEVENT
BEGIN:VEVENT
DTSTART;TZID=America/Denver:20211204T090000
DTEND;TZID=America/Denver:20211204T130000
DTSTAMP:20260425T202558
CREATED:20211112T223200Z
LAST-MODIFIED:20211112T223200Z
UID:27046-1638608400-1638622800@cccldstaging1.org
SUMMARY:Winter Craft Workshops - Georgetown Christmas Market
DESCRIPTION:Free creative fun for kids during the Georgetown Christmas Market.
URL:https://cccldstaging1.org/event/georgetown-christmas-market/2021-12-04/
LOCATION:CO\, 80444\, United States
CATEGORIES:Adults,Community Events,Kids,Library Events,Teens
GEO:39.7104468;-105.6969788
END:VEVENT
BEGIN:VEVENT
DTSTART;TZID=America/Denver:20211127T170000
DTEND;TZID=America/Denver:20211127T180000
DTSTAMP:20260425T202558
CREATED:20211119T175727Z
LAST-MODIFIED:20211119T175727Z
UID:27059-1638032400-1638036000@cccldstaging1.org
SUMMARY:Take & Make Cookie Kits
DESCRIPTION:Take & Make Cookie Kits at Georgetown Tree Lighting. Strousse Park Georgetown.
URL:https://cccldstaging1.org/event/take-make-cookie-kits/
LOCATION:CO\, 80444\, United States
CATEGORIES:Adults,Kids,Library Events,Teens
GEO:39.7104468;-105.6969788
END:VEVENT
BEGIN:VEVENT
DTSTART;TZID=America/Denver:20211125T080000
DTEND;TZID=America/Denver:20211127T170000
DTSTAMP:20260425T202558
CREATED:20211026T220522Z
LAST-MODIFIED:20211026T220522Z
UID:27043-1637827200-1638032400@cccldstaging1.org
SUMMARY:CCCLD CLOSED
DESCRIPTION:In observance of Thanksgiving\, all Clear Creek County libraries will be closed.
URL:https://cccldstaging1.org/event/library-closed-2/
LOCATION:CO\, 80444\, United States
CATEGORIES:Adults,Library Events
GEO:39.7104468;-105.6969788
END:VEVENT
BEGIN:VEVENT
DTSTART;TZID=America/Denver:20211118T170000
DTEND;TZID=America/Denver:20211118T180000
DTSTAMP:20260425T202558
CREATED:20211026T212756Z
LAST-MODIFIED:20211026T212756Z
UID:27029-1637254800-1637258400@cccldstaging1.org
SUMMARY:Creative Connection-JTML
DESCRIPTION:“Creativity is a continual surprise.”–Ray Bradbury. November’s craft is Feather Earrings. Email courtney@cccld.org to learn more and register.
URL:https://cccldstaging1.org/event/virtual-creative-connection-10/
LOCATION:CO\, 80444\, United States
CATEGORIES:Adults,Library Events
GEO:39.7104468;-105.6969788
END:VEVENT
BEGIN:VEVENT
DTSTART;TZID=America/Denver:20211118T150000
DTEND;TZID=America/Denver:20211118T160000
DTSTAMP:20260425T202558
CREATED:20211026T214213Z
LAST-MODIFIED:20211026T214213Z
UID:27031-1637247600-1637251200@cccldstaging1.org
SUMMARY:Virtual JTML Book Group
DESCRIPTION:Everyone is welcome. Email libby@cccld.org for more information.
URL:https://cccldstaging1.org/event/virtual-jtml-book-group-8/
LOCATION:CO\, 80444\, United States
CATEGORIES:Adults,Library Events
GEO:39.7104468;-105.6969788
END:VEVENT
BEGIN:VEVENT
DTSTART;TZID=America/Denver:20211116T053000
DTEND;TZID=America/Denver:20211116T183000
DTSTAMP:20260425T202558
CREATED:20211112T224438Z
LAST-MODIFIED:20211112T224438Z
UID:27054-1637040600-1637087400@cccldstaging1.org
SUMMARY:Creative Connection - JTML
DESCRIPTION:“Creativity is a continual surprise.”–Ray Bradbury. November’s craft is Holiday Wreaths. Email courtney@cccld.org to learn more and register.
URL:https://cccldstaging1.org/event/creative-connection-jtml/
LOCATION:CO\, 80444\, United States
CATEGORIES:Adults,Library Events
GEO:39.7104468;-105.6969788
END:VEVENT
BEGIN:VEVENT
DTSTART;TZID=America/Denver:20211115T170000
DTEND;TZID=America/Denver:20211115T180000
DTSTAMP:20260425T202558
CREATED:20211026T222859Z
LAST-MODIFIED:20211026T222859Z
UID:27045-1636995600-1636999200@cccldstaging1.org
SUMMARY:Creative Connection-ISPL
DESCRIPTION:“Creativity is a continual surprise.”–Ray Bradbury. November’s craft is Feather Earrings. Email courtney@cccld.org to learn more and register.
URL:https://cccldstaging1.org/event/creative-connection-ispl/
LOCATION:CO\, 80444\, United States
CATEGORIES:Adults,Library Events
GEO:39.7104468;-105.6969788
END:VEVENT
BEGIN:VEVENT
DTSTART;TZID=America/Denver:20211115T160000
DTEND;TZID=America/Denver:20211115T170000
DTSTAMP:20260425T202558
CREATED:20211026T213044Z
LAST-MODIFIED:20211026T213044Z
UID:27030-1636992000-1636995600@cccldstaging1.org
SUMMARY:Virtual ISPL Book Group
DESCRIPTION:Everyone is welcome. Email libby@cccld.org for more information.
URL:https://cccldstaging1.org/event/virtual-ispl-book-group-7/
LOCATION:CO\, 80444\, United States
CATEGORIES:Adults,Library Events
GEO:39.7104468;-105.6969788
END:VEVENT
BEGIN:VEVENT
DTSTART;VALUE=DATE:20211111
DTEND;VALUE=DATE:20211112
DTSTAMP:20260425T202558
CREATED:20211026T220421Z
LAST-MODIFIED:20211026T220421Z
UID:27042-1636588800-1636675199@cccldstaging1.org
SUMMARY:CCCLD CLOSED
DESCRIPTION:In observance of Veterans Day\, all Clear Creek County libraries will be closed.
URL:https://cccldstaging1.org/event/library-closed/
LOCATION:CO\, 80444\, United States
CATEGORIES:Adults,Library Events
GEO:39.7104468;-105.6969788
END:VEVENT
BEGIN:VEVENT
DTSTART;TZID=America/Denver:20211109T154500
DTEND;TZID=America/Denver:20211109T164500
DTSTAMP:20260425T202558
CREATED:20211026T222009Z
LAST-MODIFIED:20211026T222009Z
UID:27044-1636472700-1636476300@cccldstaging1.org
SUMMARY:Youth Craft Club - JTML
DESCRIPTION:Join the fun this month for String Art @ JTML–in person or virtual. Email courtney@cccld.org to learn more and register.
URL:https://cccldstaging1.org/event/youth-craft-club-jtml/
LOCATION:CO\, 80444\, United States
CATEGORIES:Library Events,Teens
GEO:39.7104468;-105.6969788
END:VEVENT
BEGIN:VEVENT
DTSTART;TZID=America/Denver:20211108T153000
DTEND;TZID=America/Denver:20211108T163000
DTSTAMP:20260425T202558
CREATED:20211026T214414Z
LAST-MODIFIED:20211026T214414Z
UID:27032-1636385400-1636389000@cccldstaging1.org
SUMMARY:Youth Craft Club - ISPL
DESCRIPTION:Join the fun this month for String Art @ ISPL–in person or virtual. Email courtney@cccld.org to learn more and register.
URL:https://cccldstaging1.org/event/virtual-youth-craft-club-5/
LOCATION:CO\, 80444\, United States
CATEGORIES:Library Events,Teens
GEO:39.7104468;-105.6969788
END:VEVENT
BEGIN:VEVENT
DTSTART;TZID=America/Denver:20211026T180000
DTEND;TZID=America/Denver:20211026T190000
DTSTAMP:20260425T202558
CREATED:20211006T213951Z
LAST-MODIFIED:20211006T213951Z
UID:27027-1635271200-1635274800@cccldstaging1.org
SUMMARY:Financial Advisor Workshops
DESCRIPTION:Financial Advisor Zach Pitman Workshops.
URL:https://cccldstaging1.org/event/financial-advisor/2021-10-26/
LOCATION:CO\, 80444\, United States
CATEGORIES:Adults,Library Events
GEO:39.7104468;-105.6969788
END:VEVENT
BEGIN:VEVENT
DTSTART;TZID=America/Denver:20211021T173000
DTEND;TZID=America/Denver:20211021T183000
DTSTAMP:20260425T202558
CREATED:20210920T164628Z
LAST-MODIFIED:20210920T164628Z
UID:27021-1634837400-1634841000@cccldstaging1.org
SUMMARY:Virtual Creative Connection
DESCRIPTION:“Creativity is a continual surprise.”–Ray Bradbury. October’s virtual craft is Spooky Cocktails. Email courtney@cccld.org to learn more and register.
URL:https://cccldstaging1.org/event/virtual-creative-connection-9/
LOCATION:CO\, 80444\, United States
CATEGORIES:Adults,Library Events
GEO:39.7104468;-105.6969788
END:VEVENT
BEGIN:VEVENT
DTSTART;TZID=America/Denver:20211021T150000
DTEND;TZID=America/Denver:20211021T160000
DTSTAMP:20260425T202558
CREATED:20210920T164924Z
LAST-MODIFIED:20210920T164924Z
UID:27022-1634828400-1634832000@cccldstaging1.org
SUMMARY:Virtual JTML Book Group
DESCRIPTION:Everyone is welcome. Email libby@cccld.org for more information.
URL:https://cccldstaging1.org/event/virtual-jtml-book-group-7/
LOCATION:CO\, 80444\, United States
CATEGORIES:Adults,Library Events
GEO:39.7104468;-105.6969788
END:VEVENT
BEGIN:VEVENT
DTSTART;TZID=America/Denver:20211018T130000
DTEND;TZID=America/Denver:20211018T140000
DTSTAMP:20260425T202558
CREATED:20210920T165047Z
LAST-MODIFIED:20210920T165047Z
UID:27023-1634562000-1634565600@cccldstaging1.org
SUMMARY:Virtual ISPL Book Group
DESCRIPTION:Everyone is welcome. Email libby@cccld.org for more information.
URL:https://cccldstaging1.org/event/virtual-ispl-book-group-6/
LOCATION:CO\, 80444\, United States
CATEGORIES:Adults,Library Events
GEO:39.7104468;-105.6969788
END:VEVENT
BEGIN:VEVENT
DTSTART;TZID=America/Denver:20211012T173000
DTEND;TZID=America/Denver:20211012T183000
DTSTAMP:20260425T202558
CREATED:20210920T165518Z
LAST-MODIFIED:20210920T165518Z
UID:27024-1634059800-1634063400@cccldstaging1.org
SUMMARY:Virtual Youth Craft Club
DESCRIPTION:Join the fun this month for Spell Books. Email courtney@cccld.org to learn more and register.
URL:https://cccldstaging1.org/event/virtual-youth-craft-club-4/
LOCATION:CO\, 80444\, United States
CATEGORIES:Library Events,Teens
GEO:39.7104468;-105.6969788
END:VEVENT
BEGIN:VEVENT
DTSTART;TZID=America/Denver:20211008T190000
DTEND;TZID=America/Denver:20211008T200000
DTSTAMP:20260425T202558
CREATED:20210930T161657Z
LAST-MODIFIED:20210930T161657Z
UID:27025-1633719600-1633723200@cccldstaging1.org
SUMMARY:Virtual D&D
DESCRIPTION:Join the fun with Virtual D&D.
URL:https://cccldstaging1.org/event/virtual-dd/2021-10-08/
LOCATION:CO\, 80444\, United States
CATEGORIES:Library Events,Teens
GEO:39.7104468;-105.6969788
END:VEVENT
BEGIN:VEVENT
DTSTART;TZID=America/Denver:20211007T111500
DTEND;TZID=America/Denver:20211007T120000
DTSTAMP:20260425T202558
CREATED:20211001T211751Z
LAST-MODIFIED:20211001T211751Z
UID:27026-1633605300-1633608000@cccldstaging1.org
SUMMARY:JTML Stories & Sunshine
DESCRIPTION:Join us for outdoor storytime at the John Tomay Memorial Library.
URL:https://cccldstaging1.org/event/jtml-stories-sunshine/2021-10-07/
LOCATION:CO\, 80444\, United States
CATEGORIES:Kids,Library Events
GEO:39.7104468;-105.6969788
END:VEVENT
BEGIN:VEVENT
DTSTART;TZID=America/Denver:20211006T180000
DTEND;TZID=America/Denver:20211006T190000
DTSTAMP:20260425T202558
CREATED:20210920T164101Z
LAST-MODIFIED:20210920T164101Z
UID:27020-1633543200-1633546800@cccldstaging1.org
SUMMARY:Financial Coach Workshops
DESCRIPTION:Financial Coach Daria Stellwag Workshops.
URL:https://cccldstaging1.org/event/financial-coach/2021-10-06/
LOCATION:CO\, 80444\, United States
CATEGORIES:Adults,Library Events
GEO:39.7104468;-105.6969788
END:VEVENT
BEGIN:VEVENT
DTSTART;TZID=America/Denver:20210916T173000
DTEND;TZID=America/Denver:20210916T183000
DTSTAMP:20260425T202558
CREATED:20210820T194140Z
LAST-MODIFIED:20210820T194140Z
UID:27016-1631813400-1631817000@cccldstaging1.org
SUMMARY:Virtual Creative Connection
DESCRIPTION:“Creativity is a continual surprise.”–Ray Bradbury. August’s virtual craft is Woven Wall Hanging. Email courtney@cccld.org to learn more and register.
URL:https://cccldstaging1.org/event/virtual-creative-connection-8/
LOCATION:CO\, 80444\, United States
CATEGORIES:Adults,Library Events
GEO:39.7104468;-105.6969788
END:VEVENT
BEGIN:VEVENT
DTSTART;TZID=America/Denver:20210916T150000
DTEND;TZID=America/Denver:20210916T160000
DTSTAMP:20260425T202558
CREATED:20210820T195422Z
LAST-MODIFIED:20210820T195422Z
UID:27019-1631804400-1631808000@cccldstaging1.org
SUMMARY:Virtual JTML Book Group
DESCRIPTION:Everyone is welcome. Email libby@cccld.org for more information.
URL:https://cccldstaging1.org/event/jtml-book-group-3/
LOCATION:CO\, 80444\, United States
CATEGORIES:Adults,Library Events
GEO:39.7104468;-105.6969788
END:VEVENT
BEGIN:VEVENT
DTSTART;TZID=America/Denver:20210914T173000
DTEND;TZID=America/Denver:20210914T183000
DTSTAMP:20260425T202558
CREATED:20210820T194538Z
LAST-MODIFIED:20210820T194538Z
UID:27017-1631640600-1631644200@cccldstaging1.org
SUMMARY:Virtual Youth Craft Club
DESCRIPTION:Join the fun this month for Embroidery. Email courtney@cccld.org to learn more and register.
URL:https://cccldstaging1.org/event/virtual-youth-craft-club-3/
LOCATION:CO\, 80444\, United States
CATEGORIES:Library Events,Teens
GEO:39.7104468;-105.6969788
END:VEVENT
BEGIN:VEVENT
DTSTART;TZID=America/Denver:20210913T130000
DTEND;TZID=America/Denver:20210913T140000
DTSTAMP:20260425T202558
CREATED:20210820T194920Z
LAST-MODIFIED:20210820T194920Z
UID:27018-1631538000-1631541600@cccldstaging1.org
SUMMARY:ISPL Book Group
DESCRIPTION:Everyone is welcome. Email libby@cccld.org for more information.
URL:https://cccldstaging1.org/event/ispl-book-group-4/
LOCATION:CO\, 80444\, United States
CATEGORIES:Adults,Library Events
GEO:39.7104468;-105.6969788
END:VEVENT
BEGIN:VEVENT
DTSTART;TZID=America/Denver:20210907T111500
DTEND;TZID=America/Denver:20210907T120000
DTSTAMP:20260425T202558
CREATED:20210820T193600Z
LAST-MODIFIED:20210820T193600Z
UID:27015-1631013300-1631016000@cccldstaging1.org
SUMMARY:ISPL Stories & Sunshine
DESCRIPTION:Join us for outdoor storytime at the Idaho Springs Public Library.
URL:https://cccldstaging1.org/event/stories-sunshine-3/2021-09-07/
LOCATION:CO\, 80444\, United States
CATEGORIES:Kids,Library Events
GEO:39.7104468;-105.6969788
END:VEVENT
END:VCALENDAR