BEGIN:VCALENDAR
VERSION:2.0
PRODID:-//Clear Creek County Library District Staging - ECPv6.15.20//NONSGML v1.0//EN
CALSCALE:GREGORIAN
METHOD:PUBLISH
X-WR-CALNAME:Clear Creek County Library District Staging
X-ORIGINAL-URL:https://cccldstaging1.org
X-WR-CALDESC:Events for Clear Creek County Library District Staging
REFRESH-INTERVAL;VALUE=DURATION:PT1H
X-Robots-Tag:noindex
X-PUBLISHED-TTL:PT1H
BEGIN:VTIMEZONE
TZID:America/Denver
BEGIN:DAYLIGHT
TZOFFSETFROM:-0700
TZOFFSETTO:-0600
TZNAME:MDT
DTSTART:20180311T090000
END:DAYLIGHT
BEGIN:STANDARD
TZOFFSETFROM:-0600
TZOFFSETTO:-0700
TZNAME:MST
DTSTART:20181104T080000
END:STANDARD
BEGIN:DAYLIGHT
TZOFFSETFROM:-0700
TZOFFSETTO:-0600
TZNAME:MDT
DTSTART:20190310T090000
END:DAYLIGHT
BEGIN:STANDARD
TZOFFSETFROM:-0600
TZOFFSETTO:-0700
TZNAME:MST
DTSTART:20191103T080000
END:STANDARD
BEGIN:DAYLIGHT
TZOFFSETFROM:-0700
TZOFFSETTO:-0600
TZNAME:MDT
DTSTART:20200308T090000
END:DAYLIGHT
BEGIN:STANDARD
TZOFFSETFROM:-0600
TZOFFSETTO:-0700
TZNAME:MST
DTSTART:20201101T080000
END:STANDARD
END:VTIMEZONE
BEGIN:VEVENT
DTSTART;TZID=America/Denver:20190716T140000
DTEND;TZID=America/Denver:20190716T140000
DTSTAMP:20260425T195304
CREATED:20190701T191212Z
LAST-MODIFIED:20190701T191212Z
UID:3387-1563285600-1563285600@cccldstaging1.org
SUMMARY:JTML Harry Potter Trivia
DESCRIPTION:Do you think you know everything there is to know about Harry Potter? Put your knowledge to the test! Harry Potter Trivia will be at the John Tomay Memorial Library on Tuesday\, July 16 at 2 pm. All ages welcome!
URL:https://cccldstaging1.org/event/jtml-harry-potter-trivia/
LOCATION:John Tomay Memorial Library\, 605 6th Street\, Georgetown\, CO\, 80444\, United States
CATEGORIES:Adults,Kids,Library Events
GEO:39.7061997;-105.6974142
X-APPLE-STRUCTURED-LOCATION;VALUE=URI;X-ADDRESS=John Tomay Memorial Library 605 6th Street Georgetown CO 80444 United States;X-APPLE-RADIUS=500;X-TITLE=605 6th Street:geo:-105.6974142,39.7061997
END:VEVENT
BEGIN:VEVENT
DTSTART;TZID=America/Denver:20190716T140000
DTEND;TZID=America/Denver:20190716T140000
DTSTAMP:20260425T195304
CREATED:20190701T191212Z
LAST-MODIFIED:20190701T191212Z
UID:26506-1563285600-1563285600@cccldstaging1.org
SUMMARY:JTML Harry Potter Trivia
DESCRIPTION:Do you think you know everything there is to know about Harry Potter? Put your knowledge to the test! Harry Potter Trivia will be at the John Tomay Memorial Library on Tuesday\, July 16 at 2 pm. All ages welcome!
URL:https://cccldstaging1.org/event/jtml-harry-potter-trivia-2/
LOCATION:John Tomay Memorial Library\, 605 6th Street\, Georgetown\, CO\, 80444\, United States
CATEGORIES:Adults,Kids,Library Events
GEO:39.7061997;-105.6974142
X-APPLE-STRUCTURED-LOCATION;VALUE=URI;X-ADDRESS=John Tomay Memorial Library 605 6th Street Georgetown CO 80444 United States;X-APPLE-RADIUS=500;X-TITLE=605 6th Street:geo:-105.6974142,39.7061997
END:VEVENT
BEGIN:VEVENT
DTSTART;TZID=America/Denver:20190716T100000
DTEND;TZID=America/Denver:20190716T120000
DTSTAMP:20260425T195304
CREATED:20190516T201446Z
LAST-MODIFIED:20190606T210436Z
UID:2839-1563271200-1563278400@cccldstaging1.org
SUMMARY:ISPL Summer Reading Week 7: Pippinhoot & Featherfayre Houses
DESCRIPTION:Pippinhoot House: early learning – 2nd grade \nFeatherfayre House: 3rd – 5th grade \nWeek 7 in Idaho Springs: Magic Mirror Workshop
URL:https://cccldstaging1.org/event/ispl-summer-reading-week-7-pippinhoot-featherfayre-houses/
LOCATION:Idaho Springs Public Library\, 219 14th Avenue\, Idaho Springs\, CO\, 80452\, United States
CATEGORIES:Kids,Library Events,Summer Reading
GEO:39.742052;-105.5183552
X-APPLE-STRUCTURED-LOCATION;VALUE=URI;X-ADDRESS=Idaho Springs Public Library 219 14th Avenue Idaho Springs CO 80452 United States;X-APPLE-RADIUS=500;X-TITLE=219 14th Avenue:geo:-105.5183552,39.742052
END:VEVENT
BEGIN:VEVENT
DTSTART;TZID=America/Denver:20190716T100000
DTEND;TZID=America/Denver:20190716T120000
DTSTAMP:20260425T195304
CREATED:20190516T201446Z
LAST-MODIFIED:20190516T201446Z
UID:26453-1563271200-1563278400@cccldstaging1.org
SUMMARY:ISPL Summer Reading Week 7: Pippinhoot & Featherfayre Houses
DESCRIPTION:Pippinhoot House: early learning – 2nd grade \nFeatherfayre House: 3rd – 5th grade \nWeek 7 in Idaho Springs: Magic Mirror Workshop
URL:https://cccldstaging1.org/event/ispl-summer-reading-week-7-pippinhoot-featherfayre-houses-2/
LOCATION:Idaho Springs Public Library\, 219 14th Avenue\, Idaho Springs\, CO\, 80452\, United States
CATEGORIES:Kids,Library Events,Summer Reading
GEO:39.742052;-105.5183552
X-APPLE-STRUCTURED-LOCATION;VALUE=URI;X-ADDRESS=Idaho Springs Public Library 219 14th Avenue Idaho Springs CO 80452 United States;X-APPLE-RADIUS=500;X-TITLE=219 14th Avenue:geo:-105.5183552,39.742052
END:VEVENT
BEGIN:VEVENT
DTSTART;TZID=America/Denver:20190712T170000
DTEND;TZID=America/Denver:20190712T170000
DTSTAMP:20260425T195304
CREATED:20190619T170338Z
LAST-MODIFIED:20190619T170338Z
UID:26495-1562950800-1562950800@cccldstaging1.org
SUMMARY:JTML Movie Night - Wonder Park
DESCRIPTION:Enjoy a free\, family-friendly movie on the big screen at your library! Satisfy your cravings with snacks and freshly-popped popcorn available for sale at our mini concessions stand.
URL:https://cccldstaging1.org/event/jtml-movie-night-wonder-park-2/
LOCATION:Georgetown Heritage Center\, 809 Taos Street\, Georgetown\, CO\, 80444\, United States
CATEGORIES:Adults,Kids,Library Events
GEO:39.7076439;-105.6959246
X-APPLE-STRUCTURED-LOCATION;VALUE=URI;X-ADDRESS=Georgetown Heritage Center 809 Taos Street Georgetown CO 80444 United States;X-APPLE-RADIUS=500;X-TITLE=809 Taos Street:geo:-105.6959246,39.7076439
END:VEVENT
BEGIN:VEVENT
DTSTART;TZID=America/Denver:20190712T170000
DTEND;TZID=America/Denver:20190712T170000
DTSTAMP:20260425T195304
CREATED:20190619T170338Z
LAST-MODIFIED:20190619T170338Z
UID:3234-1562950800-1562950800@cccldstaging1.org
SUMMARY:JTML Movie Night - Wonder Park
DESCRIPTION:Enjoy a free\, family-friendly movie on the big screen at your library! Satisfy your cravings with snacks and freshly-popped popcorn available for sale at our mini concessions stand.
URL:https://cccldstaging1.org/event/jtml-movie-night-wonder-park/
LOCATION:Georgetown Heritage Center\, 809 Taos Street\, Georgetown\, CO\, 80444\, United States
CATEGORIES:Adults,Kids,Library Events
GEO:39.7076439;-105.6959246
X-APPLE-STRUCTURED-LOCATION;VALUE=URI;X-ADDRESS=Georgetown Heritage Center 809 Taos Street Georgetown CO 80444 United States;X-APPLE-RADIUS=500;X-TITLE=809 Taos Street:geo:-105.6959246,39.7076439
END:VEVENT
BEGIN:VEVENT
DTSTART;TZID=America/Denver:20190711T100000
DTEND;TZID=America/Denver:20190711T120000
DTSTAMP:20260425T195304
CREATED:20190606T205335Z
LAST-MODIFIED:20190606T205549Z
UID:3076-1562839200-1562846400@cccldstaging1.org
SUMMARY:King Murphy Summer Reading Week 6: Pippinhoot & Featherfayre Houses
DESCRIPTION:Pippinhoot House: early learning – 2nd grade \nFeatherfayre House: 3rd – 5th grade \nWeek 6 at King Murphy: Spells & Ciphers – Quillcraft & Magic Madlibs
URL:https://cccldstaging1.org/event/king-murphy-summer-reading-week-6-pippinhoot-featherfayre-houses/
LOCATION:King Murphy Elementary\, 425 Circle K Ranch Road\, Evergreen\, CO\, 80439\, United States
CATEGORIES:Kids,Library Events,Summer Reading
GEO:39.6464019;-105.4162586
X-APPLE-STRUCTURED-LOCATION;VALUE=URI;X-ADDRESS=King Murphy Elementary 425 Circle K Ranch Road Evergreen CO 80439 United States;X-APPLE-RADIUS=500;X-TITLE=425 Circle K Ranch Road:geo:-105.4162586,39.6464019
END:VEVENT
BEGIN:VEVENT
DTSTART;TZID=America/Denver:20190711T100000
DTEND;TZID=America/Denver:20190711T120000
DTSTAMP:20260425T195304
CREATED:20190606T205335Z
LAST-MODIFIED:20190606T205335Z
UID:26481-1562839200-1562846400@cccldstaging1.org
SUMMARY:King Murphy Summer Reading Week 6: Pippinhoot & Featherfayre Houses
DESCRIPTION:Pippinhoot House: early learning – 2nd grade \nFeatherfayre House: 3rd – 5th grade \nWeek 6 at King Murphy: Spells & Ciphers – Quillcraft & Magic Madlibs
URL:https://cccldstaging1.org/event/king-murphy-summer-reading-week-6-pippinhoot-featherfayre-houses-2/
LOCATION:King Murphy Elementary\, 425 Circle K Ranch Road\, Evergreen\, CO\, 80439\, United States
CATEGORIES:Kids,Library Events,Summer Reading
GEO:39.6464019;-105.4162586
X-APPLE-STRUCTURED-LOCATION;VALUE=URI;X-ADDRESS=King Murphy Elementary 425 Circle K Ranch Road Evergreen CO 80439 United States;X-APPLE-RADIUS=500;X-TITLE=425 Circle K Ranch Road:geo:-105.4162586,39.6464019
END:VEVENT
BEGIN:VEVENT
DTSTART;TZID=America/Denver:20190710T100000
DTEND;TZID=America/Denver:20190710T120000
DTSTAMP:20260425T195304
CREATED:20190516T201317Z
LAST-MODIFIED:20190606T210419Z
UID:2837-1562752800-1562760000@cccldstaging1.org
SUMMARY:JTML Summer Reading Week 6: Pippinhoot & Featherfayre Houses
DESCRIPTION:Pippinhoot House: early learning – 2nd grade \nFeatherfayre House: 3rd – 5th grade \nWeek 6 in Georgetown: Spells & Ciphers – Quillcraft & Magic Madlibs
URL:https://cccldstaging1.org/event/jtml-summer-reading-week-6-pippinhoot-featherfayre-houses/
LOCATION:John Tomay Memorial Library\, 605 6th Street\, Georgetown\, CO\, 80444\, United States
CATEGORIES:Kids,Library Events,Summer Reading
GEO:39.7061997;-105.6974142
X-APPLE-STRUCTURED-LOCATION;VALUE=URI;X-ADDRESS=John Tomay Memorial Library 605 6th Street Georgetown CO 80444 United States;X-APPLE-RADIUS=500;X-TITLE=605 6th Street:geo:-105.6974142,39.7061997
END:VEVENT
BEGIN:VEVENT
DTSTART;TZID=America/Denver:20190710T100000
DTEND;TZID=America/Denver:20190710T120000
DTSTAMP:20260425T195304
CREATED:20190516T201317Z
LAST-MODIFIED:20190516T201317Z
UID:26452-1562752800-1562760000@cccldstaging1.org
SUMMARY:JTML Summer Reading Week 6: Pippinhoot & Featherfayre Houses
DESCRIPTION:Pippinhoot House: early learning – 2nd grade \nFeatherfayre House: 3rd – 5th grade \nWeek 6 in Georgetown: Spells & Ciphers – Quillcraft & Magic Madlibs
URL:https://cccldstaging1.org/event/jtml-summer-reading-week-6-pippinhoot-featherfayre-houses-2/
LOCATION:John Tomay Memorial Library\, 605 6th Street\, Georgetown\, CO\, 80444\, United States
CATEGORIES:Kids,Library Events,Summer Reading
GEO:39.7061997;-105.6974142
X-APPLE-STRUCTURED-LOCATION;VALUE=URI;X-ADDRESS=John Tomay Memorial Library 605 6th Street Georgetown CO 80444 United States;X-APPLE-RADIUS=500;X-TITLE=605 6th Street:geo:-105.6974142,39.7061997
END:VEVENT
BEGIN:VEVENT
DTSTART;TZID=America/Denver:20190709T100000
DTEND;TZID=America/Denver:20190709T120000
DTSTAMP:20260425T195304
CREATED:20190516T201122Z
LAST-MODIFIED:20190606T210406Z
UID:2834-1562666400-1562673600@cccldstaging1.org
SUMMARY:ISPL Summer Reading Week 6: Pippinhoot & Featherfayre Houses
DESCRIPTION:Pippinhoot House: early learning – 2nd grade \nFeatherfayre House: 3rd – 5th grade \nWeek 6 in Idaho Springs: Spells & Ciphers – Quillcraft & Magic Madlibs
URL:https://cccldstaging1.org/event/ispl-summer-reading-week-6-pippinhoot-featherfayre-houses/
LOCATION:Idaho Springs Public Library\, 219 14th Avenue\, Idaho Springs\, CO\, 80452\, United States
CATEGORIES:Kids,Library Events,Summer Reading
GEO:39.742052;-105.5183552
X-APPLE-STRUCTURED-LOCATION;VALUE=URI;X-ADDRESS=Idaho Springs Public Library 219 14th Avenue Idaho Springs CO 80452 United States;X-APPLE-RADIUS=500;X-TITLE=219 14th Avenue:geo:-105.5183552,39.742052
END:VEVENT
BEGIN:VEVENT
DTSTART;TZID=America/Denver:20190709T100000
DTEND;TZID=America/Denver:20190709T120000
DTSTAMP:20260425T195304
CREATED:20190516T201122Z
LAST-MODIFIED:20190516T201122Z
UID:26451-1562666400-1562673600@cccldstaging1.org
SUMMARY:ISPL Summer Reading Week 6: Pippinhoot & Featherfayre Houses
DESCRIPTION:Pippinhoot House: early learning – 2nd grade \nFeatherfayre House: 3rd – 5th grade \nWeek 6 in Idaho Springs: Spells & Ciphers – Quillcraft & Magic Madlibs
URL:https://cccldstaging1.org/event/ispl-summer-reading-week-6-pippinhoot-featherfayre-houses-2/
LOCATION:Idaho Springs Public Library\, 219 14th Avenue\, Idaho Springs\, CO\, 80452\, United States
CATEGORIES:Kids,Library Events,Summer Reading
GEO:39.742052;-105.5183552
X-APPLE-STRUCTURED-LOCATION;VALUE=URI;X-ADDRESS=Idaho Springs Public Library 219 14th Avenue Idaho Springs CO 80452 United States;X-APPLE-RADIUS=500;X-TITLE=219 14th Avenue:geo:-105.5183552,39.742052
END:VEVENT
BEGIN:VEVENT
DTSTART;TZID=America/Denver:20190706T130000
DTEND;TZID=America/Denver:20190706T130000
DTSTAMP:20260425T195304
CREATED:20190619T164209Z
LAST-MODIFIED:20190619T164209Z
UID:26492-1562418000-1562418000@cccldstaging1.org
SUMMARY:Georgetown Community Mural Unveiling & Ice Cream Social
DESCRIPTION:Join the Georgetown Heritage Center and Cultural Arts for an ice cream social and the unveiling of their new community mural. The mural was a collaborative project between the Georgetown Heritage Center and Cultural Arts\, the Georgetown Trust for Conservation and Preservation\, the Georgetown Community School\, Think 360 Arts\, and artist Tony Ortega.
URL:https://cccldstaging1.org/event/georgetown-community-mural-unveiling-ice-cream-social-2/
LOCATION:Georgetown Heritage Center\, 809 Taos Street\, Georgetown\, CO\, 80444\, United States
CATEGORIES:Adults,Community Events,Kids,Library Events
GEO:39.7076439;-105.6959246
X-APPLE-STRUCTURED-LOCATION;VALUE=URI;X-ADDRESS=Georgetown Heritage Center 809 Taos Street Georgetown CO 80444 United States;X-APPLE-RADIUS=500;X-TITLE=809 Taos Street:geo:-105.6959246,39.7076439
END:VEVENT
BEGIN:VEVENT
DTSTART;TZID=America/Denver:20190706T130000
DTEND;TZID=America/Denver:20190706T130000
DTSTAMP:20260425T195304
CREATED:20190619T164209Z
LAST-MODIFIED:20190619T164209Z
UID:3225-1562418000-1562418000@cccldstaging1.org
SUMMARY:Georgetown Community Mural Unveiling & Ice Cream Social
DESCRIPTION:Join the Georgetown Heritage Center and Cultural Arts for an ice cream social and the unveiling of their new community mural. The mural was a collaborative project between the Georgetown Heritage Center and Cultural Arts\, the Georgetown Trust for Conservation and Preservation\, the Georgetown Community School\, Think 360 Arts\, and artist Tony Ortega.
URL:https://cccldstaging1.org/event/georgetown-community-mural-unveiling-ice-cream-social/
LOCATION:Georgetown Heritage Center\, 809 Taos Street\, Georgetown\, CO\, 80444\, United States
CATEGORIES:Adults,Community Events,Kids,Library Events
GEO:39.7076439;-105.6959246
X-APPLE-STRUCTURED-LOCATION;VALUE=URI;X-ADDRESS=Georgetown Heritage Center 809 Taos Street Georgetown CO 80444 United States;X-APPLE-RADIUS=500;X-TITLE=809 Taos Street:geo:-105.6959246,39.7076439
END:VEVENT
BEGIN:VEVENT
DTSTART;TZID=America/Denver:20190704T100000
DTEND;TZID=America/Denver:20190704T160000
DTSTAMP:20260425T195304
CREATED:20190701T184446Z
LAST-MODIFIED:20190701T184446Z
UID:3366-1562234400-1562256000@cccldstaging1.org
SUMMARY:Friends of the Georgetown Library Book Sale
DESCRIPTION:Support the Friends of the Georgetown Library by visiting their 4th of July Book Sale at the John Tomay Memorial Library. The sale will be open July 4\, 6\, and 7 from 10 am – 4 pm.
URL:https://cccldstaging1.org/event/friends-of-the-georgetown-library-book-sale/2019-07-04/
LOCATION:John Tomay Memorial Library\, 605 6th Street\, Georgetown\, CO\, 80444\, United States
CATEGORIES:Adults,Community Events,Kids,Library Events
GEO:39.7061997;-105.6974142
X-APPLE-STRUCTURED-LOCATION;VALUE=URI;X-ADDRESS=John Tomay Memorial Library 605 6th Street Georgetown CO 80444 United States;X-APPLE-RADIUS=500;X-TITLE=605 6th Street:geo:-105.6974142,39.7061997
END:VEVENT
BEGIN:VEVENT
DTSTART;TZID=America/Denver:20190704T100000
DTEND;TZID=America/Denver:20190704T160000
DTSTAMP:20260425T195304
CREATED:20190701T184446Z
LAST-MODIFIED:20190701T184446Z
UID:26501-1562234400-1562256000@cccldstaging1.org
SUMMARY:Friends of the Georgetown Library Book Sale
DESCRIPTION:Support the Friends of the Georgetown Library by visiting their 4th of July Book Sale at the John Tomay Memorial Library. The sale will be open July 4\, 6\, and 7 from 10 am – 4 pm.
URL:https://cccldstaging1.org/event/friends-of-the-georgetown-library-book-sale-2/2019-07-04/
LOCATION:John Tomay Memorial Library\, 605 6th Street\, Georgetown\, CO\, 80444\, United States
CATEGORIES:Adults,Community Events,Kids,Library Events
GEO:39.7061997;-105.6974142
X-APPLE-STRUCTURED-LOCATION;VALUE=URI;X-ADDRESS=John Tomay Memorial Library 605 6th Street Georgetown CO 80444 United States;X-APPLE-RADIUS=500;X-TITLE=605 6th Street:geo:-105.6974142,39.7061997
END:VEVENT
BEGIN:VEVENT
DTSTART;TZID=America/Denver:20190627T100000
DTEND;TZID=America/Denver:20190627T120000
DTSTAMP:20260425T195304
CREATED:20190606T205010Z
LAST-MODIFIED:20190606T210309Z
UID:3072-1561629600-1561636800@cccldstaging1.org
SUMMARY:King Murphy Summer Reading Week 4: Pippinhoot & Featherfayre Houses
DESCRIPTION:Pippinhoot House: early learning – 2nd grade \nFeatherfayre House: 3rd – 5th grade \nWeek 4 at King Murphy: Castles – Castlecraft
URL:https://cccldstaging1.org/event/king-murphy-summer-reading-week-4-pippinhoot-featherfayre-houses/
LOCATION:King Murphy Elementary\, 425 Circle K Ranch Road\, Evergreen\, CO\, 80439\, United States
CATEGORIES:Kids,Library Events,Summer Reading
GEO:39.6464019;-105.4162586
X-APPLE-STRUCTURED-LOCATION;VALUE=URI;X-ADDRESS=King Murphy Elementary 425 Circle K Ranch Road Evergreen CO 80439 United States;X-APPLE-RADIUS=500;X-TITLE=425 Circle K Ranch Road:geo:-105.4162586,39.6464019
END:VEVENT
BEGIN:VEVENT
DTSTART;TZID=America/Denver:20190627T100000
DTEND;TZID=America/Denver:20190627T120000
DTSTAMP:20260425T195304
CREATED:20190606T205010Z
LAST-MODIFIED:20190606T205010Z
UID:26480-1561629600-1561636800@cccldstaging1.org
SUMMARY:King Murphy Summer Reading Week 4: Pippinhoot & Featherfayre Houses
DESCRIPTION:Pippinhoot House: early learning – 2nd grade \nFeatherfayre House: 3rd – 5th grade \nWeek 4 at King Murphy: Castles – Castlecraft
URL:https://cccldstaging1.org/event/king-murphy-summer-reading-week-4-pippinhoot-featherfayre-houses-2/
LOCATION:King Murphy Elementary\, 425 Circle K Ranch Road\, Evergreen\, CO\, 80439\, United States
CATEGORIES:Kids,Library Events,Summer Reading
GEO:39.6464019;-105.4162586
X-APPLE-STRUCTURED-LOCATION;VALUE=URI;X-ADDRESS=King Murphy Elementary 425 Circle K Ranch Road Evergreen CO 80439 United States;X-APPLE-RADIUS=500;X-TITLE=425 Circle K Ranch Road:geo:-105.4162586,39.6464019
END:VEVENT
BEGIN:VEVENT
DTSTART;TZID=America/Denver:20190626T100000
DTEND;TZID=America/Denver:20190626T120000
DTSTAMP:20260425T195304
CREATED:20190516T190441Z
LAST-MODIFIED:20190606T210256Z
UID:2824-1561543200-1561550400@cccldstaging1.org
SUMMARY:JTML Summer Reading Week 4: Pippinhoot & Featherfayre Houses
DESCRIPTION:Pippinhoot House: early learning – 2nd grade \nFeatherfayre House: 3rd – 5th grade \nWeek 4 in Georgetown: Castles – Castlecraft
URL:https://cccldstaging1.org/event/jtml-summer-reading-pippinhoot-featherfayre-houses-4/
LOCATION:John Tomay Memorial Library\, 605 6th Street\, Georgetown\, CO\, 80444\, United States
CATEGORIES:Kids,Library Events,Summer Reading
GEO:39.7061997;-105.6974142
X-APPLE-STRUCTURED-LOCATION;VALUE=URI;X-ADDRESS=John Tomay Memorial Library 605 6th Street Georgetown CO 80444 United States;X-APPLE-RADIUS=500;X-TITLE=605 6th Street:geo:-105.6974142,39.7061997
END:VEVENT
BEGIN:VEVENT
DTSTART;TZID=America/Denver:20190626T100000
DTEND;TZID=America/Denver:20190626T120000
DTSTAMP:20260425T195304
CREATED:20190516T190441Z
LAST-MODIFIED:20190516T190441Z
UID:26450-1561543200-1561550400@cccldstaging1.org
SUMMARY:JTML Summer Reading Week 4: Pippinhoot & Featherfayre Houses
DESCRIPTION:Pippinhoot House: early learning – 2nd grade \nFeatherfayre House: 3rd – 5th grade \nWeek 4 in Georgetown: Castles – Castlecraft
URL:https://cccldstaging1.org/event/jtml-summer-reading-pippinhoot-featherfayre-houses-4-2/
LOCATION:John Tomay Memorial Library\, 605 6th Street\, Georgetown\, CO\, 80444\, United States
CATEGORIES:Kids,Library Events,Summer Reading
GEO:39.7061997;-105.6974142
X-APPLE-STRUCTURED-LOCATION;VALUE=URI;X-ADDRESS=John Tomay Memorial Library 605 6th Street Georgetown CO 80444 United States;X-APPLE-RADIUS=500;X-TITLE=605 6th Street:geo:-105.6974142,39.7061997
END:VEVENT
BEGIN:VEVENT
DTSTART;TZID=America/Denver:20190625T100000
DTEND;TZID=America/Denver:20190625T120000
DTSTAMP:20260425T195304
CREATED:20190516T190010Z
LAST-MODIFIED:20190606T210243Z
UID:2822-1561456800-1561464000@cccldstaging1.org
SUMMARY:ISPL Summer Reading Week 4: Pippinhoot & Featherfayre Houses
DESCRIPTION:Pippinhoot House: early learning – 2nd grade \nFeatherfayre House: 3rd – 5th grade \nWeek 4 in Idaho Springs: Castles – Castlecraft
URL:https://cccldstaging1.org/event/ispl-summer-reading-pippinhoot-featherfayre-houses-4/
LOCATION:Idaho Springs Public Library\, 219 14th Avenue\, Idaho Springs\, CO\, 80452\, United States
CATEGORIES:Kids,Library Events,Summer Reading
GEO:39.742052;-105.5183552
X-APPLE-STRUCTURED-LOCATION;VALUE=URI;X-ADDRESS=Idaho Springs Public Library 219 14th Avenue Idaho Springs CO 80452 United States;X-APPLE-RADIUS=500;X-TITLE=219 14th Avenue:geo:-105.5183552,39.742052
END:VEVENT
BEGIN:VEVENT
DTSTART;TZID=America/Denver:20190625T100000
DTEND;TZID=America/Denver:20190625T120000
DTSTAMP:20260425T195304
CREATED:20190516T190010Z
LAST-MODIFIED:20190516T190010Z
UID:26449-1561456800-1561464000@cccldstaging1.org
SUMMARY:ISPL Summer Reading Week 4: Pippinhoot & Featherfayre Houses
DESCRIPTION:Pippinhoot House: early learning – 2nd grade \nFeatherfayre House: 3rd – 5th grade \nWeek 4 in Idaho Springs: Castles – Castlecraft
URL:https://cccldstaging1.org/event/ispl-summer-reading-pippinhoot-featherfayre-houses-4-2/
LOCATION:Idaho Springs Public Library\, 219 14th Avenue\, Idaho Springs\, CO\, 80452\, United States
CATEGORIES:Kids,Library Events,Summer Reading
GEO:39.742052;-105.5183552
X-APPLE-STRUCTURED-LOCATION;VALUE=URI;X-ADDRESS=Idaho Springs Public Library 219 14th Avenue Idaho Springs CO 80452 United States;X-APPLE-RADIUS=500;X-TITLE=219 14th Avenue:geo:-105.5183552,39.742052
END:VEVENT
BEGIN:VEVENT
DTSTART;TZID=America/Denver:20190620T100000
DTEND;TZID=America/Denver:20190620T120000
DTSTAMP:20260425T195304
CREATED:20190606T204442Z
LAST-MODIFIED:20190606T204442Z
UID:26479-1561024800-1561032000@cccldstaging1.org
SUMMARY:King Murphy Summer Reading Week 3: Pippinhoot and Featherfayre Houses
DESCRIPTION:Pippinhoot House: early learning – 2nd grade \nFeatherfayre House: 3rd – 5th grade \nWeek 3 at King Murphy: Potions Workshop
URL:https://cccldstaging1.org/event/king-murphy-summer-reading-week-3-pippinhoot-and-featherfayre-houses-2/
LOCATION:King Murphy Elementary\, 425 Circle K Ranch Road\, Evergreen\, CO\, 80439\, United States
CATEGORIES:Kids,Library Events,Summer Reading
GEO:39.6464019;-105.4162586
X-APPLE-STRUCTURED-LOCATION;VALUE=URI;X-ADDRESS=King Murphy Elementary 425 Circle K Ranch Road Evergreen CO 80439 United States;X-APPLE-RADIUS=500;X-TITLE=425 Circle K Ranch Road:geo:-105.4162586,39.6464019
END:VEVENT
BEGIN:VEVENT
DTSTART;TZID=America/Denver:20190620T100000
DTEND;TZID=America/Denver:20190620T120000
DTSTAMP:20260425T195304
CREATED:20190606T204442Z
LAST-MODIFIED:20190606T210203Z
UID:3068-1561024800-1561032000@cccldstaging1.org
SUMMARY:King Murphy Summer Reading Week 3: Pippinhoot and Featherfayre Houses
DESCRIPTION:Pippinhoot House: early learning – 2nd grade \nFeatherfayre House: 3rd – 5th grade \nWeek 3 at King Murphy: Potions Workshop
URL:https://cccldstaging1.org/event/king-murphy-summer-reading-week-3-pippinhoot-and-featherfayre-houses/
LOCATION:King Murphy Elementary\, 425 Circle K Ranch Road\, Evergreen\, CO\, 80439\, United States
CATEGORIES:Kids,Library Events,Summer Reading
GEO:39.6464019;-105.4162586
X-APPLE-STRUCTURED-LOCATION;VALUE=URI;X-ADDRESS=King Murphy Elementary 425 Circle K Ranch Road Evergreen CO 80439 United States;X-APPLE-RADIUS=500;X-TITLE=425 Circle K Ranch Road:geo:-105.4162586,39.6464019
END:VEVENT
BEGIN:VEVENT
DTSTART;TZID=America/Denver:20190619T100000
DTEND;TZID=America/Denver:20190619T120000
DTSTAMP:20260425T195304
CREATED:20190516T185718Z
LAST-MODIFIED:20190606T210123Z
UID:2820-1560938400-1560945600@cccldstaging1.org
SUMMARY:JTML Summer Reading Week 3: Pippinhoot & Featherfayre Houses
DESCRIPTION:Pippinhoot House: early learning – 2nd grade \nFeatherfayre House: 3rd – 5th grade \nWeek 3 in Georgetown: Potions Workshop
URL:https://cccldstaging1.org/event/jtml-summer-reading-pippinhoot-featherfayre-houses-3/
LOCATION:John Tomay Memorial Library\, 605 6th Street\, Georgetown\, CO\, 80444\, United States
CATEGORIES:Kids,Library Events,Summer Reading
GEO:39.7061997;-105.6974142
X-APPLE-STRUCTURED-LOCATION;VALUE=URI;X-ADDRESS=John Tomay Memorial Library 605 6th Street Georgetown CO 80444 United States;X-APPLE-RADIUS=500;X-TITLE=605 6th Street:geo:-105.6974142,39.7061997
END:VEVENT
BEGIN:VEVENT
DTSTART;TZID=America/Denver:20190619T100000
DTEND;TZID=America/Denver:20190619T120000
DTSTAMP:20260425T195304
CREATED:20190516T185718Z
LAST-MODIFIED:20190516T185718Z
UID:26448-1560938400-1560945600@cccldstaging1.org
SUMMARY:JTML Summer Reading Week 3: Pippinhoot & Featherfayre Houses
DESCRIPTION:Pippinhoot House: early learning – 2nd grade \nFeatherfayre House: 3rd – 5th grade \nWeek 3 in Georgetown: Potions Workshop
URL:https://cccldstaging1.org/event/jtml-summer-reading-pippinhoot-featherfayre-houses-3-2/
LOCATION:John Tomay Memorial Library\, 605 6th Street\, Georgetown\, CO\, 80444\, United States
CATEGORIES:Kids,Library Events,Summer Reading
GEO:39.7061997;-105.6974142
X-APPLE-STRUCTURED-LOCATION;VALUE=URI;X-ADDRESS=John Tomay Memorial Library 605 6th Street Georgetown CO 80444 United States;X-APPLE-RADIUS=500;X-TITLE=605 6th Street:geo:-105.6974142,39.7061997
END:VEVENT
BEGIN:VEVENT
DTSTART;TZID=America/Denver:20190618T100000
DTEND;TZID=America/Denver:20190618T120000
DTSTAMP:20260425T195304
CREATED:20190516T185514Z
LAST-MODIFIED:20190606T210029Z
UID:2818-1560852000-1560859200@cccldstaging1.org
SUMMARY:ISPL Summer Reading Week 3: Pippinhoot & Featherfayre Houses
DESCRIPTION:Pippinhoot House: early learning – 2nd grade \nFeatherfayre House: 3rd – 5th grade \nWeek 3 in Idaho Springs: Potions Workshop
URL:https://cccldstaging1.org/event/ispl-summer-reading-pippinhoot-featherfayre-houses-3/
LOCATION:Idaho Springs Public Library\, 219 14th Avenue\, Idaho Springs\, CO\, 80452\, United States
CATEGORIES:Kids,Library Events,Summer Reading
GEO:39.742052;-105.5183552
X-APPLE-STRUCTURED-LOCATION;VALUE=URI;X-ADDRESS=Idaho Springs Public Library 219 14th Avenue Idaho Springs CO 80452 United States;X-APPLE-RADIUS=500;X-TITLE=219 14th Avenue:geo:-105.5183552,39.742052
END:VEVENT
BEGIN:VEVENT
DTSTART;TZID=America/Denver:20190618T100000
DTEND;TZID=America/Denver:20190618T120000
DTSTAMP:20260425T195304
CREATED:20190516T185514Z
LAST-MODIFIED:20190516T185514Z
UID:26447-1560852000-1560859200@cccldstaging1.org
SUMMARY:ISPL Summer Reading Week 3: Pippinhoot & Featherfayre Houses
DESCRIPTION:Pippinhoot House: early learning – 2nd grade \nFeatherfayre House: 3rd – 5th grade \nWeek 3 in Idaho Springs: Potions Workshop
URL:https://cccldstaging1.org/event/ispl-summer-reading-pippinhoot-featherfayre-houses-3-2/
LOCATION:Idaho Springs Public Library\, 219 14th Avenue\, Idaho Springs\, CO\, 80452\, United States
CATEGORIES:Kids,Library Events,Summer Reading
GEO:39.742052;-105.5183552
X-APPLE-STRUCTURED-LOCATION;VALUE=URI;X-ADDRESS=Idaho Springs Public Library 219 14th Avenue Idaho Springs CO 80452 United States;X-APPLE-RADIUS=500;X-TITLE=219 14th Avenue:geo:-105.5183552,39.742052
END:VEVENT
BEGIN:VEVENT
DTSTART;TZID=America/Denver:20190613T130000
DTEND;TZID=America/Denver:20190613T140000
DTSTAMP:20260425T195304
CREATED:20190603T225203Z
LAST-MODIFIED:20190603T225203Z
UID:26478-1560430800-1560434400@cccldstaging1.org
SUMMARY:King Murphy Summer Reading Week 2: Emberclaw House
DESCRIPTION:Emberclaw House: 6th – 12th grade \nWeek 2 at King Murphy: Owlery Visit – Owlcraft
URL:https://cccldstaging1.org/event/king-murphy-summer-reading-week-2-emberclaw-house-2/
LOCATION:King Murphy Elementary\, 425 Circle K Ranch Road\, Evergreen\, CO\, 80439\, United States
CATEGORIES:Kids,Library Events,Summer Reading
GEO:39.6464019;-105.4162586
X-APPLE-STRUCTURED-LOCATION;VALUE=URI;X-ADDRESS=King Murphy Elementary 425 Circle K Ranch Road Evergreen CO 80439 United States;X-APPLE-RADIUS=500;X-TITLE=425 Circle K Ranch Road:geo:-105.4162586,39.6464019
END:VEVENT
BEGIN:VEVENT
DTSTART;TZID=America/Denver:20190613T130000
DTEND;TZID=America/Denver:20190613T140000
DTSTAMP:20260425T195304
CREATED:20190603T225203Z
LAST-MODIFIED:20190606T210000Z
UID:3040-1560430800-1560434400@cccldstaging1.org
SUMMARY:King Murphy Summer Reading Week 2: Emberclaw House
DESCRIPTION:Emberclaw House: 6th – 12th grade \nWeek 2 at King Murphy: Owlery Visit – Owlcraft
URL:https://cccldstaging1.org/event/king-murphy-summer-reading-week-2-emberclaw-house/
LOCATION:King Murphy Elementary\, 425 Circle K Ranch Road\, Evergreen\, CO\, 80439\, United States
CATEGORIES:Kids,Library Events,Summer Reading
GEO:39.6464019;-105.4162586
X-APPLE-STRUCTURED-LOCATION;VALUE=URI;X-ADDRESS=King Murphy Elementary 425 Circle K Ranch Road Evergreen CO 80439 United States;X-APPLE-RADIUS=500;X-TITLE=425 Circle K Ranch Road:geo:-105.4162586,39.6464019
END:VEVENT
END:VCALENDAR