BEGIN:VCALENDAR
VERSION:2.0
PRODID:-//Clear Creek County Library District Staging - ECPv6.15.20//NONSGML v1.0//EN
CALSCALE:GREGORIAN
METHOD:PUBLISH
X-ORIGINAL-URL:https://cccldstaging1.org
X-WR-CALDESC:Events for Clear Creek County Library District Staging
REFRESH-INTERVAL;VALUE=DURATION:PT1H
X-Robots-Tag:noindex
X-PUBLISHED-TTL:PT1H
BEGIN:VTIMEZONE
TZID:America/Denver
BEGIN:DAYLIGHT
TZOFFSETFROM:-0700
TZOFFSETTO:-0600
TZNAME:MDT
DTSTART:20180311T090000
END:DAYLIGHT
BEGIN:STANDARD
TZOFFSETFROM:-0600
TZOFFSETTO:-0700
TZNAME:MST
DTSTART:20181104T080000
END:STANDARD
BEGIN:DAYLIGHT
TZOFFSETFROM:-0700
TZOFFSETTO:-0600
TZNAME:MDT
DTSTART:20190310T090000
END:DAYLIGHT
BEGIN:STANDARD
TZOFFSETFROM:-0600
TZOFFSETTO:-0700
TZNAME:MST
DTSTART:20191103T080000
END:STANDARD
BEGIN:DAYLIGHT
TZOFFSETFROM:-0700
TZOFFSETTO:-0600
TZNAME:MDT
DTSTART:20200308T090000
END:DAYLIGHT
BEGIN:STANDARD
TZOFFSETFROM:-0600
TZOFFSETTO:-0700
TZNAME:MST
DTSTART:20201101T080000
END:STANDARD
END:VTIMEZONE
BEGIN:VEVENT
DTSTART;TZID=America/Denver:20190903T111500
DTEND;TZID=America/Denver:20190903T111500
DTSTAMP:20260425T130501
CREATED:20190816T181015Z
LAST-MODIFIED:20190816T181015Z
UID:3917-1567509300-1567509300@cccldstaging1.org
SUMMARY:ISPL Storytime
DESCRIPTION:
URL:https://cccldstaging1.org/event/ispl-storytime-7/2019-09-03/
LOCATION:Idaho Springs Public Library\, 219 14th Avenue\, Idaho Springs\, CO\, 80452\, United States
CATEGORIES:Kids,Library Events
GEO:39.742052;-105.5183552
X-APPLE-STRUCTURED-LOCATION;VALUE=URI;X-ADDRESS=Idaho Springs Public Library 219 14th Avenue Idaho Springs CO 80452 United States;X-APPLE-RADIUS=500;X-TITLE=219 14th Avenue:geo:-105.5183552,39.742052
END:VEVENT
BEGIN:VEVENT
DTSTART;TZID=America/Denver:20190903T111500
DTEND;TZID=America/Denver:20190903T111500
DTSTAMP:20260425T130501
CREATED:20190816T181015Z
LAST-MODIFIED:20190816T181015Z
UID:26559-1567509300-1567509300@cccldstaging1.org
SUMMARY:ISPL Storytime
DESCRIPTION:
URL:https://cccldstaging1.org/event/ispl-storytime-7-2/2019-09-03/
LOCATION:Idaho Springs Public Library\, 219 14th Avenue\, Idaho Springs\, CO\, 80452\, United States
CATEGORIES:Kids,Library Events
GEO:39.742052;-105.5183552
X-APPLE-STRUCTURED-LOCATION;VALUE=URI;X-ADDRESS=Idaho Springs Public Library 219 14th Avenue Idaho Springs CO 80452 United States;X-APPLE-RADIUS=500;X-TITLE=219 14th Avenue:geo:-105.5183552,39.742052
END:VEVENT
BEGIN:VEVENT
DTSTART;TZID=America/Denver:20190824T100000
DTEND;TZID=America/Denver:20190824T130000
DTSTAMP:20260425T130501
CREATED:20190815T164644Z
LAST-MODIFIED:20190815T164644Z
UID:3875-1566640800-1566651600@cccldstaging1.org
SUMMARY:Georgetown Reading Carnival
DESCRIPTION:
URL:https://cccldstaging1.org/event/georgetown-reading-carnival/
LOCATION:Strousse Park\, Georgetown\, CO\, 80444\, United States
CATEGORIES:Adults,Community Events,Kids,Library Events
GEO:39.7060984;-105.6975041
END:VEVENT
BEGIN:VEVENT
DTSTART;TZID=America/Denver:20190824T100000
DTEND;TZID=America/Denver:20190824T130000
DTSTAMP:20260425T130501
CREATED:20190815T164644Z
LAST-MODIFIED:20190815T164644Z
UID:26551-1566640800-1566651600@cccldstaging1.org
SUMMARY:Georgetown Reading Carnival
DESCRIPTION:
URL:https://cccldstaging1.org/event/georgetown-reading-carnival-2/
LOCATION:Strousse Park\, Georgetown\, CO\, 80444\, United States
CATEGORIES:Adults,Community Events,Kids,Library Events
GEO:39.7060984;-105.6975041
END:VEVENT
BEGIN:VEVENT
DTSTART;TZID=America/Denver:20190809T170000
DTEND;TZID=America/Denver:20190809T170000
DTSTAMP:20260425T130501
CREATED:20190717T222143Z
LAST-MODIFIED:20190717T222143Z
UID:26511-1565370000-1565370000@cccldstaging1.org
SUMMARY:ISPL Movie Night
DESCRIPTION:Enjoy a free\, family-friendly movie on the big screen at your library! Satisfy your cravings with snacks and freshly-popped popcorn available for sale at our mini concessions stand.
URL:https://cccldstaging1.org/event/ispl-movie-night-3/
LOCATION:Idaho Springs Public Library\, 219 14th Avenue\, Idaho Springs\, CO\, 80452\, United States
CATEGORIES:Adults,Kids,Library Events
GEO:39.742052;-105.5183552
X-APPLE-STRUCTURED-LOCATION;VALUE=URI;X-ADDRESS=Idaho Springs Public Library 219 14th Avenue Idaho Springs CO 80452 United States;X-APPLE-RADIUS=500;X-TITLE=219 14th Avenue:geo:-105.5183552,39.742052
END:VEVENT
BEGIN:VEVENT
DTSTART;TZID=America/Denver:20190809T170000
DTEND;TZID=America/Denver:20190809T170000
DTSTAMP:20260425T130501
CREATED:20190717T222143Z
LAST-MODIFIED:20190729T202541Z
UID:3538-1565370000-1565370000@cccldstaging1.org
SUMMARY:ISPL Movie Night
DESCRIPTION:Enjoy a free\, family-friendly movie on the big screen at your library! Satisfy your cravings with snacks and freshly-popped popcorn available for sale at our mini concessions stand.
URL:https://cccldstaging1.org/event/ispl-movie-night/
LOCATION:Idaho Springs Public Library\, 219 14th Avenue\, Idaho Springs\, CO\, 80452\, United States
CATEGORIES:Adults,Kids,Library Events
GEO:39.742052;-105.5183552
X-APPLE-STRUCTURED-LOCATION;VALUE=URI;X-ADDRESS=Idaho Springs Public Library 219 14th Avenue Idaho Springs CO 80452 United States;X-APPLE-RADIUS=500;X-TITLE=219 14th Avenue:geo:-105.5183552,39.742052
END:VEVENT
BEGIN:VEVENT
DTSTART;TZID=America/Denver:20190806T110000
DTEND;TZID=America/Denver:20190806T140000
DTSTAMP:20260425T130501
CREATED:20190624T183908Z
LAST-MODIFIED:20190624T183908Z
UID:26499-1565089200-1565100000@cccldstaging1.org
SUMMARY:Summer Reading Graduation Party
DESCRIPTION:Celebrate the end of Summer Reading 2019! Receive your diploma\, redeem your Bookgems for prizes\, play Pool Quidditch\, enjoy a magic show\, and more!
URL:https://cccldstaging1.org/event/summer-reading-graduation-party-2/
LOCATION:Clear Creek Metropolitan Recreation District\, 98 12th Avenue\, Idaho Springs\, CO\, 80452\, United States
CATEGORIES:Adults,Kids,Library Events,Summer Reading
GEO:39.7419098;-105.5208484
X-APPLE-STRUCTURED-LOCATION;VALUE=URI;X-ADDRESS=Clear Creek Metropolitan Recreation District 98 12th Avenue Idaho Springs CO 80452 United States;X-APPLE-RADIUS=500;X-TITLE=98 12th Avenue:geo:-105.5208484,39.7419098
END:VEVENT
BEGIN:VEVENT
DTSTART;TZID=America/Denver:20190806T110000
DTEND;TZID=America/Denver:20190806T140000
DTSTAMP:20260425T130501
CREATED:20190624T183908Z
LAST-MODIFIED:20190624T183908Z
UID:3283-1565089200-1565100000@cccldstaging1.org
SUMMARY:Summer Reading Graduation Party
DESCRIPTION:Celebrate the end of Summer Reading 2019! Receive your diploma\, redeem your Bookgems for prizes\, play Pool Quidditch\, enjoy a magic show\, and more!
URL:https://cccldstaging1.org/event/summer-reading-graduation-party/
LOCATION:Clear Creek Metropolitan Recreation District\, 98 12th Avenue\, Idaho Springs\, CO\, 80452\, United States
CATEGORIES:Adults,Kids,Library Events,Summer Reading
GEO:39.7419098;-105.5208484
X-APPLE-STRUCTURED-LOCATION;VALUE=URI;X-ADDRESS=Clear Creek Metropolitan Recreation District 98 12th Avenue Idaho Springs CO 80452 United States;X-APPLE-RADIUS=500;X-TITLE=98 12th Avenue:geo:-105.5208484,39.7419098
END:VEVENT
BEGIN:VEVENT
DTSTART;TZID=America/Denver:20190802T170000
DTEND;TZID=America/Denver:20190802T170000
DTSTAMP:20260425T130501
CREATED:20190717T222101Z
LAST-MODIFIED:20190717T222101Z
UID:26510-1564765200-1564765200@cccldstaging1.org
SUMMARY:JTML Movie Night
DESCRIPTION:Enjoy a free\, family-friendly movie on the big screen at your library! Satisfy your cravings with snacks and freshly-popped popcorn available for sale at our mini concessions stand.
URL:https://cccldstaging1.org/event/jtml-movie-night-3/
LOCATION:Georgetown Heritage Center\, 809 Taos Street\, Georgetown\, CO\, 80444\, United States
CATEGORIES:Adults,Kids,Library Events
GEO:39.7076439;-105.6959246
X-APPLE-STRUCTURED-LOCATION;VALUE=URI;X-ADDRESS=Georgetown Heritage Center 809 Taos Street Georgetown CO 80444 United States;X-APPLE-RADIUS=500;X-TITLE=809 Taos Street:geo:-105.6959246,39.7076439
END:VEVENT
BEGIN:VEVENT
DTSTART;TZID=America/Denver:20190802T170000
DTEND;TZID=America/Denver:20190802T170000
DTSTAMP:20260425T130501
CREATED:20190717T222101Z
LAST-MODIFIED:20190729T202451Z
UID:3536-1564765200-1564765200@cccldstaging1.org
SUMMARY:JTML Movie Night
DESCRIPTION:Enjoy a free\, family-friendly movie on the big screen at your library! Satisfy your cravings with snacks and freshly-popped popcorn available for sale at our mini concessions stand.
URL:https://cccldstaging1.org/event/jtml-movie-night/
LOCATION:Georgetown Heritage Center\, 809 Taos Street\, Georgetown\, CO\, 80444\, United States
CATEGORIES:Adults,Kids,Library Events
GEO:39.7076439;-105.6959246
X-APPLE-STRUCTURED-LOCATION;VALUE=URI;X-ADDRESS=Georgetown Heritage Center 809 Taos Street Georgetown CO 80444 United States;X-APPLE-RADIUS=500;X-TITLE=809 Taos Street:geo:-105.6959246,39.7076439
END:VEVENT
BEGIN:VEVENT
DTSTART;TZID=America/Denver:20190801T100000
DTEND;TZID=America/Denver:20190801T140000
DTSTAMP:20260425T130501
CREATED:20190606T214535Z
LAST-MODIFIED:20190606T214535Z
UID:3107-1564653600-1564668000@cccldstaging1.org
SUMMARY:King Murphy Summer Reading Week 9: Pippinhoot & Featherfayre Houses
DESCRIPTION:Pippinhoot House: early learning – 2nd grade \nFeatherfayre House: 3rd – 5th grade \nWeek 9 at King Murphy: Monsters & Ghouls – Monster Bookmarks
URL:https://cccldstaging1.org/event/king-murphy-summer-reading-week-9-pippinhoot-featherfayre-houses/
LOCATION:King Murphy Elementary\, 425 Circle K Ranch Road\, Evergreen\, CO\, 80439\, United States
CATEGORIES:Kids,Library Events,Summer Reading
GEO:39.6464019;-105.4162586
X-APPLE-STRUCTURED-LOCATION;VALUE=URI;X-ADDRESS=King Murphy Elementary 425 Circle K Ranch Road Evergreen CO 80439 United States;X-APPLE-RADIUS=500;X-TITLE=425 Circle K Ranch Road:geo:-105.4162586,39.6464019
END:VEVENT
BEGIN:VEVENT
DTSTART;TZID=America/Denver:20190801T100000
DTEND;TZID=America/Denver:20190801T140000
DTSTAMP:20260425T130501
CREATED:20190606T214535Z
LAST-MODIFIED:20190606T214535Z
UID:26484-1564653600-1564668000@cccldstaging1.org
SUMMARY:King Murphy Summer Reading Week 9: Pippinhoot & Featherfayre Houses
DESCRIPTION:Pippinhoot House: early learning – 2nd grade \nFeatherfayre House: 3rd – 5th grade \nWeek 9 at King Murphy: Monsters & Ghouls – Monster Bookmarks
URL:https://cccldstaging1.org/event/king-murphy-summer-reading-week-9-pippinhoot-featherfayre-houses-2/
LOCATION:King Murphy Elementary\, 425 Circle K Ranch Road\, Evergreen\, CO\, 80439\, United States
CATEGORIES:Kids,Library Events,Summer Reading
GEO:39.6464019;-105.4162586
X-APPLE-STRUCTURED-LOCATION;VALUE=URI;X-ADDRESS=King Murphy Elementary 425 Circle K Ranch Road Evergreen CO 80439 United States;X-APPLE-RADIUS=500;X-TITLE=425 Circle K Ranch Road:geo:-105.4162586,39.6464019
END:VEVENT
BEGIN:VEVENT
DTSTART;TZID=America/Denver:20190731T130000
DTEND;TZID=America/Denver:20190731T140000
DTSTAMP:20260425T130501
CREATED:20190606T222207Z
LAST-MODIFIED:20190606T222207Z
UID:3114-1564578000-1564581600@cccldstaging1.org
SUMMARY:JTML Summer Reading Week 9: Emberclaw House
DESCRIPTION:Emberclaw House: 6th – 12th grade \nWeek 9 in Georgetown: Defense Against the Dark Arts – Petronus Origami
URL:https://cccldstaging1.org/event/jtml-summer-reading-week-9-emberclaw-house/
LOCATION:John Tomay Memorial Library\, 605 6th Street\, Georgetown\, CO\, 80444\, United States
CATEGORIES:Kids,Library Events,Summer Reading
GEO:39.7061997;-105.6974142
X-APPLE-STRUCTURED-LOCATION;VALUE=URI;X-ADDRESS=John Tomay Memorial Library 605 6th Street Georgetown CO 80444 United States;X-APPLE-RADIUS=500;X-TITLE=605 6th Street:geo:-105.6974142,39.7061997
END:VEVENT
BEGIN:VEVENT
DTSTART;TZID=America/Denver:20190731T130000
DTEND;TZID=America/Denver:20190731T140000
DTSTAMP:20260425T130501
CREATED:20190606T222207Z
LAST-MODIFIED:20190606T222207Z
UID:26486-1564578000-1564581600@cccldstaging1.org
SUMMARY:JTML Summer Reading Week 9: Emberclaw House
DESCRIPTION:Emberclaw House: 6th – 12th grade \nWeek 9 in Georgetown: Defense Against the Dark Arts – Petronus Origami
URL:https://cccldstaging1.org/event/jtml-summer-reading-week-9-emberclaw-house-2/
LOCATION:John Tomay Memorial Library\, 605 6th Street\, Georgetown\, CO\, 80444\, United States
CATEGORIES:Kids,Library Events,Summer Reading
GEO:39.7061997;-105.6974142
X-APPLE-STRUCTURED-LOCATION;VALUE=URI;X-ADDRESS=John Tomay Memorial Library 605 6th Street Georgetown CO 80444 United States;X-APPLE-RADIUS=500;X-TITLE=605 6th Street:geo:-105.6974142,39.7061997
END:VEVENT
BEGIN:VEVENT
DTSTART;TZID=America/Denver:20190731T100000
DTEND;TZID=America/Denver:20190731T120000
DTSTAMP:20260425T130501
CREATED:20190516T202507Z
LAST-MODIFIED:20190606T214650Z
UID:2849-1564567200-1564574400@cccldstaging1.org
SUMMARY:JTML Summer Reading Week 9: Pippinhoot & Featherfayre Houses
DESCRIPTION:Pippinhoot House: early learning – 2nd grade \nFeatherfayre House: 3rd – 5th grade \nWeek 9 in Georgetown: Monsters & Ghouls – Monster Bookmarks
URL:https://cccldstaging1.org/event/jtml-summer-reading-pippinhoot-featherfayre-houses-5/
LOCATION:John Tomay Memorial Library\, 605 6th Street\, Georgetown\, CO\, 80444\, United States
CATEGORIES:Kids,Library Events,Summer Reading
GEO:39.7061997;-105.6974142
X-APPLE-STRUCTURED-LOCATION;VALUE=URI;X-ADDRESS=John Tomay Memorial Library 605 6th Street Georgetown CO 80444 United States;X-APPLE-RADIUS=500;X-TITLE=605 6th Street:geo:-105.6974142,39.7061997
END:VEVENT
BEGIN:VEVENT
DTSTART;TZID=America/Denver:20190731T100000
DTEND;TZID=America/Denver:20190731T120000
DTSTAMP:20260425T130501
CREATED:20190516T202507Z
LAST-MODIFIED:20190516T202507Z
UID:26458-1564567200-1564574400@cccldstaging1.org
SUMMARY:JTML Summer Reading Week 9: Pippinhoot & Featherfayre Houses
DESCRIPTION:Pippinhoot House: early learning – 2nd grade \nFeatherfayre House: 3rd – 5th grade \nWeek 9 in Georgetown: Monsters & Ghouls – Monster Bookmarks
URL:https://cccldstaging1.org/event/jtml-summer-reading-pippinhoot-featherfayre-houses-5-2/
LOCATION:John Tomay Memorial Library\, 605 6th Street\, Georgetown\, CO\, 80444\, United States
CATEGORIES:Kids,Library Events,Summer Reading
GEO:39.7061997;-105.6974142
X-APPLE-STRUCTURED-LOCATION;VALUE=URI;X-ADDRESS=John Tomay Memorial Library 605 6th Street Georgetown CO 80444 United States;X-APPLE-RADIUS=500;X-TITLE=605 6th Street:geo:-105.6974142,39.7061997
END:VEVENT
BEGIN:VEVENT
DTSTART;TZID=America/Denver:20190730T130000
DTEND;TZID=America/Denver:20190730T140000
DTSTAMP:20260425T130501
CREATED:20190606T221930Z
LAST-MODIFIED:20190606T222233Z
UID:3112-1564491600-1564495200@cccldstaging1.org
SUMMARY:ISPL Summer Reading Week 9: Emberclaw House
DESCRIPTION:Emberclaw House: 6th – 12th grade \nWeek 9 in Idaho Springs: Defense Against the Dark Arts – Petronus Origami
URL:https://cccldstaging1.org/event/ispl-summer-reading-week-9-emberclaw-house/
LOCATION:Idaho Springs Public Library\, 219 14th Avenue\, Idaho Springs\, CO\, 80452\, United States
CATEGORIES:Kids,Library Events,Summer Reading
GEO:39.742052;-105.5183552
X-APPLE-STRUCTURED-LOCATION;VALUE=URI;X-ADDRESS=Idaho Springs Public Library 219 14th Avenue Idaho Springs CO 80452 United States;X-APPLE-RADIUS=500;X-TITLE=219 14th Avenue:geo:-105.5183552,39.742052
END:VEVENT
BEGIN:VEVENT
DTSTART;TZID=America/Denver:20190730T130000
DTEND;TZID=America/Denver:20190730T140000
DTSTAMP:20260425T130501
CREATED:20190606T221930Z
LAST-MODIFIED:20190606T221930Z
UID:26485-1564491600-1564495200@cccldstaging1.org
SUMMARY:ISPL Summer Reading Week 9: Emberclaw House
DESCRIPTION:Emberclaw House: 6th – 12th grade \nWeek 9 in Idaho Springs: Defense Against the Dark Arts – Petronus Origami
URL:https://cccldstaging1.org/event/ispl-summer-reading-week-9-emberclaw-house-2/
LOCATION:Idaho Springs Public Library\, 219 14th Avenue\, Idaho Springs\, CO\, 80452\, United States
CATEGORIES:Kids,Library Events,Summer Reading
GEO:39.742052;-105.5183552
X-APPLE-STRUCTURED-LOCATION;VALUE=URI;X-ADDRESS=Idaho Springs Public Library 219 14th Avenue Idaho Springs CO 80452 United States;X-APPLE-RADIUS=500;X-TITLE=219 14th Avenue:geo:-105.5183552,39.742052
END:VEVENT
BEGIN:VEVENT
DTSTART;TZID=America/Denver:20190730T100000
DTEND;TZID=America/Denver:20190730T120000
DTSTAMP:20260425T130501
CREATED:20190516T202337Z
LAST-MODIFIED:20190606T210657Z
UID:2847-1564480800-1564488000@cccldstaging1.org
SUMMARY:ISPL Summer Reading Week 9: Pippinhoot & Featherfayre Houses
DESCRIPTION:Pippinhoot House: early learning – 2nd grade \nFeatherfayre House: 3rd – 5th grade \nWeek 9 in ISPL: Monsters & Ghouls – Monster Bookmarks
URL:https://cccldstaging1.org/event/ispl-summer-reading-week-9-pippinhoot-featherfayre-houses/
LOCATION:Idaho Springs Public Library\, 219 14th Avenue\, Idaho Springs\, CO\, 80452\, United States
CATEGORIES:Kids,Library Events,Summer Reading
GEO:39.742052;-105.5183552
X-APPLE-STRUCTURED-LOCATION;VALUE=URI;X-ADDRESS=Idaho Springs Public Library 219 14th Avenue Idaho Springs CO 80452 United States;X-APPLE-RADIUS=500;X-TITLE=219 14th Avenue:geo:-105.5183552,39.742052
END:VEVENT
BEGIN:VEVENT
DTSTART;TZID=America/Denver:20190730T100000
DTEND;TZID=America/Denver:20190730T120000
DTSTAMP:20260425T130501
CREATED:20190516T202337Z
LAST-MODIFIED:20190516T202337Z
UID:26457-1564480800-1564488000@cccldstaging1.org
SUMMARY:ISPL Summer Reading Week 9: Pippinhoot & Featherfayre Houses
DESCRIPTION:Pippinhoot House: early learning – 2nd grade \nFeatherfayre House: 3rd – 5th grade \nWeek 9 in ISPL: Monsters & Ghouls – Monster Bookmarks
URL:https://cccldstaging1.org/event/ispl-summer-reading-week-9-pippinhoot-featherfayre-houses-2/
LOCATION:Idaho Springs Public Library\, 219 14th Avenue\, Idaho Springs\, CO\, 80452\, United States
CATEGORIES:Kids,Library Events,Summer Reading
GEO:39.742052;-105.5183552
X-APPLE-STRUCTURED-LOCATION;VALUE=URI;X-ADDRESS=Idaho Springs Public Library 219 14th Avenue Idaho Springs CO 80452 United States;X-APPLE-RADIUS=500;X-TITLE=219 14th Avenue:geo:-105.5183552,39.742052
END:VEVENT
BEGIN:VEVENT
DTSTART;TZID=America/Denver:20190727T100000
DTEND;TZID=America/Denver:20190727T140000
DTSTAMP:20260425T130501
CREATED:20190701T195619Z
LAST-MODIFIED:20190701T195619Z
UID:3393-1564221600-1564236000@cccldstaging1.org
SUMMARY:Friends of the Idaho Springs Public Library Book Sale
DESCRIPTION:
URL:https://cccldstaging1.org/event/friends-of-the-idaho-springs-public-library-book-sale/
LOCATION:Citizens Park\, 1545 Miner St\, Idaho Springs\, CO\, United States
CATEGORIES:Adults,Community Events,Kids,Library Events
GEO:39.741832;-105.516591
X-APPLE-STRUCTURED-LOCATION;VALUE=URI;X-ADDRESS=Citizens Park 1545 Miner St Idaho Springs CO United States;X-APPLE-RADIUS=500;X-TITLE=1545 Miner St:geo:-105.516591,39.741832
END:VEVENT
BEGIN:VEVENT
DTSTART;TZID=America/Denver:20190727T100000
DTEND;TZID=America/Denver:20190727T140000
DTSTAMP:20260425T130501
CREATED:20190701T195619Z
LAST-MODIFIED:20190701T195619Z
UID:26508-1564221600-1564236000@cccldstaging1.org
SUMMARY:Friends of the Idaho Springs Public Library Book Sale
DESCRIPTION:
URL:https://cccldstaging1.org/event/friends-of-the-idaho-springs-public-library-book-sale-2/
LOCATION:Citizens Park\, 1545 Miner St\, Idaho Springs\, CO\, United States
CATEGORIES:Adults,Community Events,Kids,Library Events
GEO:39.741832;-105.516591
X-APPLE-STRUCTURED-LOCATION;VALUE=URI;X-ADDRESS=Citizens Park 1545 Miner St Idaho Springs CO United States;X-APPLE-RADIUS=500;X-TITLE=1545 Miner St:geo:-105.516591,39.741832
END:VEVENT
BEGIN:VEVENT
DTSTART;TZID=America/Denver:20190725T170000
DTEND;TZID=America/Denver:20190725T170000
DTSTAMP:20260425T130501
CREATED:20190701T190422Z
LAST-MODIFIED:20190701T190422Z
UID:3384-1564074000-1564074000@cccldstaging1.org
SUMMARY:Harry Potter Trivia Night at Westbound & Down Brewing Company
DESCRIPTION:Show us just how much of a Harry Potter fan you are! Join us for a night of Harry Potter trivia at Westbound & Down Brewing Company on July 25 at 5 pm.
URL:https://cccldstaging1.org/event/harry-potter-trivia-night-at-westbound-down-brewing-company/
LOCATION:Westbound & Down Brewing Company\, 1617 Miner Street\, Idaho Springs\, CO\, 80452\, United States
CATEGORIES:Adults,Kids,Library Events
GEO:39.7417922;-105.5154974
X-APPLE-STRUCTURED-LOCATION;VALUE=URI;X-ADDRESS=Westbound & Down Brewing Company 1617 Miner Street Idaho Springs CO 80452 United States;X-APPLE-RADIUS=500;X-TITLE=1617 Miner Street:geo:-105.5154974,39.7417922
END:VEVENT
BEGIN:VEVENT
DTSTART;TZID=America/Denver:20190725T170000
DTEND;TZID=America/Denver:20190725T170000
DTSTAMP:20260425T130501
CREATED:20190701T190422Z
LAST-MODIFIED:20190701T190422Z
UID:26505-1564074000-1564074000@cccldstaging1.org
SUMMARY:Harry Potter Trivia Night at Westbound & Down Brewing Company
DESCRIPTION:Show us just how much of a Harry Potter fan you are! Join us for a night of Harry Potter trivia at Westbound & Down Brewing Company on July 25 at 5 pm.
URL:https://cccldstaging1.org/event/harry-potter-trivia-night-at-westbound-down-brewing-company-2/
LOCATION:Westbound & Down Brewing Company\, 1617 Miner Street\, Idaho Springs\, CO\, 80452\, United States
CATEGORIES:Adults,Kids,Library Events
GEO:39.7417922;-105.5154974
X-APPLE-STRUCTURED-LOCATION;VALUE=URI;X-ADDRESS=Westbound & Down Brewing Company 1617 Miner Street Idaho Springs CO 80452 United States;X-APPLE-RADIUS=500;X-TITLE=1617 Miner Street:geo:-105.5154974,39.7417922
END:VEVENT
BEGIN:VEVENT
DTSTART;TZID=America/Denver:20190725T100000
DTEND;TZID=America/Denver:20190725T120000
DTSTAMP:20260425T130501
CREATED:20190606T213820Z
LAST-MODIFIED:20190606T213820Z
UID:3105-1564048800-1564056000@cccldstaging1.org
SUMMARY:King Murphy Summer Reading Week 8: Pippinhoot & Featherfayre Houses
DESCRIPTION:Pippinhoot House: early learning – 2nd grade \nFeatherfayre House: 3rd – 5th grade \nWeek 8 at King Murphy: Fortune Telling Lab – Crystal balls\, tea leaves\, & more!
URL:https://cccldstaging1.org/event/king-murphy-summer-reading-week-8-pippinhoot-featherfayre-houses/
LOCATION:King Murphy Elementary\, 425 Circle K Ranch Road\, Evergreen\, CO\, 80439\, United States
CATEGORIES:Kids,Library Events,Summer Reading
GEO:39.6464019;-105.4162586
X-APPLE-STRUCTURED-LOCATION;VALUE=URI;X-ADDRESS=King Murphy Elementary 425 Circle K Ranch Road Evergreen CO 80439 United States;X-APPLE-RADIUS=500;X-TITLE=425 Circle K Ranch Road:geo:-105.4162586,39.6464019
END:VEVENT
BEGIN:VEVENT
DTSTART;TZID=America/Denver:20190725T100000
DTEND;TZID=America/Denver:20190725T120000
DTSTAMP:20260425T130501
CREATED:20190606T213820Z
LAST-MODIFIED:20190606T213820Z
UID:26483-1564048800-1564056000@cccldstaging1.org
SUMMARY:King Murphy Summer Reading Week 8: Pippinhoot & Featherfayre Houses
DESCRIPTION:Pippinhoot House: early learning – 2nd grade \nFeatherfayre House: 3rd – 5th grade \nWeek 8 at King Murphy: Fortune Telling Lab – Crystal balls\, tea leaves\, & more!
URL:https://cccldstaging1.org/event/king-murphy-summer-reading-week-8-pippinhoot-featherfayre-houses-2/
LOCATION:King Murphy Elementary\, 425 Circle K Ranch Road\, Evergreen\, CO\, 80439\, United States
CATEGORIES:Kids,Library Events,Summer Reading
GEO:39.6464019;-105.4162586
X-APPLE-STRUCTURED-LOCATION;VALUE=URI;X-ADDRESS=King Murphy Elementary 425 Circle K Ranch Road Evergreen CO 80439 United States;X-APPLE-RADIUS=500;X-TITLE=425 Circle K Ranch Road:geo:-105.4162586,39.6464019
END:VEVENT
BEGIN:VEVENT
DTSTART;TZID=America/Denver:20190724T100000
DTEND;TZID=America/Denver:20190724T120000
DTSTAMP:20260425T130501
CREATED:20190516T202002Z
LAST-MODIFIED:20190606T210609Z
UID:2845-1563962400-1563969600@cccldstaging1.org
SUMMARY:JTML Summer Reading Week 8: Pippinhoot & Featherfayre Houses
DESCRIPTION:Pippinhoot House: early learning – 2nd grade \nFeatherfayre House: 3rd – 5th grade \nWeek 8 in Georgetown: Fortune Telling Lab – Crystal balls\, tea leaves\, & more!
URL:https://cccldstaging1.org/event/jtml-summer-reading-week-8-pippinhoot-featherfayre-houses/
LOCATION:John Tomay Memorial Library\, 605 6th Street\, Georgetown\, CO\, 80444\, United States
CATEGORIES:Kids,Library Events,Summer Reading
GEO:39.7061997;-105.6974142
X-APPLE-STRUCTURED-LOCATION;VALUE=URI;X-ADDRESS=John Tomay Memorial Library 605 6th Street Georgetown CO 80444 United States;X-APPLE-RADIUS=500;X-TITLE=605 6th Street:geo:-105.6974142,39.7061997
END:VEVENT
BEGIN:VEVENT
DTSTART;TZID=America/Denver:20190724T100000
DTEND;TZID=America/Denver:20190724T120000
DTSTAMP:20260425T130501
CREATED:20190516T202002Z
LAST-MODIFIED:20190516T202002Z
UID:26456-1563962400-1563969600@cccldstaging1.org
SUMMARY:JTML Summer Reading Week 8: Pippinhoot & Featherfayre Houses
DESCRIPTION:Pippinhoot House: early learning – 2nd grade \nFeatherfayre House: 3rd – 5th grade \nWeek 8 in Georgetown: Fortune Telling Lab – Crystal balls\, tea leaves\, & more!
URL:https://cccldstaging1.org/event/jtml-summer-reading-week-8-pippinhoot-featherfayre-houses-2/
LOCATION:John Tomay Memorial Library\, 605 6th Street\, Georgetown\, CO\, 80444\, United States
CATEGORIES:Kids,Library Events,Summer Reading
GEO:39.7061997;-105.6974142
X-APPLE-STRUCTURED-LOCATION;VALUE=URI;X-ADDRESS=John Tomay Memorial Library 605 6th Street Georgetown CO 80444 United States;X-APPLE-RADIUS=500;X-TITLE=605 6th Street:geo:-105.6974142,39.7061997
END:VEVENT
BEGIN:VEVENT
DTSTART;TZID=America/Denver:20190723T100000
DTEND;TZID=America/Denver:20190723T120000
DTSTAMP:20260425T130501
CREATED:20190516T201829Z
LAST-MODIFIED:20190606T210558Z
UID:2843-1563876000-1563883200@cccldstaging1.org
SUMMARY:ISPL Summer Reading Week 8: Pippinhoot & Featherfayre Houses
DESCRIPTION:Pippinhoot House: early learning – 2nd grade \nFeatherfayre House: 3rd – 5th grade \nWeek 8 in Idaho Springs: Fortune Telling Lab – Crystal balls\, tea leaves\, & more!
URL:https://cccldstaging1.org/event/ispl-summer-reading-week-8-pippinhoot-featherfayre-houses/
LOCATION:Idaho Springs Public Library\, 219 14th Avenue\, Idaho Springs\, CO\, 80452\, United States
CATEGORIES:Kids,Library Events,Summer Reading
GEO:39.742052;-105.5183552
X-APPLE-STRUCTURED-LOCATION;VALUE=URI;X-ADDRESS=Idaho Springs Public Library 219 14th Avenue Idaho Springs CO 80452 United States;X-APPLE-RADIUS=500;X-TITLE=219 14th Avenue:geo:-105.5183552,39.742052
END:VEVENT
BEGIN:VEVENT
DTSTART;TZID=America/Denver:20190723T100000
DTEND;TZID=America/Denver:20190723T120000
DTSTAMP:20260425T130501
CREATED:20190516T201829Z
LAST-MODIFIED:20190516T201829Z
UID:26455-1563876000-1563883200@cccldstaging1.org
SUMMARY:ISPL Summer Reading Week 8: Pippinhoot & Featherfayre Houses
DESCRIPTION:Pippinhoot House: early learning – 2nd grade \nFeatherfayre House: 3rd – 5th grade \nWeek 8 in Idaho Springs: Fortune Telling Lab – Crystal balls\, tea leaves\, & more!
URL:https://cccldstaging1.org/event/ispl-summer-reading-week-8-pippinhoot-featherfayre-houses-2/
LOCATION:Idaho Springs Public Library\, 219 14th Avenue\, Idaho Springs\, CO\, 80452\, United States
CATEGORIES:Kids,Library Events,Summer Reading
GEO:39.742052;-105.5183552
X-APPLE-STRUCTURED-LOCATION;VALUE=URI;X-ADDRESS=Idaho Springs Public Library 219 14th Avenue Idaho Springs CO 80452 United States;X-APPLE-RADIUS=500;X-TITLE=219 14th Avenue:geo:-105.5183552,39.742052
END:VEVENT
END:VCALENDAR