BEGIN:VCALENDAR
VERSION:2.0
PRODID:-//Clear Creek County Library District Staging - ECPv6.15.20//NONSGML v1.0//EN
CALSCALE:GREGORIAN
METHOD:PUBLISH
X-ORIGINAL-URL:https://cccldstaging1.org
X-WR-CALDESC:Events for Clear Creek County Library District Staging
REFRESH-INTERVAL;VALUE=DURATION:PT1H
X-Robots-Tag:noindex
X-PUBLISHED-TTL:PT1H
BEGIN:VTIMEZONE
TZID:America/Denver
BEGIN:DAYLIGHT
TZOFFSETFROM:-0700
TZOFFSETTO:-0600
TZNAME:MDT
DTSTART:20180311T090000
END:DAYLIGHT
BEGIN:STANDARD
TZOFFSETFROM:-0600
TZOFFSETTO:-0700
TZNAME:MST
DTSTART:20181104T080000
END:STANDARD
BEGIN:DAYLIGHT
TZOFFSETFROM:-0700
TZOFFSETTO:-0600
TZNAME:MDT
DTSTART:20190310T090000
END:DAYLIGHT
BEGIN:STANDARD
TZOFFSETFROM:-0600
TZOFFSETTO:-0700
TZNAME:MST
DTSTART:20191103T080000
END:STANDARD
BEGIN:DAYLIGHT
TZOFFSETFROM:-0700
TZOFFSETTO:-0600
TZNAME:MDT
DTSTART:20200308T090000
END:DAYLIGHT
BEGIN:STANDARD
TZOFFSETFROM:-0600
TZOFFSETTO:-0700
TZNAME:MST
DTSTART:20201101T080000
END:STANDARD
BEGIN:DAYLIGHT
TZOFFSETFROM:-0700
TZOFFSETTO:-0600
TZNAME:MDT
DTSTART:20210314T090000
END:DAYLIGHT
BEGIN:STANDARD
TZOFFSETFROM:-0600
TZOFFSETTO:-0700
TZNAME:MST
DTSTART:20211107T080000
END:STANDARD
END:VTIMEZONE
BEGIN:VEVENT
DTSTART;TZID=America/Denver:20200103T170000
DTEND;TZID=America/Denver:20200103T170000
DTSTAMP:20260425T055443
CREATED:20191218T221700Z
LAST-MODIFIED:20200103T224603Z
UID:5694-1578070800-1578070800@cccldstaging1.org
SUMMARY:Georgetown Movie Night
DESCRIPTION:Enjoy a free\, family-friendly movie on the big screen at your library! Satisfy your cravings with snacks and freshly-popped popcorn available for sale at our mini concessions stand. \nJanuary Movie: Abominable
URL:https://cccldstaging1.org/event/georgetown-movie-night-4/
LOCATION:Georgetown Heritage Center\, 809 Taos Street\, Georgetown\, CO\, 80444\, United States
CATEGORIES:Kids,Library Events
GEO:39.7076439;-105.6959246
X-APPLE-STRUCTURED-LOCATION;VALUE=URI;X-ADDRESS=Georgetown Heritage Center 809 Taos Street Georgetown CO 80444 United States;X-APPLE-RADIUS=500;X-TITLE=809 Taos Street:geo:-105.6959246,39.7076439
END:VEVENT
BEGIN:VEVENT
DTSTART;TZID=America/Denver:20200103T170000
DTEND;TZID=America/Denver:20200103T170000
DTSTAMP:20260425T055443
CREATED:20191218T221700Z
LAST-MODIFIED:20191218T221700Z
UID:26763-1578070800-1578070800@cccldstaging1.org
SUMMARY:Georgetown Movie Night
DESCRIPTION:Enjoy a free\, family-friendly movie on the big screen at your library! Satisfy your cravings with snacks and freshly-popped popcorn available for sale at our mini concessions stand. \nJanuary Movie: Abominable
URL:https://cccldstaging1.org/event/georgetown-movie-night-4-2/
LOCATION:Georgetown Heritage Center\, 809 Taos Street\, Georgetown\, CO\, 80444\, United States
CATEGORIES:Kids,Library Events
GEO:39.7076439;-105.6959246
X-APPLE-STRUCTURED-LOCATION;VALUE=URI;X-ADDRESS=Georgetown Heritage Center 809 Taos Street Georgetown CO 80444 United States;X-APPLE-RADIUS=500;X-TITLE=809 Taos Street:geo:-105.6959246,39.7076439
END:VEVENT
BEGIN:VEVENT
DTSTART;TZID=America/Denver:20191213T153000
DTEND;TZID=America/Denver:20191213T153000
DTSTAMP:20260425T055443
CREATED:20191122T231909Z
LAST-MODIFIED:20191203T182249Z
UID:5405-1576251000-1576251000@cccldstaging1.org
SUMMARY:Idaho Springs Movie Night
DESCRIPTION:Enjoy a free\, family-friendly movie on the big screen at your library! Satisfy your cravings with snacks and freshly-popped popcorn available for sale at our mini concessions stand. \nPlease take note! This month\, the movie will be shown at 3:30 pm. \nDecember Movie: Angry Birds 2
URL:https://cccldstaging1.org/event/idaho-springs-movie-night-3/
LOCATION:Idaho Springs Public Library\, 219 14th Avenue\, Idaho Springs\, CO\, 80452\, United States
CATEGORIES:Kids,Library Events
GEO:39.742052;-105.5183552
X-APPLE-STRUCTURED-LOCATION;VALUE=URI;X-ADDRESS=Idaho Springs Public Library 219 14th Avenue Idaho Springs CO 80452 United States;X-APPLE-RADIUS=500;X-TITLE=219 14th Avenue:geo:-105.5183552,39.742052
END:VEVENT
BEGIN:VEVENT
DTSTART;TZID=America/Denver:20191213T153000
DTEND;TZID=America/Denver:20191213T153000
DTSTAMP:20260425T055443
CREATED:20191122T231909Z
LAST-MODIFIED:20191122T231909Z
UID:26729-1576251000-1576251000@cccldstaging1.org
SUMMARY:Idaho Springs Movie Night
DESCRIPTION:Enjoy a free\, family-friendly movie on the big screen at your library! Satisfy your cravings with snacks and freshly-popped popcorn available for sale at our mini concessions stand. \nPlease take note! This month\, the movie will be shown at 3:30 pm. \nDecember Movie: Angry Birds 2
URL:https://cccldstaging1.org/event/idaho-springs-movie-night-3-2/
LOCATION:Idaho Springs Public Library\, 219 14th Avenue\, Idaho Springs\, CO\, 80452\, United States
CATEGORIES:Kids,Library Events
GEO:39.742052;-105.5183552
X-APPLE-STRUCTURED-LOCATION;VALUE=URI;X-ADDRESS=Idaho Springs Public Library 219 14th Avenue Idaho Springs CO 80452 United States;X-APPLE-RADIUS=500;X-TITLE=219 14th Avenue:geo:-105.5183552,39.742052
END:VEVENT
BEGIN:VEVENT
DTSTART;TZID=America/Denver:20191207T110000
DTEND;TZID=America/Denver:20191207T130000
DTSTAMP:20260425T055443
CREATED:20191125T185500Z
LAST-MODIFIED:20191125T185500Z
UID:5427-1575716400-1575723600@cccldstaging1.org
SUMMARY:Santa's Workshop
DESCRIPTION:Visit the Georgetown Library during Georgetown’s Christmas Market for crafts and to visit with Santa!
URL:https://cccldstaging1.org/event/santas-workshop/2019-12-07/
LOCATION:John Tomay Memorial Library\, 605 6th Street\, Georgetown\, CO\, 80444\, United States
CATEGORIES:Adults,Community Events,Kids,Library Events
GEO:39.7061997;-105.6974142
X-APPLE-STRUCTURED-LOCATION;VALUE=URI;X-ADDRESS=John Tomay Memorial Library 605 6th Street Georgetown CO 80444 United States;X-APPLE-RADIUS=500;X-TITLE=605 6th Street:geo:-105.6974142,39.7061997
END:VEVENT
BEGIN:VEVENT
DTSTART;TZID=America/Denver:20191207T110000
DTEND;TZID=America/Denver:20191207T130000
DTSTAMP:20260425T055443
CREATED:20191125T185500Z
LAST-MODIFIED:20191125T185500Z
UID:26730-1575716400-1575723600@cccldstaging1.org
SUMMARY:Santa's Workshop
DESCRIPTION:Visit the Georgetown Library during Georgetown’s Christmas Market for crafts and to visit with Santa!
URL:https://cccldstaging1.org/event/santas-workshop-2/2019-12-07/
LOCATION:John Tomay Memorial Library\, 605 6th Street\, Georgetown\, CO\, 80444\, United States
CATEGORIES:Adults,Community Events,Kids,Library Events
GEO:39.7061997;-105.6974142
X-APPLE-STRUCTURED-LOCATION;VALUE=URI;X-ADDRESS=John Tomay Memorial Library 605 6th Street Georgetown CO 80444 United States;X-APPLE-RADIUS=500;X-TITLE=605 6th Street:geo:-105.6974142,39.7061997
END:VEVENT
BEGIN:VEVENT
DTSTART;TZID=America/Denver:20191206T154500
DTEND;TZID=America/Denver:20191206T154500
DTSTAMP:20260425T055443
CREATED:20191122T231656Z
LAST-MODIFIED:20191203T182211Z
UID:5402-1575647100-1575647100@cccldstaging1.org
SUMMARY:Georgetown Movie Night
DESCRIPTION:Enjoy a free\, family-friendly movie on the big screen at your library! Satisfy your cravings with snacks and freshly-popped popcorn available for sale at our mini concessions stand. \nPlease take note! This month\, the movie will be shown at 3:45 pm at the John Tomay Memorial Library. \nDecember Movie: Angry Birds 2
URL:https://cccldstaging1.org/event/georgetown-movie-night-3/
LOCATION:John Tomay Memorial Library\, 605 6th Street\, Georgetown\, CO\, 80444\, United States
CATEGORIES:Kids,Library Events
GEO:39.7061997;-105.6974142
X-APPLE-STRUCTURED-LOCATION;VALUE=URI;X-ADDRESS=John Tomay Memorial Library 605 6th Street Georgetown CO 80444 United States;X-APPLE-RADIUS=500;X-TITLE=605 6th Street:geo:-105.6974142,39.7061997
END:VEVENT
BEGIN:VEVENT
DTSTART;TZID=America/Denver:20191206T154500
DTEND;TZID=America/Denver:20191206T154500
DTSTAMP:20260425T055443
CREATED:20191122T231656Z
LAST-MODIFIED:20191122T231656Z
UID:26728-1575647100-1575647100@cccldstaging1.org
SUMMARY:Georgetown Movie Night
DESCRIPTION:Enjoy a free\, family-friendly movie on the big screen at your library! Satisfy your cravings with snacks and freshly-popped popcorn available for sale at our mini concessions stand. \nPlease take note! This month\, the movie will be shown at 3:45 pm at the John Tomay Memorial Library. \nDecember Movie: Angry Birds 2
URL:https://cccldstaging1.org/event/georgetown-movie-night-3-2/
LOCATION:John Tomay Memorial Library\, 605 6th Street\, Georgetown\, CO\, 80444\, United States
CATEGORIES:Kids,Library Events
GEO:39.7061997;-105.6974142
X-APPLE-STRUCTURED-LOCATION;VALUE=URI;X-ADDRESS=John Tomay Memorial Library 605 6th Street Georgetown CO 80444 United States;X-APPLE-RADIUS=500;X-TITLE=605 6th Street:geo:-105.6974142,39.7061997
END:VEVENT
BEGIN:VEVENT
DTSTART;TZID=America/Denver:20191130T170000
DTEND;TZID=America/Denver:20191130T170000
DTSTAMP:20260425T055443
CREATED:20191029T215402Z
LAST-MODIFIED:20191115T205422Z
UID:5133-1575133200-1575133200@cccldstaging1.org
SUMMARY:Georgetown Tree Lighting & Cookie Decorating Workshop
DESCRIPTION:The annual tree lighting is a wonderful holiday event in Georgetown! There will be carols starting at 5 pm\, with the tree lighting occurring at 6 pm with a cookie decorating workshop to immediately follow at the Georgetown Library.
URL:https://cccldstaging1.org/event/georgetown-tree-lighting-cookie-decorating-workshop/
LOCATION:John Tomay Memorial Library\, 605 6th Street\, Georgetown\, CO\, 80444\, United States
CATEGORIES:Adults,Community Events,Kids,Library Events
GEO:39.7061997;-105.6974142
X-APPLE-STRUCTURED-LOCATION;VALUE=URI;X-ADDRESS=John Tomay Memorial Library 605 6th Street Georgetown CO 80444 United States;X-APPLE-RADIUS=500;X-TITLE=605 6th Street:geo:-105.6974142,39.7061997
END:VEVENT
BEGIN:VEVENT
DTSTART;TZID=America/Denver:20191130T170000
DTEND;TZID=America/Denver:20191130T170000
DTSTAMP:20260425T055443
CREATED:20191029T215402Z
LAST-MODIFIED:20191029T215402Z
UID:26697-1575133200-1575133200@cccldstaging1.org
SUMMARY:Georgetown Tree Lighting & Cookie Decorating Workshop
DESCRIPTION:The annual tree lighting is a wonderful holiday event in Georgetown! There will be carols starting at 5 pm\, with the tree lighting occurring at 6 pm with a cookie decorating workshop to immediately follow at the Georgetown Library.
URL:https://cccldstaging1.org/event/georgetown-tree-lighting-cookie-decorating-workshop-2/
LOCATION:John Tomay Memorial Library\, 605 6th Street\, Georgetown\, CO\, 80444\, United States
CATEGORIES:Adults,Community Events,Kids,Library Events
GEO:39.7061997;-105.6974142
X-APPLE-STRUCTURED-LOCATION;VALUE=URI;X-ADDRESS=John Tomay Memorial Library 605 6th Street Georgetown CO 80444 United States;X-APPLE-RADIUS=500;X-TITLE=605 6th Street:geo:-105.6974142,39.7061997
END:VEVENT
BEGIN:VEVENT
DTSTART;TZID=America/Denver:20191127T140000
DTEND;TZID=America/Denver:20191127T140000
DTSTAMP:20260425T055443
CREATED:20191029T213917Z
LAST-MODIFIED:20191029T213917Z
UID:5131-1574863200-1574863200@cccldstaging1.org
SUMMARY:Ultimate Werewolf
DESCRIPTION:Come to the Georgetown Library for an exciting game of Ultimate Werewolf. Fun for all ages!
URL:https://cccldstaging1.org/event/ultimate-werewolf/
LOCATION:John Tomay Memorial Library\, 605 6th Street\, Georgetown\, CO\, 80444\, United States
CATEGORIES:Kids,Library Events
GEO:39.7061997;-105.6974142
X-APPLE-STRUCTURED-LOCATION;VALUE=URI;X-ADDRESS=John Tomay Memorial Library 605 6th Street Georgetown CO 80444 United States;X-APPLE-RADIUS=500;X-TITLE=605 6th Street:geo:-105.6974142,39.7061997
END:VEVENT
BEGIN:VEVENT
DTSTART;TZID=America/Denver:20191127T140000
DTEND;TZID=America/Denver:20191127T140000
DTSTAMP:20260425T055443
CREATED:20191029T213917Z
LAST-MODIFIED:20191029T213917Z
UID:26696-1574863200-1574863200@cccldstaging1.org
SUMMARY:Ultimate Werewolf
DESCRIPTION:Come to the Georgetown Library for an exciting game of Ultimate Werewolf. Fun for all ages!
URL:https://cccldstaging1.org/event/ultimate-werewolf-2/
LOCATION:John Tomay Memorial Library\, 605 6th Street\, Georgetown\, CO\, 80444\, United States
CATEGORIES:Kids,Library Events
GEO:39.7061997;-105.6974142
X-APPLE-STRUCTURED-LOCATION;VALUE=URI;X-ADDRESS=John Tomay Memorial Library 605 6th Street Georgetown CO 80444 United States;X-APPLE-RADIUS=500;X-TITLE=605 6th Street:geo:-105.6974142,39.7061997
END:VEVENT
BEGIN:VEVENT
DTSTART;TZID=America/Denver:20191125T140000
DTEND;TZID=America/Denver:20191125T140000
DTSTAMP:20260425T055443
CREATED:20191029T212920Z
LAST-MODIFIED:20191029T212920Z
UID:5127-1574690400-1574690400@cccldstaging1.org
SUMMARY:Pictionary and Cookies
DESCRIPTION:Play Pictionary and eat cookies on your day off from school!
URL:https://cccldstaging1.org/event/pictionary-and-cookies/
LOCATION:Idaho Springs Public Library\, 219 14th Avenue\, Idaho Springs\, CO\, 80452\, United States
CATEGORIES:Kids,Library Events
GEO:39.742052;-105.5183552
X-APPLE-STRUCTURED-LOCATION;VALUE=URI;X-ADDRESS=Idaho Springs Public Library 219 14th Avenue Idaho Springs CO 80452 United States;X-APPLE-RADIUS=500;X-TITLE=219 14th Avenue:geo:-105.5183552,39.742052
END:VEVENT
BEGIN:VEVENT
DTSTART;TZID=America/Denver:20191125T140000
DTEND;TZID=America/Denver:20191125T140000
DTSTAMP:20260425T055443
CREATED:20191029T212920Z
LAST-MODIFIED:20191029T212920Z
UID:26694-1574690400-1574690400@cccldstaging1.org
SUMMARY:Pictionary and Cookies
DESCRIPTION:Play Pictionary and eat cookies on your day off from school!
URL:https://cccldstaging1.org/event/pictionary-and-cookies-3/
LOCATION:Idaho Springs Public Library\, 219 14th Avenue\, Idaho Springs\, CO\, 80452\, United States
CATEGORIES:Kids,Library Events
GEO:39.742052;-105.5183552
X-APPLE-STRUCTURED-LOCATION;VALUE=URI;X-ADDRESS=Idaho Springs Public Library 219 14th Avenue Idaho Springs CO 80452 United States;X-APPLE-RADIUS=500;X-TITLE=219 14th Avenue:geo:-105.5183552,39.742052
END:VEVENT
BEGIN:VEVENT
DTSTART;TZID=America/Denver:20191125T130000
DTEND;TZID=America/Denver:20191125T160000
DTSTAMP:20260425T055443
CREATED:20191029T213136Z
LAST-MODIFIED:20191029T213136Z
UID:5129-1574686800-1574697600@cccldstaging1.org
SUMMARY:Virtual Reality - in Georgetown!
DESCRIPTION:Virtual Reality is coming to Georgetown! Register to reserve your spot today by calling 303-569-2620.
URL:https://cccldstaging1.org/event/virtual-reality-in-georgetown/
LOCATION:John Tomay Memorial Library\, 605 6th Street\, Georgetown\, CO\, 80444\, United States
CATEGORIES:Adults,Kids,Library Events
GEO:39.7061997;-105.6974142
X-APPLE-STRUCTURED-LOCATION;VALUE=URI;X-ADDRESS=John Tomay Memorial Library 605 6th Street Georgetown CO 80444 United States;X-APPLE-RADIUS=500;X-TITLE=605 6th Street:geo:-105.6974142,39.7061997
END:VEVENT
BEGIN:VEVENT
DTSTART;TZID=America/Denver:20191125T130000
DTEND;TZID=America/Denver:20191125T160000
DTSTAMP:20260425T055443
CREATED:20191029T213136Z
LAST-MODIFIED:20191029T213136Z
UID:26695-1574686800-1574697600@cccldstaging1.org
SUMMARY:Virtual Reality - in Georgetown!
DESCRIPTION:Virtual Reality is coming to Georgetown! Register to reserve your spot today by calling 303-569-2620.
URL:https://cccldstaging1.org/event/virtual-reality-in-georgetown-2/
LOCATION:John Tomay Memorial Library\, 605 6th Street\, Georgetown\, CO\, 80444\, United States
CATEGORIES:Adults,Kids,Library Events
GEO:39.7061997;-105.6974142
X-APPLE-STRUCTURED-LOCATION;VALUE=URI;X-ADDRESS=John Tomay Memorial Library 605 6th Street Georgetown CO 80444 United States;X-APPLE-RADIUS=500;X-TITLE=605 6th Street:geo:-105.6974142,39.7061997
END:VEVENT
BEGIN:VEVENT
DTSTART;TZID=America/Denver:20191113T154500
DTEND;TZID=America/Denver:20191113T170000
DTSTAMP:20260425T055443
CREATED:20191029T202315Z
LAST-MODIFIED:20191029T202315Z
UID:26687-1573659900-1573664400@cccldstaging1.org
SUMMARY:Sweet Side of Chemistry
DESCRIPTION:Join physical scientist Carrie Middleton to learn all about the chemistry of candy!
URL:https://cccldstaging1.org/event/sweet-side-of-chemistry-2/
LOCATION:John Tomay Memorial Library\, 605 6th Street\, Georgetown\, CO\, 80444\, United States
CATEGORIES:Kids,Library Events
GEO:39.7061997;-105.6974142
X-APPLE-STRUCTURED-LOCATION;VALUE=URI;X-ADDRESS=John Tomay Memorial Library 605 6th Street Georgetown CO 80444 United States;X-APPLE-RADIUS=500;X-TITLE=605 6th Street:geo:-105.6974142,39.7061997
END:VEVENT
BEGIN:VEVENT
DTSTART;TZID=America/Denver:20191113T154500
DTEND;TZID=America/Denver:20191113T170000
DTSTAMP:20260425T055443
CREATED:20191029T202315Z
LAST-MODIFIED:20191029T202315Z
UID:5110-1573659900-1573664400@cccldstaging1.org
SUMMARY:Sweet Side of Chemistry
DESCRIPTION:Join physical scientist Carrie Middleton to learn all about the chemistry of candy!
URL:https://cccldstaging1.org/event/sweet-side-of-chemistry/
LOCATION:John Tomay Memorial Library\, 605 6th Street\, Georgetown\, CO\, 80444\, United States
CATEGORIES:Kids,Library Events
GEO:39.7061997;-105.6974142
X-APPLE-STRUCTURED-LOCATION;VALUE=URI;X-ADDRESS=John Tomay Memorial Library 605 6th Street Georgetown CO 80444 United States;X-APPLE-RADIUS=500;X-TITLE=605 6th Street:geo:-105.6974142,39.7061997
END:VEVENT
BEGIN:VEVENT
DTSTART;TZID=America/Denver:20191109T110000
DTEND;TZID=America/Denver:20191109T140000
DTSTAMP:20260425T055443
CREATED:20191029T201524Z
LAST-MODIFIED:20191029T201524Z
UID:26685-1573297200-1573308000@cccldstaging1.org
SUMMARY:Library Crafts at Bighorn Sheep Festival
DESCRIPTION:The Bighorn Sheep Festival is an annual Georgetown event you don’t want to miss! Visit the Georgetown Library for some fun bighorn-themed crafts during the festival. \nFind full event details here.
URL:https://cccldstaging1.org/event/library-crafts-at-bighorn-sheep-festival-2/
LOCATION:John Tomay Memorial Library\, 605 6th Street\, Georgetown\, CO\, 80444\, United States
CATEGORIES:Community Events,Kids,Library Events
GEO:39.7061997;-105.6974142
X-APPLE-STRUCTURED-LOCATION;VALUE=URI;X-ADDRESS=John Tomay Memorial Library 605 6th Street Georgetown CO 80444 United States;X-APPLE-RADIUS=500;X-TITLE=605 6th Street:geo:-105.6974142,39.7061997
END:VEVENT
BEGIN:VEVENT
DTSTART;TZID=America/Denver:20191109T110000
DTEND;TZID=America/Denver:20191109T140000
DTSTAMP:20260425T055443
CREATED:20191029T201524Z
LAST-MODIFIED:20191029T201524Z
UID:5104-1573297200-1573308000@cccldstaging1.org
SUMMARY:Library Crafts at Bighorn Sheep Festival
DESCRIPTION:The Bighorn Sheep Festival is an annual Georgetown event you don’t want to miss! Visit the Georgetown Library for some fun bighorn-themed crafts during the festival. \nFind full event details here.
URL:https://cccldstaging1.org/event/library-crafts-at-bighorn-sheep-festival/
LOCATION:John Tomay Memorial Library\, 605 6th Street\, Georgetown\, CO\, 80444\, United States
CATEGORIES:Community Events,Kids,Library Events
GEO:39.7061997;-105.6974142
X-APPLE-STRUCTURED-LOCATION;VALUE=URI;X-ADDRESS=John Tomay Memorial Library 605 6th Street Georgetown CO 80444 United States;X-APPLE-RADIUS=500;X-TITLE=605 6th Street:geo:-105.6974142,39.7061997
END:VEVENT
BEGIN:VEVENT
DTSTART;TZID=America/Denver:20191108T170000
DTEND;TZID=America/Denver:20191108T190000
DTSTAMP:20260425T055443
CREATED:20191029T195022Z
LAST-MODIFIED:20191029T195022Z
UID:26682-1573232400-1573239600@cccldstaging1.org
SUMMARY:Idaho Springs Movie Night
DESCRIPTION:Enjoy a free\, family-friendly movie on the big screen at your library! Satisfy your cravings with snacks and freshly-popped popcorn available for sale at our mini concessions stand. \nNovember Movie: The Lion King (live action)
URL:https://cccldstaging1.org/event/idaho-springs-movie-night-2-2/
LOCATION:Idaho Springs Public Library\, 219 14th Avenue\, Idaho Springs\, CO\, 80452\, United States
CATEGORIES:Kids,Library Events
GEO:39.742052;-105.5183552
X-APPLE-STRUCTURED-LOCATION;VALUE=URI;X-ADDRESS=Idaho Springs Public Library 219 14th Avenue Idaho Springs CO 80452 United States;X-APPLE-RADIUS=500;X-TITLE=219 14th Avenue:geo:-105.5183552,39.742052
END:VEVENT
BEGIN:VEVENT
DTSTART;TZID=America/Denver:20191108T170000
DTEND;TZID=America/Denver:20191108T190000
DTSTAMP:20260425T055443
CREATED:20191029T195022Z
LAST-MODIFIED:20191029T195022Z
UID:5077-1573232400-1573239600@cccldstaging1.org
SUMMARY:Idaho Springs Movie Night
DESCRIPTION:Enjoy a free\, family-friendly movie on the big screen at your library! Satisfy your cravings with snacks and freshly-popped popcorn available for sale at our mini concessions stand. \nNovember Movie: The Lion King (live action)
URL:https://cccldstaging1.org/event/idaho-springs-movie-night-2/
LOCATION:Idaho Springs Public Library\, 219 14th Avenue\, Idaho Springs\, CO\, 80452\, United States
CATEGORIES:Kids,Library Events
GEO:39.742052;-105.5183552
X-APPLE-STRUCTURED-LOCATION;VALUE=URI;X-ADDRESS=Idaho Springs Public Library 219 14th Avenue Idaho Springs CO 80452 United States;X-APPLE-RADIUS=500;X-TITLE=219 14th Avenue:geo:-105.5183552,39.742052
END:VEVENT
BEGIN:VEVENT
DTSTART;TZID=America/Denver:20191102T120000
DTEND;TZID=America/Denver:20191102T160000
DTSTAMP:20260425T055443
CREATED:20191029T195606Z
LAST-MODIFIED:20191029T195606Z
UID:26683-1572696000-1572710400@cccldstaging1.org
SUMMARY:Pumpkin Smash
DESCRIPTION:Attend the 11th annual Pumpkin Smash in Idaho Springs! Full details on the event here. Visit the Clear Creek County Library District table for s’mores!
URL:https://cccldstaging1.org/event/pumpkin-smash-2/
LOCATION:Idaho Springs Baseball Fields\, 101 East Idaho Springs Road\, Idaho Springs\, CO\, 80452\, United States
CATEGORIES:Adults,Community Events,Kids,Library Events
ORGANIZER;CN="":MAILTO:lucy@cccld.org
GEO:39.741215;-105.4945049
X-APPLE-STRUCTURED-LOCATION;VALUE=URI;X-ADDRESS=Idaho Springs Baseball Fields 101 East Idaho Springs Road Idaho Springs CO 80452 United States;X-APPLE-RADIUS=500;X-TITLE=101 East Idaho Springs Road:geo:-105.4945049,39.741215
END:VEVENT
BEGIN:VEVENT
DTSTART;TZID=America/Denver:20191102T120000
DTEND;TZID=America/Denver:20191102T160000
DTSTAMP:20260425T055443
CREATED:20191029T195606Z
LAST-MODIFIED:20191029T195606Z
UID:5079-1572696000-1572710400@cccldstaging1.org
SUMMARY:Pumpkin Smash
DESCRIPTION:Attend the 11th annual Pumpkin Smash in Idaho Springs! Full details on the event here. Visit the Clear Creek County Library District table for s’mores!
URL:https://cccldstaging1.org/event/pumpkin-smash/
LOCATION:Idaho Springs Baseball Fields\, 101 East Idaho Springs Road\, Idaho Springs\, CO\, 80452\, United States
CATEGORIES:Adults,Community Events,Kids,Library Events
ORGANIZER;CN="":MAILTO:lucy@cccld.org
GEO:39.741215;-105.4945049
X-APPLE-STRUCTURED-LOCATION;VALUE=URI;X-ADDRESS=Idaho Springs Baseball Fields 101 East Idaho Springs Road Idaho Springs CO 80452 United States;X-APPLE-RADIUS=500;X-TITLE=101 East Idaho Springs Road:geo:-105.4945049,39.741215
END:VEVENT
BEGIN:VEVENT
DTSTART;TZID=America/Denver:20191101T170000
DTEND;TZID=America/Denver:20191101T190000
DTSTAMP:20260425T055443
CREATED:20191029T194723Z
LAST-MODIFIED:20191029T194723Z
UID:26681-1572627600-1572634800@cccldstaging1.org
SUMMARY:Georgetown Movie Night
DESCRIPTION:Enjoy a free\, family-friendly movie on the big screen at your library! Satisfy your cravings with snacks and freshly-popped popcorn available for sale at our mini concessions stand. \nNovember Movie: The Lion King (live action)
URL:https://cccldstaging1.org/event/georgetown-movie-night-2-2/
LOCATION:Georgetown Heritage Center\, 809 Taos Street\, Georgetown\, CO\, 80444\, United States
CATEGORIES:Kids,Library Events
GEO:39.7076439;-105.6959246
X-APPLE-STRUCTURED-LOCATION;VALUE=URI;X-ADDRESS=Georgetown Heritage Center 809 Taos Street Georgetown CO 80444 United States;X-APPLE-RADIUS=500;X-TITLE=809 Taos Street:geo:-105.6959246,39.7076439
END:VEVENT
BEGIN:VEVENT
DTSTART;TZID=America/Denver:20191101T170000
DTEND;TZID=America/Denver:20191101T190000
DTSTAMP:20260425T055443
CREATED:20191029T194723Z
LAST-MODIFIED:20191029T194723Z
UID:5074-1572627600-1572634800@cccldstaging1.org
SUMMARY:Georgetown Movie Night
DESCRIPTION:Enjoy a free\, family-friendly movie on the big screen at your library! Satisfy your cravings with snacks and freshly-popped popcorn available for sale at our mini concessions stand. \nNovember Movie: The Lion King (live action)
URL:https://cccldstaging1.org/event/georgetown-movie-night-2/
LOCATION:Georgetown Heritage Center\, 809 Taos Street\, Georgetown\, CO\, 80444\, United States
CATEGORIES:Kids,Library Events
GEO:39.7076439;-105.6959246
X-APPLE-STRUCTURED-LOCATION;VALUE=URI;X-ADDRESS=Georgetown Heritage Center 809 Taos Street Georgetown CO 80444 United States;X-APPLE-RADIUS=500;X-TITLE=809 Taos Street:geo:-105.6959246,39.7076439
END:VEVENT
BEGIN:VEVENT
DTSTART;TZID=America/Denver:20191031T170000
DTEND;TZID=America/Denver:20191031T190000
DTSTAMP:20260425T055443
CREATED:20190924T172953Z
LAST-MODIFIED:20190924T172953Z
UID:26642-1572541200-1572548400@cccldstaging1.org
SUMMARY:Georgetown BOOkfest
DESCRIPTION:Make the Georgetown Library a stop on your trick-or-treating route! We’ll have free books\, treats\, and hot chocolate waiting for you.
URL:https://cccldstaging1.org/event/georgetown-bookfest-2/
LOCATION:John Tomay Memorial Library\, 605 6th Street\, Georgetown\, CO\, 80444\, United States
CATEGORIES:Adults,Community Events,Kids,Library Events
GEO:39.7061997;-105.6974142
X-APPLE-STRUCTURED-LOCATION;VALUE=URI;X-ADDRESS=John Tomay Memorial Library 605 6th Street Georgetown CO 80444 United States;X-APPLE-RADIUS=500;X-TITLE=605 6th Street:geo:-105.6974142,39.7061997
END:VEVENT
BEGIN:VEVENT
DTSTART;TZID=America/Denver:20191031T170000
DTEND;TZID=America/Denver:20191031T190000
DTSTAMP:20260425T055443
CREATED:20190924T172953Z
LAST-MODIFIED:20190924T172953Z
UID:4579-1572541200-1572548400@cccldstaging1.org
SUMMARY:Georgetown BOOkfest
DESCRIPTION:Make the Georgetown Library a stop on your trick-or-treating route! We’ll have free books\, treats\, and hot chocolate waiting for you.
URL:https://cccldstaging1.org/event/georgetown-bookfest/
LOCATION:John Tomay Memorial Library\, 605 6th Street\, Georgetown\, CO\, 80444\, United States
CATEGORIES:Adults,Community Events,Kids,Library Events
GEO:39.7061997;-105.6974142
X-APPLE-STRUCTURED-LOCATION;VALUE=URI;X-ADDRESS=John Tomay Memorial Library 605 6th Street Georgetown CO 80444 United States;X-APPLE-RADIUS=500;X-TITLE=605 6th Street:geo:-105.6974142,39.7061997
END:VEVENT
BEGIN:VEVENT
DTSTART;TZID=America/Denver:20191031T170000
DTEND;TZID=America/Denver:20191031T190000
DTSTAMP:20260425T055443
CREATED:20190924T173047Z
LAST-MODIFIED:20190924T173047Z
UID:26643-1572541200-1572548400@cccldstaging1.org
SUMMARY:Idaho Springs BOOkfest
DESCRIPTION:Make the Idaho Springs Public Library a stop on your trick-or-treating route! We’ll have spooky decor\, free books\, treats\, and hot chocolate waiting for you.
URL:https://cccldstaging1.org/event/idaho-springs-bookfest-2/
LOCATION:Idaho Springs Public Library\, 219 14th Avenue\, Idaho Springs\, CO\, 80452\, United States
CATEGORIES:Adults,Community Events,Kids,Library Events
GEO:39.742052;-105.5183552
X-APPLE-STRUCTURED-LOCATION;VALUE=URI;X-ADDRESS=Idaho Springs Public Library 219 14th Avenue Idaho Springs CO 80452 United States;X-APPLE-RADIUS=500;X-TITLE=219 14th Avenue:geo:-105.5183552,39.742052
END:VEVENT
BEGIN:VEVENT
DTSTART;TZID=America/Denver:20191031T170000
DTEND;TZID=America/Denver:20191031T190000
DTSTAMP:20260425T055443
CREATED:20190924T173047Z
LAST-MODIFIED:20190924T173047Z
UID:4581-1572541200-1572548400@cccldstaging1.org
SUMMARY:Idaho Springs BOOkfest
DESCRIPTION:Make the Idaho Springs Public Library a stop on your trick-or-treating route! We’ll have spooky decor\, free books\, treats\, and hot chocolate waiting for you.
URL:https://cccldstaging1.org/event/idaho-springs-bookfest/
LOCATION:Idaho Springs Public Library\, 219 14th Avenue\, Idaho Springs\, CO\, 80452\, United States
CATEGORIES:Adults,Community Events,Kids,Library Events
GEO:39.742052;-105.5183552
X-APPLE-STRUCTURED-LOCATION;VALUE=URI;X-ADDRESS=Idaho Springs Public Library 219 14th Avenue Idaho Springs CO 80452 United States;X-APPLE-RADIUS=500;X-TITLE=219 14th Avenue:geo:-105.5183552,39.742052
END:VEVENT
END:VCALENDAR