BEGIN:VCALENDAR
VERSION:2.0
PRODID:-//Clear Creek County Library District Staging - ECPv6.15.20//NONSGML v1.0//EN
CALSCALE:GREGORIAN
METHOD:PUBLISH
X-ORIGINAL-URL:https://cccldstaging1.org
X-WR-CALDESC:Events for Clear Creek County Library District Staging
REFRESH-INTERVAL;VALUE=DURATION:PT1H
X-Robots-Tag:noindex
X-PUBLISHED-TTL:PT1H
BEGIN:VTIMEZONE
TZID:America/Denver
BEGIN:DAYLIGHT
TZOFFSETFROM:-0700
TZOFFSETTO:-0600
TZNAME:MDT
DTSTART:20190310T090000
END:DAYLIGHT
BEGIN:STANDARD
TZOFFSETFROM:-0600
TZOFFSETTO:-0700
TZNAME:MST
DTSTART:20191103T080000
END:STANDARD
BEGIN:DAYLIGHT
TZOFFSETFROM:-0700
TZOFFSETTO:-0600
TZNAME:MDT
DTSTART:20200308T090000
END:DAYLIGHT
BEGIN:STANDARD
TZOFFSETFROM:-0600
TZOFFSETTO:-0700
TZNAME:MST
DTSTART:20201101T080000
END:STANDARD
BEGIN:DAYLIGHT
TZOFFSETFROM:-0700
TZOFFSETTO:-0600
TZNAME:MDT
DTSTART:20210314T090000
END:DAYLIGHT
BEGIN:STANDARD
TZOFFSETFROM:-0600
TZOFFSETTO:-0700
TZNAME:MST
DTSTART:20211107T080000
END:STANDARD
BEGIN:DAYLIGHT
TZOFFSETFROM:-0700
TZOFFSETTO:-0600
TZNAME:MDT
DTSTART:20220313T090000
END:DAYLIGHT
BEGIN:STANDARD
TZOFFSETFROM:-0600
TZOFFSETTO:-0700
TZNAME:MST
DTSTART:20221106T080000
END:STANDARD
END:VTIMEZONE
BEGIN:VEVENT
DTSTART;TZID=America/Denver:20210324T173000
DTEND;TZID=America/Denver:20210324T183000
DTSTAMP:20260424T210312
CREATED:20210223T214131Z
LAST-MODIFIED:20210223T214131Z
UID:26979-1616607000-1616610600@cccldstaging1.org
SUMMARY:Virtual YA Book Group
DESCRIPTION:Everyone is welcome to join this virtual book group where we will discuss a young adult fiction book. This month’s book is All American Boys.
URL:https://cccldstaging1.org/event/virtual-ya-book-group-3/
LOCATION:CO\, 80444\, United States
CATEGORIES:Adults,Kids,Library Events,Teens
GEO:39.7104468;-105.6969788
END:VEVENT
BEGIN:VEVENT
DTSTART;TZID=America/Denver:20210312T160000
DTEND;TZID=America/Denver:20210312T170000
DTSTAMP:20260424T210312
CREATED:20210223T215406Z
LAST-MODIFIED:20210223T215406Z
UID:26981-1615564800-1615568400@cccldstaging1.org
SUMMARY:Virtual Crafternoon
DESCRIPTION:Calling all crafty kiddos: join our Virtual Crafternoon and make Shamrock Crowns! Contact holly@cccld.org to learn more and reserve your supplies.
URL:https://cccldstaging1.org/event/virtual-crafternoon/
LOCATION:CO\, 80444\, United States
CATEGORIES:Kids,Library Events
GEO:39.7104468;-105.6969788
END:VEVENT
BEGIN:VEVENT
DTSTART;TZID=America/Denver:20210309T173000
DTEND;TZID=America/Denver:20210309T183000
DTSTAMP:20260424T210312
CREATED:20201008T163613Z
LAST-MODIFIED:20201008T163613Z
UID:26960-1615311000-1615314600@cccldstaging1.org
SUMMARY:Virtual Youth Craft Club
DESCRIPTION:Join the fun! Craft this month is a Paracord Bracelet.
URL:https://cccldstaging1.org/event/teen-craft/
LOCATION:CO\, 80444\, United States
CATEGORIES:Kids,Library Events,Teens
GEO:39.7104468;-105.6969788
END:VEVENT
BEGIN:VEVENT
DTSTART;TZID=America/Denver:20210303T111500
DTEND;TZID=America/Denver:20210303T111500
DTSTAMP:20260424T210312
CREATED:20200406T172950Z
LAST-MODIFIED:20200406T172950Z
UID:26944-1614770100-1614770100@cccldstaging1.org
SUMMARY:Virtual Storytime
DESCRIPTION:Hop into Storytime Miss Holly and Miss Honeybun join us live on our Facebook page at 11:15 am every Wednesday.
URL:https://cccldstaging1.org/event/virtual-storytime-2/2021-03-03/
LOCATION:CO\, 80444\, United States
CATEGORIES:Kids,Library Events
GEO:39.7104468;-105.6969788
END:VEVENT
BEGIN:VEVENT
DTSTART;TZID=America/Denver:20210224T160000
DTEND;TZID=America/Denver:20210224T170000
DTSTAMP:20260424T210312
CREATED:20210122T231725Z
LAST-MODIFIED:20210122T231725Z
UID:26972-1614182400-1614186000@cccldstaging1.org
SUMMARY:Virtual Juvenile Fiction Book Group
DESCRIPTION:Everyone is welcome to join. This month’s book is Out of my Mind–Sharon M. Draper.\nContact caitlin@cccld.org for more details and to reserve your book.
URL:https://cccldstaging1.org/event/virtual-juvenile-fiction-book-group-2/
LOCATION:CO\, 80444\, United States
CATEGORIES:Kids,Library Events,Teens
GEO:39.7104468;-105.6969788
END:VEVENT
BEGIN:VEVENT
DTSTART;TZID=America/Denver:20210212T160000
DTEND;TZID=America/Denver:20210212T170000
DTSTAMP:20260424T210312
CREATED:20210201T162012Z
LAST-MODIFIED:20210201T162012Z
UID:26975-1613145600-1613149200@cccldstaging1.org
SUMMARY:Virtual Valentine Workshop
DESCRIPTION:Calling all crafty kiddos: join our Virtual Valentine Workshop on Friday\, February 12 to create a special card for your Valentine! Contact holly@cccld.org to learn more and reserve your supplies.
URL:https://cccldstaging1.org/event/virtual-valentine-workshop-2/
LOCATION:CO\, 80444\, United States
CATEGORIES:Kids,Library Events
GEO:39.7104468;-105.6969788
END:VEVENT
BEGIN:VEVENT
DTSTART;TZID=America/Denver:20210209T173000
DTEND;TZID=America/Denver:20210209T183000
DTSTAMP:20260424T210312
CREATED:20210122T231922Z
LAST-MODIFIED:20210122T231922Z
UID:26973-1612891800-1612895400@cccldstaging1.org
SUMMARY:Virtual Craft Club
DESCRIPTION:
URL:https://cccldstaging1.org/event/craft-club/
LOCATION:CO\, 80444\, United States
CATEGORIES:Kids,Library Events,Teens
GEO:39.7104468;-105.6969788
END:VEVENT
BEGIN:VEVENT
DTSTART;TZID=America/Denver:20210127T160000
DTEND;TZID=America/Denver:20210127T170000
DTSTAMP:20260424T210312
CREATED:20201008T162523Z
LAST-MODIFIED:20201008T162523Z
UID:26958-1611763200-1611766800@cccldstaging1.org
SUMMARY:Virtual Juvenile Fiction Book Group
DESCRIPTION:
URL:https://cccldstaging1.org/event/virtual-juvenile-fiction-book-group/2021-01-27/
CATEGORIES:Kids,Library Events,Teens
END:VEVENT
BEGIN:VEVENT
DTSTART;TZID=America/Denver:20210107T190000
DTEND;TZID=America/Denver:20210107T200000
DTSTAMP:20260424T210312
CREATED:20200406T173842Z
LAST-MODIFIED:20200406T173842Z
UID:26945-1610046000-1610049600@cccldstaging1.org
SUMMARY:Virtual Goodnight Storytime
DESCRIPTION:Get ready for bed with Miss Holly and Miss Honeybun during our Virtual Goodnight Storytime. Join us live on our Facebook page at 7pm every Thursday.
URL:https://cccldstaging1.org/event/virtual-bedtime-storytime-2/2021-01-07/
LOCATION:CO\, 80444\, United States
CATEGORIES:Kids,Library Events
GEO:39.7104468;-105.6969788
END:VEVENT
BEGIN:VEVENT
DTSTART;TZID=America/Denver:20201124T143000
DTEND;TZID=America/Denver:20201124T153000
DTSTAMP:20260424T210312
CREATED:20201112T213730Z
LAST-MODIFIED:20201112T213730Z
UID:26970-1606228200-1606231800@cccldstaging1.org
SUMMARY:Virtual Kid's Creative Lab
DESCRIPTION:Join us for a virtual craft session. Learn Zentangle designs. Contact holly@cccld.org or details.
URL:https://cccldstaging1.org/event/virtual-kids-creative-lab/
CATEGORIES:Kids,Library Events
END:VEVENT
BEGIN:VEVENT
DTSTART;TZID=America/Denver:20201124T110000
DTEND;TZID=America/Denver:20201124T120000
DTSTAMP:20260424T210312
CREATED:20201112T213205Z
LAST-MODIFIED:20201112T213205Z
UID:26969-1606215600-1606219200@cccldstaging1.org
SUMMARY:Virtual Thanksgiving Storytime & Craft
DESCRIPTION:Enjoy a Thanksgiving-themed storytime and create a turkey finger puppet. Contact holly@cccld.org for details.
URL:https://cccldstaging1.org/event/thanksgiving-storytime-craft/
CATEGORIES:Kids,Library Events
END:VEVENT
BEGIN:VEVENT
DTSTART;VALUE=DATE:20201031
DTEND;VALUE=DATE:20201102
DTSTAMP:20260424T210312
CREATED:20201008T165405Z
LAST-MODIFIED:20201008T165405Z
UID:26963-1604102400-1604275199@cccldstaging1.org
SUMMARY:Virtual Costume Contest
DESCRIPTION:Enter the costume contest by sending photos to holly@cccld.org by Nov. 1
URL:https://cccldstaging1.org/event/virtual-costume-contest/
CATEGORIES:Adults,Kids,Library Events,Teens
END:VEVENT
BEGIN:VEVENT
DTSTART;TZID=America/Denver:20201030T160000
DTEND;TZID=America/Denver:20201030T200000
DTSTAMP:20260424T210312
CREATED:20201008T164747Z
LAST-MODIFIED:20201008T164747Z
UID:26962-1604073600-1604088000@cccldstaging1.org
SUMMARY:Virtual Campfire Circle
DESCRIPTION:Gather round for virtual campfire stories! Sweet 4pm\, Spooky-5:30 pm and Scary-7pm! Email holly@cccld.org to register.
URL:https://cccldstaging1.org/event/virtual-campfire-circle/
CATEGORIES:Adults,Kids,Library Events,Teens
END:VEVENT
BEGIN:VEVENT
DTSTART;TZID=America/Denver:20201007T111500
DTEND;TZID=America/Denver:20201007T120000
DTSTAMP:20260424T210312
CREATED:20201008T161152Z
LAST-MODIFIED:20201008T161152Z
UID:26957-1602069300-1602072000@cccldstaging1.org
SUMMARY:Virtual Storytime
DESCRIPTION:Hop into storytime with Miss Honeybun! Find Miss Honeybun on Facebook at www.facebook.com/clearcreeklibrarydistrict
URL:https://cccldstaging1.org/event/virtual-storytime-3/2020-10-07/
LOCATION:Contact Form
CATEGORIES:Kids,Library Events
END:VEVENT
BEGIN:VEVENT
DTSTART;TZID=America/Denver:20200702T190000
DTEND;TZID=America/Denver:20200702T191500
DTSTAMP:20260424T210312
CREATED:20200625T220735Z
LAST-MODIFIED:20200625T220735Z
UID:9015-1593716400-1593717300@cccldstaging1.org
SUMMARY:Virtual Goodnight Storytime
DESCRIPTION:Help Miss Holly get Miss Honeybun ready for bed with a goodnight Storytime every Thursday evening at 7 pm on our Facebook page.
URL:https://cccldstaging1.org/event/virtual-goodnight-storytime/2020-07-02/
LOCATION:CO\, 80444\, United States
CATEGORIES:Kids,Library Events
END:VEVENT
BEGIN:VEVENT
DTSTART;TZID=America/Denver:20200701T111500
DTEND;TZID=America/Denver:20200701T113000
DTSTAMP:20260424T210312
CREATED:20200625T220520Z
LAST-MODIFIED:20200625T220520Z
UID:9003-1593602100-1593603000@cccldstaging1.org
SUMMARY:Virtual Storytime
DESCRIPTION:Join Miss Holly and Miss Honeybun for virtual Storytime every Wednesday at 11:15 am on our Facebook page.
URL:https://cccldstaging1.org/event/virtual-storytime-2-2/2020-07-01/
LOCATION:CO\, 80444\, United States
CATEGORIES:Kids,Library Events
END:VEVENT
BEGIN:VEVENT
DTSTART;TZID=America/Denver:20200409T190000
DTEND;TZID=America/Denver:20200409T200000
DTSTAMP:20260424T210312
CREATED:20200406T173842Z
LAST-MODIFIED:20200406T174056Z
UID:8357-1586458800-1586462400@cccldstaging1.org
SUMMARY:Virtual Bedtime Storytime
DESCRIPTION:Get ready for bed with Miss Holly and Miss Honeybun during our Virtual Bedtime Storytime. Join us live on our Facebook page at 7pm every Thursday.
URL:https://cccldstaging1.org/event/virtual-bedtime-storytime/2020-04-09/
LOCATION:CO\, 80444\, United States
CATEGORIES:Kids,Library Events
GEO:39.7104468;-105.6969788
END:VEVENT
BEGIN:VEVENT
DTSTART;TZID=America/Denver:20200408T111500
DTEND;TZID=America/Denver:20200408T111500
DTSTAMP:20260424T210312
CREATED:20200406T172950Z
LAST-MODIFIED:20200406T173500Z
UID:8350-1586344500-1586344500@cccldstaging1.org
SUMMARY:Virtual Storytime
DESCRIPTION:Hop into Storytime Miss Holly and Miss Honeybun join us live on our Facebook page at 11:15 am every Wednesday.
URL:https://cccldstaging1.org/event/virtual-storytime/2020-04-08/
LOCATION:CO\, 80444\, United States
CATEGORIES:Kids,Library Events
GEO:39.7104468;-105.6969788
END:VEVENT
BEGIN:VEVENT
DTSTART;TZID=America/Denver:20200311T180000
DTEND;TZID=America/Denver:20200311T200000
DTSTAMP:20260424T210312
CREATED:20200302T164810Z
LAST-MODIFIED:20200302T164810Z
UID:26906-1583949600-1583956800@cccldstaging1.org
SUMMARY:Friends of the Idaho Springs Public Library Annual Meeting
DESCRIPTION:Join the Friends of the Idaho Springs Public Library for their annual meeting on Wednesday\, March 11 at 6 pm at the library. Dean Clark will present a program on local library and school history.
URL:https://cccldstaging1.org/event/friends-of-the-idaho-springs-public-library-annual-meeting-2-2/
LOCATION:Idaho Springs Public Library\, 219 14th Avenue\, Idaho Springs\, CO\, 80452\, United States
CATEGORIES:Adults,Community Events,Kids,Library Events
GEO:39.742052;-105.5183552
X-APPLE-STRUCTURED-LOCATION;VALUE=URI;X-ADDRESS=Idaho Springs Public Library 219 14th Avenue Idaho Springs CO 80452 United States;X-APPLE-RADIUS=500;X-TITLE=219 14th Avenue:geo:-105.5183552,39.742052
END:VEVENT
BEGIN:VEVENT
DTSTART;TZID=America/Denver:20200311T180000
DTEND;TZID=America/Denver:20200311T200000
DTSTAMP:20260424T210312
CREATED:20200302T164810Z
LAST-MODIFIED:20200302T164810Z
UID:7933-1583949600-1583956800@cccldstaging1.org
SUMMARY:Friends of the Idaho Springs Public Library Annual Meeting
DESCRIPTION:Join the Friends of the Idaho Springs Public Library for their annual meeting on Wednesday\, March 11 at 6 pm at the library. Dean Clark will present a program on local library and school history.
URL:https://cccldstaging1.org/event/friends-of-the-idaho-springs-public-library-annual-meeting-2/
LOCATION:Idaho Springs Public Library\, 219 14th Avenue\, Idaho Springs\, CO\, 80452\, United States
CATEGORIES:Adults,Community Events,Kids,Library Events
GEO:39.742052;-105.5183552
X-APPLE-STRUCTURED-LOCATION;VALUE=URI;X-ADDRESS=Idaho Springs Public Library 219 14th Avenue Idaho Springs CO 80452 United States;X-APPLE-RADIUS=500;X-TITLE=219 14th Avenue:geo:-105.5183552,39.742052
END:VEVENT
BEGIN:VEVENT
DTSTART;TZID=America/Denver:20200306T170000
DTEND;TZID=America/Denver:20200306T170000
DTSTAMP:20260424T210312
CREATED:20200210T211550Z
LAST-MODIFIED:20200221T183324Z
UID:7618-1583514000-1583514000@cccldstaging1.org
SUMMARY:Georgetown Movie Night
DESCRIPTION:Enjoy a free\, family-friendly movie on the big screen at your library! Satisfy your cravings with snacks and freshly-popped popcorn available for sale at our mini concessions stand. \nMarch Movie – Frozen II \n 
URL:https://cccldstaging1.org/event/georgetown-movie-night-6/
LOCATION:Georgetown Heritage Center\, 809 Taos Street\, Georgetown\, CO\, 80444\, United States
CATEGORIES:Adults,Kids,Library Events
GEO:39.7076439;-105.6959246
X-APPLE-STRUCTURED-LOCATION;VALUE=URI;X-ADDRESS=Georgetown Heritage Center 809 Taos Street Georgetown CO 80444 United States;X-APPLE-RADIUS=500;X-TITLE=809 Taos Street:geo:-105.6959246,39.7076439
END:VEVENT
BEGIN:VEVENT
DTSTART;TZID=America/Denver:20200306T170000
DTEND;TZID=America/Denver:20200306T170000
DTSTAMP:20260424T210312
CREATED:20200210T211550Z
LAST-MODIFIED:20200210T211550Z
UID:26878-1583514000-1583514000@cccldstaging1.org
SUMMARY:Georgetown Movie Night
DESCRIPTION:Enjoy a free\, family-friendly movie on the big screen at your library! Satisfy your cravings with snacks and freshly-popped popcorn available for sale at our mini concessions stand. \nMarch Movie – Frozen II \n 
URL:https://cccldstaging1.org/event/georgetown-movie-night-6-2/
LOCATION:Georgetown Heritage Center\, 809 Taos Street\, Georgetown\, CO\, 80444\, United States
CATEGORIES:Adults,Kids,Library Events
GEO:39.7076439;-105.6959246
X-APPLE-STRUCTURED-LOCATION;VALUE=URI;X-ADDRESS=Georgetown Heritage Center 809 Taos Street Georgetown CO 80444 United States;X-APPLE-RADIUS=500;X-TITLE=809 Taos Street:geo:-105.6959246,39.7076439
END:VEVENT
BEGIN:VEVENT
DTSTART;TZID=America/Denver:20200228T140000
DTEND;TZID=America/Denver:20200228T160000
DTSTAMP:20260424T210312
CREATED:20200129T184719Z
LAST-MODIFIED:20200129T184719Z
UID:7366-1582898400-1582905600@cccldstaging1.org
SUMMARY:Idaho Springs Virtual Reality
DESCRIPTION:Drop in to experience the virtual world with our virtual reality system!
URL:https://cccldstaging1.org/event/idaho-springs-virtual-reality/
LOCATION:Idaho Springs Public Library\, 219 14th Avenue\, Idaho Springs\, CO\, 80452\, United States
CATEGORIES:Adults,Kids,Library Events
GEO:39.742052;-105.5183552
X-APPLE-STRUCTURED-LOCATION;VALUE=URI;X-ADDRESS=Idaho Springs Public Library 219 14th Avenue Idaho Springs CO 80452 United States;X-APPLE-RADIUS=500;X-TITLE=219 14th Avenue:geo:-105.5183552,39.742052
END:VEVENT
BEGIN:VEVENT
DTSTART;TZID=America/Denver:20200228T140000
DTEND;TZID=America/Denver:20200228T160000
DTSTAMP:20260424T210312
CREATED:20200129T184719Z
LAST-MODIFIED:20200129T184719Z
UID:26856-1582898400-1582905600@cccldstaging1.org
SUMMARY:Idaho Springs Virtual Reality
DESCRIPTION:Drop in to experience the virtual world with our virtual reality system!
URL:https://cccldstaging1.org/event/idaho-springs-virtual-reality-3/
LOCATION:Idaho Springs Public Library\, 219 14th Avenue\, Idaho Springs\, CO\, 80452\, United States
CATEGORIES:Adults,Kids,Library Events
GEO:39.742052;-105.5183552
X-APPLE-STRUCTURED-LOCATION;VALUE=URI;X-ADDRESS=Idaho Springs Public Library 219 14th Avenue Idaho Springs CO 80452 United States;X-APPLE-RADIUS=500;X-TITLE=219 14th Avenue:geo:-105.5183552,39.742052
END:VEVENT
BEGIN:VEVENT
DTSTART;TZID=America/Denver:20200221T170000
DTEND;TZID=America/Denver:20200221T183000
DTSTAMP:20260424T210312
CREATED:20200114T201920Z
LAST-MODIFIED:20200114T210756Z
UID:6761-1582304400-1582309800@cccldstaging1.org
SUMMARY:Zombie Dance
DESCRIPTION:Eat\, drink\, and be SCARY at our Zombie Dance! DEVOUR zombie treats. SLAY zombie dance moves. PLAY zombie games. We hope to see you there!
URL:https://cccldstaging1.org/event/zombie-dance-2/
LOCATION:Idaho Springs Public Library\, 219 14th Avenue\, Idaho Springs\, CO\, 80452\, United States
CATEGORIES:Kids,Library Events
GEO:39.742052;-105.5183552
X-APPLE-STRUCTURED-LOCATION;VALUE=URI;X-ADDRESS=Idaho Springs Public Library 219 14th Avenue Idaho Springs CO 80452 United States;X-APPLE-RADIUS=500;X-TITLE=219 14th Avenue:geo:-105.5183552,39.742052
END:VEVENT
BEGIN:VEVENT
DTSTART;TZID=America/Denver:20200221T170000
DTEND;TZID=America/Denver:20200221T183000
DTSTAMP:20260424T210312
CREATED:20200114T201920Z
LAST-MODIFIED:20200114T201920Z
UID:26827-1582304400-1582309800@cccldstaging1.org
SUMMARY:Zombie Dance
DESCRIPTION:Eat\, drink\, and be SCARY at our Zombie Dance! DEVOUR zombie treats. SLAY zombie dance moves. PLAY zombie games. We hope to see you there!
URL:https://cccldstaging1.org/event/zombie-dance-2-2/
LOCATION:Idaho Springs Public Library\, 219 14th Avenue\, Idaho Springs\, CO\, 80452\, United States
CATEGORIES:Kids,Library Events
GEO:39.742052;-105.5183552
X-APPLE-STRUCTURED-LOCATION;VALUE=URI;X-ADDRESS=Idaho Springs Public Library 219 14th Avenue Idaho Springs CO 80452 United States;X-APPLE-RADIUS=500;X-TITLE=219 14th Avenue:geo:-105.5183552,39.742052
END:VEVENT
BEGIN:VEVENT
DTSTART;TZID=America/Denver:20200214T153000
DTEND;TZID=America/Denver:20200214T170000
DTSTAMP:20260424T210312
CREATED:20200114T200203Z
LAST-MODIFIED:20200114T200203Z
UID:6755-1581694200-1581699600@cccldstaging1.org
SUMMARY:Idaho Springs Movie Night
DESCRIPTION:Enjoy a free\, family-friendly movie on the big screen at your library! Satisfy your cravings with snacks and freshly-popped popcorn available for sale at our mini concessions stand. \nFebruary Move – The Addams Family
URL:https://cccldstaging1.org/event/idaho-springs-movie-night-5/
LOCATION:Idaho Springs Public Library\, 219 14th Avenue\, Idaho Springs\, CO\, 80452\, United States
CATEGORIES:Adults,Kids,Library Events
GEO:39.742052;-105.5183552
X-APPLE-STRUCTURED-LOCATION;VALUE=URI;X-ADDRESS=Idaho Springs Public Library 219 14th Avenue Idaho Springs CO 80452 United States;X-APPLE-RADIUS=500;X-TITLE=219 14th Avenue:geo:-105.5183552,39.742052
END:VEVENT
BEGIN:VEVENT
DTSTART;TZID=America/Denver:20200214T153000
DTEND;TZID=America/Denver:20200214T170000
DTSTAMP:20260424T210312
CREATED:20200114T200203Z
LAST-MODIFIED:20200114T200203Z
UID:26824-1581694200-1581699600@cccldstaging1.org
SUMMARY:Idaho Springs Movie Night
DESCRIPTION:Enjoy a free\, family-friendly movie on the big screen at your library! Satisfy your cravings with snacks and freshly-popped popcorn available for sale at our mini concessions stand. \nFebruary Move – The Addams Family
URL:https://cccldstaging1.org/event/idaho-springs-movie-night-5-2/
LOCATION:Idaho Springs Public Library\, 219 14th Avenue\, Idaho Springs\, CO\, 80452\, United States
CATEGORIES:Adults,Kids,Library Events
GEO:39.742052;-105.5183552
X-APPLE-STRUCTURED-LOCATION;VALUE=URI;X-ADDRESS=Idaho Springs Public Library 219 14th Avenue Idaho Springs CO 80452 United States;X-APPLE-RADIUS=500;X-TITLE=219 14th Avenue:geo:-105.5183552,39.742052
END:VEVENT
BEGIN:VEVENT
DTSTART;TZID=America/Denver:20200214T133000
DTEND;TZID=America/Denver:20200214T153000
DTSTAMP:20260424T210312
CREATED:20200129T184637Z
LAST-MODIFIED:20200129T184637Z
UID:7364-1581687000-1581694200@cccldstaging1.org
SUMMARY:Georgetown Virtual Reality
DESCRIPTION:Drop in to experience the virtual world with our virtual reality system!
URL:https://cccldstaging1.org/event/georgetown-virtual-reality/
LOCATION:John Tomay Memorial Library\, 605 6th Street\, Georgetown\, CO\, 80444\, United States
CATEGORIES:Adults,Kids,Library Events
GEO:39.7061997;-105.6974142
X-APPLE-STRUCTURED-LOCATION;VALUE=URI;X-ADDRESS=John Tomay Memorial Library 605 6th Street Georgetown CO 80444 United States;X-APPLE-RADIUS=500;X-TITLE=605 6th Street:geo:-105.6974142,39.7061997
END:VEVENT
BEGIN:VEVENT
DTSTART;TZID=America/Denver:20200214T133000
DTEND;TZID=America/Denver:20200214T153000
DTSTAMP:20260424T210312
CREATED:20200129T184637Z
LAST-MODIFIED:20200129T184637Z
UID:26855-1581687000-1581694200@cccldstaging1.org
SUMMARY:Georgetown Virtual Reality
DESCRIPTION:Drop in to experience the virtual world with our virtual reality system!
URL:https://cccldstaging1.org/event/georgetown-virtual-reality-3/
LOCATION:John Tomay Memorial Library\, 605 6th Street\, Georgetown\, CO\, 80444\, United States
CATEGORIES:Adults,Kids,Library Events
GEO:39.7061997;-105.6974142
X-APPLE-STRUCTURED-LOCATION;VALUE=URI;X-ADDRESS=John Tomay Memorial Library 605 6th Street Georgetown CO 80444 United States;X-APPLE-RADIUS=500;X-TITLE=605 6th Street:geo:-105.6974142,39.7061997
END:VEVENT
END:VCALENDAR