BEGIN:VCALENDAR
VERSION:2.0
PRODID:-//Clear Creek County Library District Staging - ECPv6.15.20//NONSGML v1.0//EN
CALSCALE:GREGORIAN
METHOD:PUBLISH
X-WR-CALNAME:Clear Creek County Library District Staging
X-ORIGINAL-URL:https://cccldstaging1.org
X-WR-CALDESC:Events for Clear Creek County Library District Staging
REFRESH-INTERVAL;VALUE=DURATION:PT1H
X-Robots-Tag:noindex
X-PUBLISHED-TTL:PT1H
BEGIN:VTIMEZONE
TZID:America/Denver
BEGIN:DAYLIGHT
TZOFFSETFROM:-0700
TZOFFSETTO:-0600
TZNAME:MDT
DTSTART:20200308T090000
END:DAYLIGHT
BEGIN:STANDARD
TZOFFSETFROM:-0600
TZOFFSETTO:-0700
TZNAME:MST
DTSTART:20201101T080000
END:STANDARD
BEGIN:DAYLIGHT
TZOFFSETFROM:-0700
TZOFFSETTO:-0600
TZNAME:MDT
DTSTART:20210314T090000
END:DAYLIGHT
BEGIN:STANDARD
TZOFFSETFROM:-0600
TZOFFSETTO:-0700
TZNAME:MST
DTSTART:20211107T080000
END:STANDARD
BEGIN:DAYLIGHT
TZOFFSETFROM:-0700
TZOFFSETTO:-0600
TZNAME:MDT
DTSTART:20220313T090000
END:DAYLIGHT
BEGIN:STANDARD
TZOFFSETFROM:-0600
TZOFFSETTO:-0700
TZNAME:MST
DTSTART:20221106T080000
END:STANDARD
BEGIN:DAYLIGHT
TZOFFSETFROM:-0700
TZOFFSETTO:-0600
TZNAME:MDT
DTSTART:20230312T090000
END:DAYLIGHT
BEGIN:STANDARD
TZOFFSETFROM:-0600
TZOFFSETTO:-0700
TZNAME:MST
DTSTART:20231105T080000
END:STANDARD
END:VTIMEZONE
BEGIN:VEVENT
DTSTART;TZID=America/Denver:20220504T111500
DTEND;TZID=America/Denver:20220504T121500
DTSTAMP:20260424T140531
CREATED:20220502T164225Z
LAST-MODIFIED:20220502T164225Z
UID:27128-1651662900-1651666500@cccldstaging1.org
SUMMARY:Virtual Morning Storytime
DESCRIPTION:Join Miss Holly and Miss Honeybun for Morning Storytime live on our Facebook page at 11:15 am every Wednesday.
URL:https://cccldstaging1.org/event/virtual-morning-storytime-2/2022-05-04/
LOCATION:CO\, 80444\, United States
CATEGORIES:Kids,Library Events
GEO:39.7104468;-105.6969788
END:VEVENT
BEGIN:VEVENT
DTSTART;TZID=America/Denver:20220429T153000
DTEND;TZID=America/Denver:20220429T170000
DTSTAMP:20260424T140531
CREATED:20220328T162902Z
LAST-MODIFIED:20220328T162902Z
UID:27100-1651246200-1651251600@cccldstaging1.org
SUMMARY:Día de los Niños
DESCRIPTION:El Día de los Niños/El Día de los Libros\, also known simply as Día\, is a celebration of children\, families\, and reading. Join the fun with food\, music\, and games.
URL:https://cccldstaging1.org/event/dia-de-los-ninos-2-2/
LOCATION:Idaho Springs Public Library\, 219 14th Avenue\, Idaho Springs\, CO\, 80452\, United States
CATEGORIES:Adults,Kids,Library Events,Teens
GEO:39.742052;-105.5183552
X-APPLE-STRUCTURED-LOCATION;VALUE=URI;X-ADDRESS=Idaho Springs Public Library 219 14th Avenue Idaho Springs CO 80452 United States;X-APPLE-RADIUS=500;X-TITLE=219 14th Avenue:geo:-105.5183552,39.742052
END:VEVENT
BEGIN:VEVENT
DTSTART;TZID=America/Denver:20220428T154500
DTEND;TZID=America/Denver:20220428T164500
DTSTAMP:20260424T140531
CREATED:20220328T162259Z
LAST-MODIFIED:20220328T162259Z
UID:27099-1651160700-1651164300@cccldstaging1.org
SUMMARY:JTML Crafternoon
DESCRIPTION:Join the fun at the John Tomay Memorial Library. Awesome Eco craft.
URL:https://cccldstaging1.org/event/jtml-crafternoon-2/
LOCATION:John Tomay Memorial Library\, 605 6th Street\, Georgetown\, CO\, 80444\, United States
CATEGORIES:Kids,Library Events,Teens
GEO:39.7061997;-105.6974142
X-APPLE-STRUCTURED-LOCATION;VALUE=URI;X-ADDRESS=John Tomay Memorial Library 605 6th Street Georgetown CO 80444 United States;X-APPLE-RADIUS=500;X-TITLE=605 6th Street:geo:-105.6974142,39.7061997
END:VEVENT
BEGIN:VEVENT
DTSTART;TZID=America/Denver:20220425T153000
DTEND;TZID=America/Denver:20220425T163000
DTSTAMP:20260424T140531
CREATED:20220328T162129Z
LAST-MODIFIED:20220328T162129Z
UID:27098-1650900600-1650904200@cccldstaging1.org
SUMMARY:ISPL Crafternoon
DESCRIPTION:Join the fun at the Idaho Springs Public Library. Awesome Eco craft.
URL:https://cccldstaging1.org/event/ispl-crafternoon-2/
LOCATION:Idaho Springs Public Library\, 219 14th Avenue\, Idaho Springs\, CO\, 80452\, United States
CATEGORIES:Kids,Library Events,Teens
GEO:39.742052;-105.5183552
X-APPLE-STRUCTURED-LOCATION;VALUE=URI;X-ADDRESS=Idaho Springs Public Library 219 14th Avenue Idaho Springs CO 80452 United States;X-APPLE-RADIUS=500;X-TITLE=219 14th Avenue:geo:-105.5183552,39.742052
END:VEVENT
BEGIN:VEVENT
DTSTART;TZID=America/Denver:20220416T100000
DTEND;TZID=America/Denver:20220416T233000
DTSTAMP:20260424T140531
CREATED:20220328T161350Z
LAST-MODIFIED:20220328T161350Z
UID:27095-1650103200-1650151800@cccldstaging1.org
SUMMARY:Easter Egg Hunt
DESCRIPTION:Hunt for Easter eggs and look for the golden egg to win prizes. Join Miss Honeybun for storytime.\nWerlin Park – Kids 0-5\nFoster’s Place – Kids 6 yrs. & up
URL:https://cccldstaging1.org/event/easter-egg-hunt-3-2/
LOCATION:Werlin Park\, 1014 Taos Street\, Georgetown\, CO\, 80444\, United States
CATEGORIES:Kids,Library Events
GEO:39.7098503;-105.6948933
X-APPLE-STRUCTURED-LOCATION;VALUE=URI;X-ADDRESS=Werlin Park 1014 Taos Street Georgetown CO 80444 United States;X-APPLE-RADIUS=500;X-TITLE=1014 Taos Street:geo:-105.6948933,39.7098503
END:VEVENT
BEGIN:VEVENT
DTSTART;TZID=America/Denver:20220415T154500
DTEND;TZID=America/Denver:20220415T164500
DTSTAMP:20260424T140531
CREATED:20220328T155918Z
LAST-MODIFIED:20220328T155918Z
UID:27094-1650037500-1650041100@cccldstaging1.org
SUMMARY:JTML Easter Egg Workshop
DESCRIPTION:Join the fun and dye Easter eggs at the John Tomay Memorial Library.
URL:https://cccldstaging1.org/event/jtml-easter-egg-workshop/
LOCATION:John Tomay Memorial Library\, 605 6th Street\, Georgetown\, CO\, 80444\, United States
CATEGORIES:Kids,Library Events,Teens
GEO:39.7061997;-105.6974142
X-APPLE-STRUCTURED-LOCATION;VALUE=URI;X-ADDRESS=John Tomay Memorial Library 605 6th Street Georgetown CO 80444 United States;X-APPLE-RADIUS=500;X-TITLE=605 6th Street:geo:-105.6974142,39.7061997
END:VEVENT
BEGIN:VEVENT
DTSTART;VALUE=DATE:20220412
DTEND;VALUE=DATE:20220413
DTSTAMP:20260424T140531
CREATED:20220412T215729Z
LAST-MODIFIED:20220412T215729Z
UID:27114-1649721600-1649807999@cccldstaging1.org
SUMMARY:LAST DAY OF SCHOOL
DESCRIPTION:
URL:https://cccldstaging1.org/event/last-day-of-school/
LOCATION:CO\, 80444\, United States
CATEGORIES:Adults,Kids,Library Events,Teens
GEO:39.7104468;-105.6969788
END:VEVENT
BEGIN:VEVENT
DTSTART;TZID=America/Denver:20220409T130000
DTEND;TZID=America/Denver:20220409T150000
DTSTAMP:20260424T140531
CREATED:20220325T214410Z
LAST-MODIFIED:20220325T214410Z
UID:27091-1649509200-1649516400@cccldstaging1.org
SUMMARY:OMEGA
DESCRIPTION:Join us for food and fun at our new LBGTQ+ Social Group for kids ages 12-20. Held monthly at the Idaho Springs Public Library. For further information email joe@cccld.org.
URL:https://cccldstaging1.org/event/rainbow-corner/
LOCATION:Idaho Springs Public Library\, 219 14th Avenue\, Idaho Springs\, CO\, 80452\, United States
CATEGORIES:Kids,Library Events,Teens
GEO:39.742052;-105.5183552
X-APPLE-STRUCTURED-LOCATION;VALUE=URI;X-ADDRESS=Idaho Springs Public Library 219 14th Avenue Idaho Springs CO 80452 United States;X-APPLE-RADIUS=500;X-TITLE=219 14th Avenue:geo:-105.5183552,39.742052
END:VEVENT
BEGIN:VEVENT
DTSTART;VALUE=DATE:20220404
DTEND;VALUE=DATE:20220410
DTSTAMP:20260424T140531
CREATED:20220325T213209Z
LAST-MODIFIED:20220325T213209Z
UID:27087-1649030400-1649548799@cccldstaging1.org
SUMMARY:National Library Week @ Idaho Springs Public Library & John Tomay Memorial Library
DESCRIPTION:Join us April4-9 at the library for complimentary coffee\, cookies\, and prize drawings to celebrate National Library Week.
URL:https://cccldstaging1.org/event/national-library-week-idaho-springs-public-library-john-tomay-memorial-library/
LOCATION:CO\, 80444\, United States
CATEGORIES:Adults,Kids,Library Events,Teens
GEO:39.7104468;-105.6969788
END:VEVENT
BEGIN:VEVENT
DTSTART;TZID=America/Denver:20220331T154500
DTEND;TZID=America/Denver:20220331T164500
DTSTAMP:20260424T140531
CREATED:20220222T164224Z
LAST-MODIFIED:20220222T164224Z
UID:27078-1648741500-1648745100@cccldstaging1.org
SUMMARY:JTML Crafternoon
DESCRIPTION:Join the fun at the John Tomay Memorial Library! Awesome Penguin Plushie craft.
URL:https://cccldstaging1.org/event/jtml-crafternoon/
LOCATION:John Tomay Memorial Library\, 605 6th Street\, Georgetown\, CO\, 80444\, United States
CATEGORIES:Kids,Library Events,Teens
GEO:39.7061997;-105.6974142
X-APPLE-STRUCTURED-LOCATION;VALUE=URI;X-ADDRESS=John Tomay Memorial Library 605 6th Street Georgetown CO 80444 United States;X-APPLE-RADIUS=500;X-TITLE=605 6th Street:geo:-105.6974142,39.7061997
END:VEVENT
BEGIN:VEVENT
DTSTART;TZID=America/Denver:20220330T111500
DTEND;TZID=America/Denver:20220330T111500
DTSTAMP:20260424T140531
CREATED:20220328T214246Z
LAST-MODIFIED:20220328T214246Z
UID:27102-1648638900-1648638900@cccldstaging1.org
SUMMARY:Virtual Morning Storytime
DESCRIPTION:Hop into Virtual Morning Storytime with Miss Holly and Miss Honeybun! Join us live on our Facebook page at 11:15 am every Wednesday.
URL:https://cccldstaging1.org/event/virtual-morning-storytime/2022-03-30/
LOCATION:CO\, 80444\, United States
CATEGORIES:Kids,Library Events
GEO:39.7104468;-105.6969788
END:VEVENT
BEGIN:VEVENT
DTSTART;TZID=America/Denver:20220328T153000
DTEND;TZID=America/Denver:20220328T163000
DTSTAMP:20260424T140531
CREATED:20220222T164007Z
LAST-MODIFIED:20220222T164007Z
UID:27077-1648481400-1648485000@cccldstaging1.org
SUMMARY:ISPL Crafternoon
DESCRIPTION:Join the fun at the Idaho Springs Public Library. Awesome Penguin Plushie craft.
URL:https://cccldstaging1.org/event/ispl-crafternoon/
LOCATION:CO\, 80444\, United States
CATEGORIES:Kids,Library Events,Teens
GEO:39.7104468;-105.6969788
END:VEVENT
BEGIN:VEVENT
DTSTART;TZID=America/Denver:20220327T130000
DTEND;TZID=America/Denver:20220327T150000
DTSTAMP:20260424T140531
CREATED:20220301T215912Z
LAST-MODIFIED:20220301T215912Z
UID:27085-1648386000-1648393200@cccldstaging1.org
SUMMARY:Family Snowshoe Adventure
DESCRIPTION:Join us for a guided snowshoe hike with Georgetown Outdoor Discovery. Ages 5 years and up\, beginners welcome\, snowshoes provided. FREE with Clear Creek County library card. To learn more and register\, please contact holly@cccld.org
URL:https://cccldstaging1.org/event/family-snowshoe-adventure/
LOCATION:CO\, 80444\, United States
CATEGORIES:Adults,Kids,Library Events,Teens
GEO:39.7104468;-105.6969788
END:VEVENT
BEGIN:VEVENT
DTSTART;TZID=America/Denver:20220325T130000
DTEND;TZID=America/Denver:20220325T160000
DTSTAMP:20260424T140531
CREATED:20220222T170032Z
LAST-MODIFIED:20220222T170032Z
UID:27080-1648213200-1648224000@cccldstaging1.org
SUMMARY:ISPL Virtual Reality
DESCRIPTION:Join the fun with the new Oculus Quest 2.
URL:https://cccldstaging1.org/event/ispl-virtual-reality/
LOCATION:Idaho Springs Public Library\, 219 14th Avenue\, Idaho Springs\, CO\, 80452\, United States
CATEGORIES:Kids,Library Events,Teens
GEO:39.742052;-105.5183552
X-APPLE-STRUCTURED-LOCATION;VALUE=URI;X-ADDRESS=Idaho Springs Public Library 219 14th Avenue Idaho Springs CO 80452 United States;X-APPLE-RADIUS=500;X-TITLE=219 14th Avenue:geo:-105.5183552,39.742052
END:VEVENT
BEGIN:VEVENT
DTSTART;TZID=America/Denver:20220321T130000
DTEND;TZID=America/Denver:20220321T160000
DTSTAMP:20260424T140531
CREATED:20220222T170209Z
LAST-MODIFIED:20220222T170209Z
UID:27081-1647867600-1647878400@cccldstaging1.org
SUMMARY:JTML Virtual Reality
DESCRIPTION:Join the fun with the new Oculus Quest 2.
URL:https://cccldstaging1.org/event/jtml-virtual-reality/
LOCATION:John Tomay Memorial Library\, 605 6th Street\, Georgetown\, CO\, 80444\, United States
CATEGORIES:Kids,Teens
GEO:39.7061997;-105.6974142
X-APPLE-STRUCTURED-LOCATION;VALUE=URI;X-ADDRESS=John Tomay Memorial Library 605 6th Street Georgetown CO 80444 United States;X-APPLE-RADIUS=500;X-TITLE=605 6th Street:geo:-105.6974142,39.7061997
END:VEVENT
BEGIN:VEVENT
DTSTART;TZID=America/Denver:20220303T190000
DTEND;TZID=America/Denver:20220303T200000
DTSTAMP:20260424T140531
CREATED:20220111T160356Z
LAST-MODIFIED:20220111T160356Z
UID:27064-1646334000-1646337600@cccldstaging1.org
SUMMARY:Virtual Starlight Stories
DESCRIPTION:Hop online for live\, interactive storytimes. Email holly@cccld.org to learn more and reserve your supplies.
URL:https://cccldstaging1.org/event/virtual-starlight-stories/2022-03-03/
LOCATION:CO\, 80444\, United States
CATEGORIES:Kids,Library Events
GEO:39.7104468;-105.6969788
END:VEVENT
BEGIN:VEVENT
DTSTART;TZID=America/Denver:20220303T111500
DTEND;TZID=America/Denver:20220303T111500
DTSTAMP:20260424T140531
CREATED:20211026T215648Z
LAST-MODIFIED:20211026T215648Z
UID:27034-1646306100-1646306100@cccldstaging1.org
SUMMARY:JTML Storytime
DESCRIPTION:Join us for storytime and crafts at the John Tomay Memorial Library.
URL:https://cccldstaging1.org/event/jtml-storytime-8-2/2022-03-03/
LOCATION:John Tomay Memorial Library\, 605 6th Street\, Georgetown\, CO\, 80444\, United States
CATEGORIES:Kids,Library Events
GEO:39.7061997;-105.6974142
X-APPLE-STRUCTURED-LOCATION;VALUE=URI;X-ADDRESS=John Tomay Memorial Library 605 6th Street Georgetown CO 80444 United States;X-APPLE-RADIUS=500;X-TITLE=605 6th Street:geo:-105.6974142,39.7061997
END:VEVENT
BEGIN:VEVENT
DTSTART;TZID=America/Denver:20220301T153000
DTEND;TZID=America/Denver:20220301T163000
DTSTAMP:20260424T140531
CREATED:20220222T162954Z
LAST-MODIFIED:20220222T162954Z
UID:27076-1646148600-1646152200@cccldstaging1.org
SUMMARY:ISPL Introductory American Sign Language
DESCRIPTION:Introductory American Sign Language at the Idaho Springs Public Library. To learn more\, email joe@cccld.org
URL:https://cccldstaging1.org/event/american-sign-language/2022-03-01/
LOCATION:Idaho Springs Public Library\, 219 14th Avenue\, Idaho Springs\, CO\, 80452\, United States
CATEGORIES:Kids,Library Events,Teens
GEO:39.742052;-105.5183552
X-APPLE-STRUCTURED-LOCATION;VALUE=URI;X-ADDRESS=Idaho Springs Public Library 219 14th Avenue Idaho Springs CO 80452 United States;X-APPLE-RADIUS=500;X-TITLE=219 14th Avenue:geo:-105.5183552,39.742052
END:VEVENT
BEGIN:VEVENT
DTSTART;TZID=America/Denver:20220301T111500
DTEND;TZID=America/Denver:20220301T111500
DTSTAMP:20260424T140531
CREATED:20211026T215431Z
LAST-MODIFIED:20211026T215431Z
UID:27033-1646133300-1646133300@cccldstaging1.org
SUMMARY:ISPL Storytime
DESCRIPTION:Join us for storytime and crafts at the Idaho Springs Public Library.
URL:https://cccldstaging1.org/event/ispl-storytime-8-2/2022-03-01/
LOCATION:CO\, 80444\, United States
CATEGORIES:Kids,Library Events
GEO:39.7104468;-105.6969788
END:VEVENT
BEGIN:VEVENT
DTSTART;TZID=America/Denver:20220218T130000
DTEND;TZID=America/Denver:20220218T150000
DTSTAMP:20260424T140531
CREATED:20220128T164511Z
LAST-MODIFIED:20220128T164511Z
UID:27067-1645189200-1645196400@cccldstaging1.org
SUMMARY:Kids' Snowshoe Adventure
DESCRIPTION:Join us for a guided snowshoe hike with Georgetown Outdoor Adventure. To learn more and register please contact holly@cccld.org
URL:https://cccldstaging1.org/event/kids-snowshoe-adventure/
LOCATION:CO\, 80444\, United States
CATEGORIES:Kids,Library Events
GEO:39.7104468;-105.6969788
END:VEVENT
BEGIN:VEVENT
DTSTART;TZID=America/Denver:20220111T113000
DTEND;TZID=America/Denver:20220111T123000
DTSTAMP:20260424T140531
CREATED:20220111T160236Z
LAST-MODIFIED:20220111T160236Z
UID:27063-1641900600-1641904200@cccldstaging1.org
SUMMARY:Virtual Story Garden
DESCRIPTION:In January\, hop online for live\, interactive storytimes. Email holly@cccld.org to learn more and reserve your supplies.
URL:https://cccldstaging1.org/event/virtual-story-garden/2022-01-11/
LOCATION:CO\, 80444\, United States
CATEGORIES:Kids,Library Events
GEO:39.7104468;-105.6969788
END:VEVENT
BEGIN:VEVENT
DTSTART;TZID=America/Denver:20211205T090000
DTEND;TZID=America/Denver:20211205T140000
DTSTAMP:20260424T140531
CREATED:20211112T223313Z
LAST-MODIFIED:20211112T223313Z
UID:27047-1638694800-1638712800@cccldstaging1.org
SUMMARY:Winter Craft Workshops - Georgetown Christmas Market
DESCRIPTION:Free creative fun for kids during the Georgetown Christmas Market.
URL:https://cccldstaging1.org/event/georgetown-christmas-market-2/2021-12-05/
LOCATION:John Tomay Memorial Library\, 605 6th Street\, Georgetown\, CO\, 80444\, United States
CATEGORIES:Adults,Community Events,Kids,Library Events,Teens
GEO:39.7061997;-105.6974142
X-APPLE-STRUCTURED-LOCATION;VALUE=URI;X-ADDRESS=John Tomay Memorial Library 605 6th Street Georgetown CO 80444 United States;X-APPLE-RADIUS=500;X-TITLE=605 6th Street:geo:-105.6974142,39.7061997
END:VEVENT
BEGIN:VEVENT
DTSTART;TZID=America/Denver:20211204T090000
DTEND;TZID=America/Denver:20211204T130000
DTSTAMP:20260424T140531
CREATED:20211112T223200Z
LAST-MODIFIED:20211112T223200Z
UID:27046-1638608400-1638622800@cccldstaging1.org
SUMMARY:Winter Craft Workshops - Georgetown Christmas Market
DESCRIPTION:Free creative fun for kids during the Georgetown Christmas Market.
URL:https://cccldstaging1.org/event/georgetown-christmas-market/2021-12-04/
LOCATION:CO\, 80444\, United States
CATEGORIES:Adults,Community Events,Kids,Library Events,Teens
GEO:39.7104468;-105.6969788
END:VEVENT
BEGIN:VEVENT
DTSTART;TZID=America/Denver:20211127T170000
DTEND;TZID=America/Denver:20211127T180000
DTSTAMP:20260424T140531
CREATED:20211119T175727Z
LAST-MODIFIED:20211119T175727Z
UID:27059-1638032400-1638036000@cccldstaging1.org
SUMMARY:Take & Make Cookie Kits
DESCRIPTION:Take & Make Cookie Kits at Georgetown Tree Lighting. Strousse Park Georgetown.
URL:https://cccldstaging1.org/event/take-make-cookie-kits/
LOCATION:CO\, 80444\, United States
CATEGORIES:Adults,Kids,Library Events,Teens
GEO:39.7104468;-105.6969788
END:VEVENT
BEGIN:VEVENT
DTSTART;TZID=America/Denver:20211007T111500
DTEND;TZID=America/Denver:20211007T120000
DTSTAMP:20260424T140531
CREATED:20211001T211751Z
LAST-MODIFIED:20211001T211751Z
UID:27026-1633605300-1633608000@cccldstaging1.org
SUMMARY:JTML Stories & Sunshine
DESCRIPTION:Join us for outdoor storytime at the John Tomay Memorial Library.
URL:https://cccldstaging1.org/event/jtml-stories-sunshine/2021-10-07/
LOCATION:CO\, 80444\, United States
CATEGORIES:Kids,Library Events
GEO:39.7104468;-105.6969788
END:VEVENT
BEGIN:VEVENT
DTSTART;TZID=America/Denver:20210907T111500
DTEND;TZID=America/Denver:20210907T120000
DTSTAMP:20260424T140531
CREATED:20210820T193600Z
LAST-MODIFIED:20210820T193600Z
UID:27015-1631013300-1631016000@cccldstaging1.org
SUMMARY:ISPL Stories & Sunshine
DESCRIPTION:Join us for outdoor storytime at the Idaho Springs Public Library.
URL:https://cccldstaging1.org/event/stories-sunshine-3/2021-09-07/
LOCATION:CO\, 80444\, United States
CATEGORIES:Kids,Library Events
GEO:39.7104468;-105.6969788
END:VEVENT
BEGIN:VEVENT
DTSTART;TZID=America/Denver:20210812T170000
DTEND;TZID=America/Denver:20210812T190000
DTSTAMP:20260424T140531
CREATED:20210730T220605Z
LAST-MODIFIED:20210730T220605Z
UID:27014-1628787600-1628794800@cccldstaging1.org
SUMMARY:Back to School Community Picnic Boxes
DESCRIPTION:Join your friends and neighbors for a FREE picnic box\, sponsored by Friends of the Idaho Springs Public Library.
URL:https://cccldstaging1.org/event/back-to-school-community-picnic-boxes/
LOCATION:CO\, 80444\, United States
CATEGORIES:Adults,Community Events,Kids,Library Events,Teens
GEO:39.7104468;-105.6969788
END:VEVENT
BEGIN:VEVENT
DTSTART;TZID=America/Denver:20210729T100000
DTEND;TZID=America/Denver:20210729T120000
DTSTAMP:20260424T140531
CREATED:20210719T164230Z
LAST-MODIFIED:20210719T164230Z
UID:27011-1627552800-1627560000@cccldstaging1.org
SUMMARY:Stories & Sunshine
DESCRIPTION:Join us for outdoor storytime at the John Tomay Memorial Library.
URL:https://cccldstaging1.org/event/stories-sunshine-2/2021-07-29/
LOCATION:CO\, 80444\, United States
CATEGORIES:Kids,Library Events
GEO:39.7104468;-105.6969788
END:VEVENT
BEGIN:VEVENT
DTSTART;TZID=America/Denver:20210727T110000
DTEND;TZID=America/Denver:20210727T120000
DTSTAMP:20260424T140531
CREATED:20210719T164034Z
LAST-MODIFIED:20210719T164034Z
UID:27010-1627383600-1627387200@cccldstaging1.org
SUMMARY:Stories & Sunshine
DESCRIPTION:Join us for outdoor storytime at the Idaho Springs Public Library.
URL:https://cccldstaging1.org/event/stories-sunshine/2021-07-27/
LOCATION:CO\, 80444\, United States
CATEGORIES:Kids,Library Events
GEO:39.7104468;-105.6969788
END:VEVENT
BEGIN:VEVENT
DTSTART;TZID=America/Denver:20210713T110000
DTEND;TZID=America/Denver:20210713T120000
DTSTAMP:20260424T140531
CREATED:20210604T172305Z
LAST-MODIFIED:20210604T172305Z
UID:27003-1626174000-1626177600@cccldstaging1.org
SUMMARY:Summer Reading Habitat Hike
DESCRIPTION:Pippinhoot Habitat Hike – JTML.
URL:https://cccldstaging1.org/event/summer-reading-habitat-hike-2/
LOCATION:CO\, 80444\, United States
CATEGORIES:Kids,Library Events
GEO:39.7104468;-105.6969788
END:VEVENT
END:VCALENDAR