BEGIN:VCALENDAR
VERSION:2.0
PRODID:-//Clear Creek County Library District Staging - ECPv6.15.20//NONSGML v1.0//EN
CALSCALE:GREGORIAN
METHOD:PUBLISH
X-ORIGINAL-URL:https://cccldstaging1.org
X-WR-CALDESC:Events for Clear Creek County Library District Staging
REFRESH-INTERVAL;VALUE=DURATION:PT1H
X-Robots-Tag:noindex
X-PUBLISHED-TTL:PT1H
BEGIN:VTIMEZONE
TZID:America/Denver
BEGIN:DAYLIGHT
TZOFFSETFROM:-0700
TZOFFSETTO:-0600
TZNAME:MDT
DTSTART:20210314T090000
END:DAYLIGHT
BEGIN:STANDARD
TZOFFSETFROM:-0600
TZOFFSETTO:-0700
TZNAME:MST
DTSTART:20211107T080000
END:STANDARD
BEGIN:DAYLIGHT
TZOFFSETFROM:-0700
TZOFFSETTO:-0600
TZNAME:MDT
DTSTART:20220313T090000
END:DAYLIGHT
BEGIN:STANDARD
TZOFFSETFROM:-0600
TZOFFSETTO:-0700
TZNAME:MST
DTSTART:20221106T080000
END:STANDARD
BEGIN:DAYLIGHT
TZOFFSETFROM:-0700
TZOFFSETTO:-0600
TZNAME:MDT
DTSTART:20230312T090000
END:DAYLIGHT
BEGIN:STANDARD
TZOFFSETFROM:-0600
TZOFFSETTO:-0700
TZNAME:MST
DTSTART:20231105T080000
END:STANDARD
END:VTIMEZONE
BEGIN:VEVENT
DTSTART;TZID=America/Denver:20220903T100000
DTEND;TZID=America/Denver:20220905T160000
DTSTAMP:20260424T100905
CREATED:20220823T165125Z
LAST-MODIFIED:20220823T165125Z
UID:16650-1662199200-1662393600@cccldstaging1.org
SUMMARY:JTML Friends Book Sale 10 am - 4 pm
DESCRIPTION:Stop by the Friends of the Georgetown Library annual Labor Day weekend book sale Saturday-September 3\, Sunday-September 4\, and Monday-September 5 from 10 am to 4 pm.
URL:https://cccldstaging1.org/event/16650/
LOCATION:John Tomay Memorial Library\, 605 6th Street\, Georgetown\, CO\, 80444\, United States
CATEGORIES:Adults,Kids,Library Events,Teens
GEO:39.7061997;-105.6974142
X-APPLE-STRUCTURED-LOCATION;VALUE=URI;X-ADDRESS=John Tomay Memorial Library 605 6th Street Georgetown CO 80444 United States;X-APPLE-RADIUS=500;X-TITLE=605 6th Street:geo:-105.6974142,39.7061997
END:VEVENT
BEGIN:VEVENT
DTSTART;TZID=America/Denver:20220902T123000
DTEND;TZID=America/Denver:20220902T150000
DTSTAMP:20260424T100905
CREATED:20220823T170701Z
LAST-MODIFIED:20220823T170701Z
UID:16662-1662121800-1662130800@cccldstaging1.org
SUMMARY:JTML & ISPL COMPASS Fridays
DESCRIPTION:Join us for FREE guided and independent activities on Friday afternoons during the school year\, funded through your Library District.
URL:https://cccldstaging1.org/event/jtml-ispl-compass-fridays/2022-09-02/
LOCATION:CO\, 80444\, United States
CATEGORIES:Kids,Library Events,Teens
GEO:39.7104468;-105.6969788
END:VEVENT
BEGIN:VEVENT
DTSTART;TZID=America/Denver:20220826T130000
DTEND;TZID=America/Denver:20220826T140000
DTSTAMP:20260424T100905
CREATED:20220802T190144Z
LAST-MODIFIED:20220802T190144Z
UID:16432-1661518800-1661522400@cccldstaging1.org
SUMMARY:ISPL & JTML Rock Painting
DESCRIPTION:COMPASS FRIDAYS – Let your COMPASS guide you to free Friday fun at your Clear Creek County Libraries!
URL:https://cccldstaging1.org/event/ispl-jtml-rock-painting/
LOCATION:CO\, 80444\, United States
CATEGORIES:Kids,Library Events,Teens
GEO:39.7104468;-105.6969788
END:VEVENT
BEGIN:VEVENT
DTSTART;TZID=America/Denver:20220822T081500
DTEND;TZID=America/Denver:20220822T151500
DTSTAMP:20260424T100905
CREATED:20220713T183624Z
LAST-MODIFIED:20220713T183624Z
UID:16348-1661156100-1661181300@cccldstaging1.org
SUMMARY:School Starts
DESCRIPTION:
URL:https://cccldstaging1.org/event/school-starts/
LOCATION:CO\, 80444\, United States
CATEGORIES:Adults,Kids,Library Events,Teens
GEO:39.7104468;-105.6969788
END:VEVENT
BEGIN:VEVENT
DTSTART;TZID=America/Denver:20220817T160000
DTEND;TZID=America/Denver:20220817T180000
DTSTAMP:20260424T100905
CREATED:20220802T190502Z
LAST-MODIFIED:20220802T190502Z
UID:16434-1660752000-1660759200@cccldstaging1.org
SUMMARY:ISPL - Community Picnic
DESCRIPTION:Back-To-School Night Community Picnic @ Idaho Springs Public Library. Free book for each child! Sponsored by Friends of the Idaho Springs Library.
URL:https://cccldstaging1.org/event/ispl-community-picnic/
LOCATION:Idaho Springs Public Library\, 219 14th Avenue\, Idaho Springs\, CO\, 80452\, United States
CATEGORIES:Adults,Community Events,Kids,Library Events,Teens
GEO:39.742052;-105.5183552
X-APPLE-STRUCTURED-LOCATION;VALUE=URI;X-ADDRESS=Idaho Springs Public Library 219 14th Avenue Idaho Springs CO 80452 United States;X-APPLE-RADIUS=500;X-TITLE=219 14th Avenue:geo:-105.5183552,39.742052
END:VEVENT
BEGIN:VEVENT
DTSTART;TZID=America/Denver:20220815T130000
DTEND;TZID=America/Denver:20220815T150000
DTSTAMP:20260424T100905
CREATED:20220713T183035Z
LAST-MODIFIED:20220713T183035Z
UID:16342-1660568400-1660575600@cccldstaging1.org
SUMMARY:JTML Virtual Reality
DESCRIPTION:Join the fun with the new Oculus Quest 2. Email heather@cccld.org for additional information and to register.
URL:https://cccldstaging1.org/event/jtml-virtual-reality-3/
LOCATION:John Tomay Memorial Library\, 605 6th Street\, Georgetown\, CO\, 80444\, United States
CATEGORIES:Adults,Kids,Library Events,Teens
GEO:39.7061997;-105.6974142
X-APPLE-STRUCTURED-LOCATION;VALUE=URI;X-ADDRESS=John Tomay Memorial Library 605 6th Street Georgetown CO 80444 United States;X-APPLE-RADIUS=500;X-TITLE=605 6th Street:geo:-105.6974142,39.7061997
END:VEVENT
BEGIN:VEVENT
DTSTART;TZID=America/Denver:20220813T120000
DTEND;TZID=America/Denver:20220813T140000
DTSTAMP:20260424T100905
CREATED:20220713T183303Z
LAST-MODIFIED:20220713T183303Z
UID:16344-1660392000-1660399200@cccldstaging1.org
SUMMARY:OMEGA
DESCRIPTION:Join us for food and fun at our new LBGTQ+ Social Group for kids ages 12-20. Held monthly at the Idaho Springs Public Library. For further information email joe@cccld.org.
URL:https://cccldstaging1.org/event/omega-3/
LOCATION:Idaho Springs Public Library\, 219 14th Avenue\, Idaho Springs\, CO\, 80452\, United States
CATEGORIES:Kids,Library Events,Teens
GEO:39.742052;-105.5183552
X-APPLE-STRUCTURED-LOCATION;VALUE=URI;X-ADDRESS=Idaho Springs Public Library 219 14th Avenue Idaho Springs CO 80452 United States;X-APPLE-RADIUS=500;X-TITLE=219 14th Avenue:geo:-105.5183552,39.742052
END:VEVENT
BEGIN:VEVENT
DTSTART;TZID=America/Denver:20220812T130000
DTEND;TZID=America/Denver:20220812T150000
DTSTAMP:20260424T100905
CREATED:20220713T182935Z
LAST-MODIFIED:20220713T182935Z
UID:16340-1660309200-1660316400@cccldstaging1.org
SUMMARY:ISPL Virtual Reality
DESCRIPTION:Join the fun with the new Oculus Quest 2. Email heather@cccld.org for additional information and to register.
URL:https://cccldstaging1.org/event/ispl-virtual-reality-3/
LOCATION:Idaho Springs Public Library\, 219 14th Avenue\, Idaho Springs\, CO\, 80452\, United States
CATEGORIES:Adults,Kids,Library Events,Teens
GEO:39.742052;-105.5183552
X-APPLE-STRUCTURED-LOCATION;VALUE=URI;X-ADDRESS=Idaho Springs Public Library 219 14th Avenue Idaho Springs CO 80452 United States;X-APPLE-RADIUS=500;X-TITLE=219 14th Avenue:geo:-105.5183552,39.742052
END:VEVENT
BEGIN:VEVENT
DTSTART;TZID=America/Denver:20220722T130000
DTEND;TZID=America/Denver:20220722T150000
DTSTAMP:20260424T100905
CREATED:20220628T170726Z
LAST-MODIFIED:20220628T170726Z
UID:27147-1658494800-1658502000@cccldstaging1.org
SUMMARY:ISPL Virtual Reality
DESCRIPTION:Join the fun with the new Oculus Quest 2. Email heather@cccld.org for additional information and to register.
URL:https://cccldstaging1.org/event/ispl-virtual-reality-2/
LOCATION:CO\, 80444\, United States
CATEGORIES:Kids,Library Events,Teens
GEO:39.7104468;-105.6969788
END:VEVENT
BEGIN:VEVENT
DTSTART;TZID=America/Denver:20220711T130000
DTEND;TZID=America/Denver:20220711T150000
DTSTAMP:20260424T100905
CREATED:20220628T170815Z
LAST-MODIFIED:20220628T170815Z
UID:16189-1657544400-1657551600@cccldstaging1.org
SUMMARY:JTML Virtual Reality
DESCRIPTION:Join the fun with the new Oculus Quest 2. Email heather@cccld.org for additional information and to register.
URL:https://cccldstaging1.org/event/jtml-virtual-reality-2/
LOCATION:CO\, 80444\, United States
CATEGORIES:Kids,Library Events,Teens
GEO:39.7104468;-105.6969788
END:VEVENT
BEGIN:VEVENT
DTSTART;TZID=America/Denver:20220611T120000
DTEND;TZID=America/Denver:20220611T140000
DTSTAMP:20260424T100905
CREATED:20220607T194128Z
LAST-MODIFIED:20220607T194128Z
UID:16049-1654948800-1654956000@cccldstaging1.org
SUMMARY:OMEGA
DESCRIPTION:Join us for food and fun at our new LBGTQ+ Social Group for kids ages 12-20. Held monthly at the Idaho Springs Public Library. For further information email joe@cccld.org.
URL:https://cccldstaging1.org/event/omega-2/
LOCATION:Idaho Springs Public Library\, 219 14th Avenue\, Idaho Springs\, CO\, 80452\, United States
CATEGORIES:Kids,Library Events,Teens
GEO:39.742052;-105.5183552
X-APPLE-STRUCTURED-LOCATION;VALUE=URI;X-ADDRESS=Idaho Springs Public Library 219 14th Avenue Idaho Springs CO 80452 United States;X-APPLE-RADIUS=500;X-TITLE=219 14th Avenue:geo:-105.5183552,39.742052
END:VEVENT
BEGIN:VEVENT
DTSTART;TZID=America/Denver:20220609T100000
DTEND;TZID=America/Denver:20220609T120000
DTSTAMP:20260424T100905
CREATED:20220607T193357Z
LAST-MODIFIED:20220607T193357Z
UID:16041-1654768800-1654776000@cccldstaging1.org
SUMMARY:King Murphy - Summer Reading
DESCRIPTION:Review complete reading groups & times at www.cccldsummerreading.org/calendar\nSet sail for adventure with your Clear Creek County Libraries! Join a Summer Reading pirate crew\, orient your trusty compass to FUN\, and explore Oceans of Possibilities. We have special activities for learners of all ages. Create\, play\, learn\, and read your way to fabulous treasures. Yo-ho-ho\, it’s a pirate’s life for us!
URL:https://cccldstaging1.org/event/king-murphy-summer-reading/2022-06-09/
LOCATION:King Murphy Elementary\, 425 Circle K Ranch Road\, Evergreen\, CO\, 80439\, United States
CATEGORIES:Kids,Library Events,Summer Reading,Teens
GEO:39.6464019;-105.4162586
X-APPLE-STRUCTURED-LOCATION;VALUE=URI;X-ADDRESS=King Murphy Elementary 425 Circle K Ranch Road Evergreen CO 80439 United States;X-APPLE-RADIUS=500;X-TITLE=425 Circle K Ranch Road:geo:-105.4162586,39.6464019
END:VEVENT
BEGIN:VEVENT
DTSTART;TZID=America/Denver:20220608T100000
DTEND;TZID=America/Denver:20220608T140000
DTSTAMP:20260424T100905
CREATED:20220607T193224Z
LAST-MODIFIED:20220607T193224Z
UID:27140-1654682400-1654696800@cccldstaging1.org
SUMMARY:JTML - Summer Reading
DESCRIPTION:Review complete reading groups & times at www.cccldsummerreading.org/calendar\nSet sail for adventure with your Clear Creek County Libraries! Join a Summer Reading pirate crew\, orient your trusty compass to FUN\, and explore Oceans of Possibilities. We have special activities for learners of all ages. Create\, play\, learn\, and read your way to fabulous treasures. Yo-ho-ho\, it’s a pirate’s life for us!
URL:https://cccldstaging1.org/event/jtml-summer-reading/2022-06-08/
LOCATION:John Tomay Memorial Library\, 605 6th Street\, Georgetown\, CO\, 80444\, United States
CATEGORIES:Kids,Library Events,Summer Reading,Teens
GEO:39.7061997;-105.6974142
X-APPLE-STRUCTURED-LOCATION;VALUE=URI;X-ADDRESS=John Tomay Memorial Library 605 6th Street Georgetown CO 80444 United States;X-APPLE-RADIUS=500;X-TITLE=605 6th Street:geo:-105.6974142,39.7061997
END:VEVENT
BEGIN:VEVENT
DTSTART;TZID=America/Denver:20220607T100000
DTEND;TZID=America/Denver:20220607T140000
DTSTAMP:20260424T100905
CREATED:20220607T193051Z
LAST-MODIFIED:20220607T193051Z
UID:16029-1654596000-1654610400@cccldstaging1.org
SUMMARY:ISPL - Summer Reading
DESCRIPTION:Review complete reading groups & times at www.cccldsummerreading.org/calendar\nSet sail for adventure with your Clear Creek County Libraries! Join a Summer Reading pirate crew\, orient your trusty compass to FUN\, and explore Oceans of Possibilities. We have special activities for learners of all ages. Create\, play\, learn\, and read your way to fabulous treasures. Yo-ho-ho\, it’s a pirate’s life for us!
URL:https://cccldstaging1.org/event/ispl-summer-reading/2022-06-07/
LOCATION:Idaho Springs Public Library\, 219 14th Avenue\, Idaho Springs\, CO\, 80452\, United States
CATEGORIES:Kids,Library Events,Summer Reading,Teens
GEO:39.742052;-105.5183552
X-APPLE-STRUCTURED-LOCATION;VALUE=URI;X-ADDRESS=Idaho Springs Public Library 219 14th Avenue Idaho Springs CO 80452 United States;X-APPLE-RADIUS=500;X-TITLE=219 14th Avenue:geo:-105.5183552,39.742052
END:VEVENT
BEGIN:VEVENT
DTSTART;TZID=America/Denver:20220519T153000
DTEND;TZID=America/Denver:20220519T163000
DTSTAMP:20260424T100905
CREATED:20220502T163420Z
LAST-MODIFIED:20220502T163420Z
UID:27118-1652974200-1652977800@cccldstaging1.org
SUMMARY:Last Day of School Celebration
DESCRIPTION:Head to the Idaho Springs Public Library to celebrate the last day of school with ice cream and games.
URL:https://cccldstaging1.org/event/last-day-of-school-celebration/
LOCATION:Idaho Springs Public Library\, 219 14th Avenue\, Idaho Springs\, CO\, 80452\, United States
CATEGORIES:Adults,Kids,Library Events,Teens
GEO:39.742052;-105.5183552
X-APPLE-STRUCTURED-LOCATION;VALUE=URI;X-ADDRESS=Idaho Springs Public Library 219 14th Avenue Idaho Springs CO 80452 United States;X-APPLE-RADIUS=500;X-TITLE=219 14th Avenue:geo:-105.5183552,39.742052
END:VEVENT
BEGIN:VEVENT
DTSTART;TZID=America/Denver:20220514T130000
DTEND;TZID=America/Denver:20220514T150000
DTSTAMP:20260424T100905
CREATED:20220412T220220Z
LAST-MODIFIED:20220412T220220Z
UID:27115-1652533200-1652540400@cccldstaging1.org
SUMMARY:OMEGA
DESCRIPTION:Join us for food and fun at our new LBGTQ+ Social Group for kids ages 12-20. Held monthly at the Idaho Springs Public Library. For further information email joe@cccld.org.
URL:https://cccldstaging1.org/event/omega/
LOCATION:Idaho Springs Public Library\, 219 14th Avenue\, Idaho Springs\, CO\, 80452\, United States
CATEGORIES:Kids,Library Events,Teens
GEO:39.742052;-105.5183552
X-APPLE-STRUCTURED-LOCATION;VALUE=URI;X-ADDRESS=Idaho Springs Public Library 219 14th Avenue Idaho Springs CO 80452 United States;X-APPLE-RADIUS=500;X-TITLE=219 14th Avenue:geo:-105.5183552,39.742052
END:VEVENT
BEGIN:VEVENT
DTSTART;TZID=America/Denver:20220512T154500
DTEND;TZID=America/Denver:20220512T164500
DTSTAMP:20260424T100905
CREATED:20220412T215639Z
LAST-MODIFIED:20220412T215639Z
UID:27113-1652370300-1652373900@cccldstaging1.org
SUMMARY:JTML -Werewolf Game
DESCRIPTION:You can’t beat a good Werewolf Game! Join the fun at the Idaho Springs Public Library.
URL:https://cccldstaging1.org/event/jtml-werewolf-game/
LOCATION:John Tomay Memorial Library\, 605 6th Street\, Georgetown\, CO\, 80444\, United States
CATEGORIES:Kids,Library Events
GEO:39.7061997;-105.6974142
X-APPLE-STRUCTURED-LOCATION;VALUE=URI;X-ADDRESS=John Tomay Memorial Library 605 6th Street Georgetown CO 80444 United States;X-APPLE-RADIUS=500;X-TITLE=605 6th Street:geo:-105.6974142,39.7061997
END:VEVENT
BEGIN:VEVENT
DTSTART;TZID=America/Denver:20220510T153000
DTEND;TZID=America/Denver:20220510T163000
DTSTAMP:20260424T100905
CREATED:20220412T215517Z
LAST-MODIFIED:20220412T215517Z
UID:27112-1652196600-1652200200@cccldstaging1.org
SUMMARY:ISPL - Werewolf Game
DESCRIPTION:You can’t beat a good Werewolf Game! Join the fun at the Idaho Springs Public Library.
URL:https://cccldstaging1.org/event/ispl-werewolf-game/
LOCATION:Idaho Springs Public Library\, 219 14th Avenue\, Idaho Springs\, CO\, 80452\, United States
CATEGORIES:Kids,Library Events
GEO:39.742052;-105.5183552
X-APPLE-STRUCTURED-LOCATION;VALUE=URI;X-ADDRESS=Idaho Springs Public Library 219 14th Avenue Idaho Springs CO 80452 United States;X-APPLE-RADIUS=500;X-TITLE=219 14th Avenue:geo:-105.5183552,39.742052
END:VEVENT
BEGIN:VEVENT
DTSTART;TZID=America/Denver:20220507T103000
DTEND;TZID=America/Denver:20220507T233000
DTSTAMP:20260424T100905
CREATED:20220412T213754Z
LAST-MODIFIED:20220412T213754Z
UID:27105-1651919400-1651966200@cccldstaging1.org
SUMMARY:Family ASL
DESCRIPTION:Family American Sign Language Classes–at the Idaho Springs Public Library. Please email joe@cccld.org for more information and to register.
URL:https://cccldstaging1.org/event/family-asl/2022-05-07/
LOCATION:Idaho Springs Public Library\, 219 14th Avenue\, Idaho Springs\, CO\, 80452\, United States
CATEGORIES:Adults,Kids,Library Events,Teens
GEO:39.742052;-105.5183552
X-APPLE-STRUCTURED-LOCATION;VALUE=URI;X-ADDRESS=Idaho Springs Public Library 219 14th Avenue Idaho Springs CO 80452 United States;X-APPLE-RADIUS=500;X-TITLE=219 14th Avenue:geo:-105.5183552,39.742052
END:VEVENT
BEGIN:VEVENT
DTSTART;TZID=America/Denver:20220505T190000
DTEND;TZID=America/Denver:20220505T200000
DTSTAMP:20260424T100905
CREATED:20220502T163830Z
LAST-MODIFIED:20220502T163830Z
UID:27119-1651777200-1651780800@cccldstaging1.org
SUMMARY:Virtual Goodnight Storytime
DESCRIPTION:Get ready for bed with Miss Holly and Miss Honeybun during our Virtual Goodnight Storytime. Join us live on our Facebook page at 7 pm every Thursday.
URL:https://cccldstaging1.org/event/virtual-goodnight-storytime-2/2022-05-05/
LOCATION:CO\, 80444\, United States
CATEGORIES:Kids,Library Events
GEO:39.7104468;-105.6969788
END:VEVENT
BEGIN:VEVENT
DTSTART;TZID=America/Denver:20220504T111500
DTEND;TZID=America/Denver:20220504T121500
DTSTAMP:20260424T100905
CREATED:20220502T164225Z
LAST-MODIFIED:20220502T164225Z
UID:27128-1651662900-1651666500@cccldstaging1.org
SUMMARY:Virtual Morning Storytime
DESCRIPTION:Join Miss Holly and Miss Honeybun for Morning Storytime live on our Facebook page at 11:15 am every Wednesday.
URL:https://cccldstaging1.org/event/virtual-morning-storytime-2/2022-05-04/
LOCATION:CO\, 80444\, United States
CATEGORIES:Kids,Library Events
GEO:39.7104468;-105.6969788
END:VEVENT
BEGIN:VEVENT
DTSTART;TZID=America/Denver:20220429T153000
DTEND;TZID=America/Denver:20220429T170000
DTSTAMP:20260424T100905
CREATED:20220328T162902Z
LAST-MODIFIED:20220328T162902Z
UID:27100-1651246200-1651251600@cccldstaging1.org
SUMMARY:Día de los Niños
DESCRIPTION:El Día de los Niños/El Día de los Libros\, also known simply as Día\, is a celebration of children\, families\, and reading. Join the fun with food\, music\, and games.
URL:https://cccldstaging1.org/event/dia-de-los-ninos-2-2/
LOCATION:Idaho Springs Public Library\, 219 14th Avenue\, Idaho Springs\, CO\, 80452\, United States
CATEGORIES:Adults,Kids,Library Events,Teens
GEO:39.742052;-105.5183552
X-APPLE-STRUCTURED-LOCATION;VALUE=URI;X-ADDRESS=Idaho Springs Public Library 219 14th Avenue Idaho Springs CO 80452 United States;X-APPLE-RADIUS=500;X-TITLE=219 14th Avenue:geo:-105.5183552,39.742052
END:VEVENT
BEGIN:VEVENT
DTSTART;TZID=America/Denver:20220428T154500
DTEND;TZID=America/Denver:20220428T164500
DTSTAMP:20260424T100905
CREATED:20220328T162259Z
LAST-MODIFIED:20220328T162259Z
UID:27099-1651160700-1651164300@cccldstaging1.org
SUMMARY:JTML Crafternoon
DESCRIPTION:Join the fun at the John Tomay Memorial Library. Awesome Eco craft.
URL:https://cccldstaging1.org/event/jtml-crafternoon-2/
LOCATION:John Tomay Memorial Library\, 605 6th Street\, Georgetown\, CO\, 80444\, United States
CATEGORIES:Kids,Library Events,Teens
GEO:39.7061997;-105.6974142
X-APPLE-STRUCTURED-LOCATION;VALUE=URI;X-ADDRESS=John Tomay Memorial Library 605 6th Street Georgetown CO 80444 United States;X-APPLE-RADIUS=500;X-TITLE=605 6th Street:geo:-105.6974142,39.7061997
END:VEVENT
BEGIN:VEVENT
DTSTART;TZID=America/Denver:20220425T153000
DTEND;TZID=America/Denver:20220425T163000
DTSTAMP:20260424T100905
CREATED:20220328T162129Z
LAST-MODIFIED:20220328T162129Z
UID:27098-1650900600-1650904200@cccldstaging1.org
SUMMARY:ISPL Crafternoon
DESCRIPTION:Join the fun at the Idaho Springs Public Library. Awesome Eco craft.
URL:https://cccldstaging1.org/event/ispl-crafternoon-2/
LOCATION:Idaho Springs Public Library\, 219 14th Avenue\, Idaho Springs\, CO\, 80452\, United States
CATEGORIES:Kids,Library Events,Teens
GEO:39.742052;-105.5183552
X-APPLE-STRUCTURED-LOCATION;VALUE=URI;X-ADDRESS=Idaho Springs Public Library 219 14th Avenue Idaho Springs CO 80452 United States;X-APPLE-RADIUS=500;X-TITLE=219 14th Avenue:geo:-105.5183552,39.742052
END:VEVENT
BEGIN:VEVENT
DTSTART;TZID=America/Denver:20220416T100000
DTEND;TZID=America/Denver:20220416T233000
DTSTAMP:20260424T100905
CREATED:20220328T161350Z
LAST-MODIFIED:20220328T161350Z
UID:27095-1650103200-1650151800@cccldstaging1.org
SUMMARY:Easter Egg Hunt
DESCRIPTION:Hunt for Easter eggs and look for the golden egg to win prizes. Join Miss Honeybun for storytime.\nWerlin Park – Kids 0-5\nFoster’s Place – Kids 6 yrs. & up
URL:https://cccldstaging1.org/event/easter-egg-hunt-3-2/
LOCATION:Werlin Park\, 1014 Taos Street\, Georgetown\, CO\, 80444\, United States
CATEGORIES:Kids,Library Events
GEO:39.7098503;-105.6948933
X-APPLE-STRUCTURED-LOCATION;VALUE=URI;X-ADDRESS=Werlin Park 1014 Taos Street Georgetown CO 80444 United States;X-APPLE-RADIUS=500;X-TITLE=1014 Taos Street:geo:-105.6948933,39.7098503
END:VEVENT
BEGIN:VEVENT
DTSTART;TZID=America/Denver:20220415T154500
DTEND;TZID=America/Denver:20220415T164500
DTSTAMP:20260424T100905
CREATED:20220328T155918Z
LAST-MODIFIED:20220328T155918Z
UID:27094-1650037500-1650041100@cccldstaging1.org
SUMMARY:JTML Easter Egg Workshop
DESCRIPTION:Join the fun and dye Easter eggs at the John Tomay Memorial Library.
URL:https://cccldstaging1.org/event/jtml-easter-egg-workshop/
LOCATION:John Tomay Memorial Library\, 605 6th Street\, Georgetown\, CO\, 80444\, United States
CATEGORIES:Kids,Library Events,Teens
GEO:39.7061997;-105.6974142
X-APPLE-STRUCTURED-LOCATION;VALUE=URI;X-ADDRESS=John Tomay Memorial Library 605 6th Street Georgetown CO 80444 United States;X-APPLE-RADIUS=500;X-TITLE=605 6th Street:geo:-105.6974142,39.7061997
END:VEVENT
BEGIN:VEVENT
DTSTART;VALUE=DATE:20220412
DTEND;VALUE=DATE:20220413
DTSTAMP:20260424T100905
CREATED:20220412T215729Z
LAST-MODIFIED:20220412T215729Z
UID:27114-1649721600-1649807999@cccldstaging1.org
SUMMARY:LAST DAY OF SCHOOL
DESCRIPTION:
URL:https://cccldstaging1.org/event/last-day-of-school/
LOCATION:CO\, 80444\, United States
CATEGORIES:Adults,Kids,Library Events,Teens
GEO:39.7104468;-105.6969788
END:VEVENT
BEGIN:VEVENT
DTSTART;TZID=America/Denver:20220409T130000
DTEND;TZID=America/Denver:20220409T150000
DTSTAMP:20260424T100905
CREATED:20220325T214410Z
LAST-MODIFIED:20220325T214410Z
UID:27091-1649509200-1649516400@cccldstaging1.org
SUMMARY:OMEGA
DESCRIPTION:Join us for food and fun at our new LBGTQ+ Social Group for kids ages 12-20. Held monthly at the Idaho Springs Public Library. For further information email joe@cccld.org.
URL:https://cccldstaging1.org/event/rainbow-corner/
LOCATION:Idaho Springs Public Library\, 219 14th Avenue\, Idaho Springs\, CO\, 80452\, United States
CATEGORIES:Kids,Library Events,Teens
GEO:39.742052;-105.5183552
X-APPLE-STRUCTURED-LOCATION;VALUE=URI;X-ADDRESS=Idaho Springs Public Library 219 14th Avenue Idaho Springs CO 80452 United States;X-APPLE-RADIUS=500;X-TITLE=219 14th Avenue:geo:-105.5183552,39.742052
END:VEVENT
BEGIN:VEVENT
DTSTART;VALUE=DATE:20220404
DTEND;VALUE=DATE:20220410
DTSTAMP:20260424T100905
CREATED:20220325T213209Z
LAST-MODIFIED:20220325T213209Z
UID:27087-1649030400-1649548799@cccldstaging1.org
SUMMARY:National Library Week @ Idaho Springs Public Library & John Tomay Memorial Library
DESCRIPTION:Join us April4-9 at the library for complimentary coffee\, cookies\, and prize drawings to celebrate National Library Week.
URL:https://cccldstaging1.org/event/national-library-week-idaho-springs-public-library-john-tomay-memorial-library/
LOCATION:CO\, 80444\, United States
CATEGORIES:Adults,Kids,Library Events,Teens
GEO:39.7104468;-105.6969788
END:VEVENT
BEGIN:VEVENT
DTSTART;TZID=America/Denver:20220331T154500
DTEND;TZID=America/Denver:20220331T164500
DTSTAMP:20260424T100905
CREATED:20220222T164224Z
LAST-MODIFIED:20220222T164224Z
UID:27078-1648741500-1648745100@cccldstaging1.org
SUMMARY:JTML Crafternoon
DESCRIPTION:Join the fun at the John Tomay Memorial Library! Awesome Penguin Plushie craft.
URL:https://cccldstaging1.org/event/jtml-crafternoon/
LOCATION:John Tomay Memorial Library\, 605 6th Street\, Georgetown\, CO\, 80444\, United States
CATEGORIES:Kids,Library Events,Teens
GEO:39.7061997;-105.6974142
X-APPLE-STRUCTURED-LOCATION;VALUE=URI;X-ADDRESS=John Tomay Memorial Library 605 6th Street Georgetown CO 80444 United States;X-APPLE-RADIUS=500;X-TITLE=605 6th Street:geo:-105.6974142,39.7061997
END:VEVENT
END:VCALENDAR