BEGIN:VCALENDAR
VERSION:2.0
PRODID:-//Clear Creek County Library District Staging - ECPv6.15.20//NONSGML v1.0//EN
CALSCALE:GREGORIAN
METHOD:PUBLISH
X-WR-CALNAME:Clear Creek County Library District Staging
X-ORIGINAL-URL:https://cccldstaging1.org
X-WR-CALDESC:Events for Clear Creek County Library District Staging
REFRESH-INTERVAL;VALUE=DURATION:PT1H
X-Robots-Tag:noindex
X-PUBLISHED-TTL:PT1H
BEGIN:VTIMEZONE
TZID:America/Denver
BEGIN:DAYLIGHT
TZOFFSETFROM:-0700
TZOFFSETTO:-0600
TZNAME:MDT
DTSTART:20230312T090000
END:DAYLIGHT
BEGIN:STANDARD
TZOFFSETFROM:-0600
TZOFFSETTO:-0700
TZNAME:MST
DTSTART:20231105T080000
END:STANDARD
BEGIN:DAYLIGHT
TZOFFSETFROM:-0700
TZOFFSETTO:-0600
TZNAME:MDT
DTSTART:20240310T090000
END:DAYLIGHT
BEGIN:STANDARD
TZOFFSETFROM:-0600
TZOFFSETTO:-0700
TZNAME:MST
DTSTART:20241103T080000
END:STANDARD
BEGIN:DAYLIGHT
TZOFFSETFROM:-0700
TZOFFSETTO:-0600
TZNAME:MDT
DTSTART:20250309T090000
END:DAYLIGHT
BEGIN:STANDARD
TZOFFSETFROM:-0600
TZOFFSETTO:-0700
TZNAME:MST
DTSTART:20251102T080000
END:STANDARD
END:VTIMEZONE
BEGIN:VEVENT
DTSTART;TZID=America/Denver:20240926T090000
DTEND;TZID=America/Denver:20240926T170000
DTSTAMP:20260423T182218
CREATED:20240802T163231Z
LAST-MODIFIED:20240802T163231Z
UID:24693-1727341200-1727370000@cccldstaging1.org
SUMMARY:JTML Centennial Celebration
DESCRIPTION:September brings our Centennial Celebration for John Tomay Memorial Library! Please join us on Thursday\, September 26\, to honor this once-in-a-lifetime event. More details to come.
URL:https://cccldstaging1.org/event/jtml-centennial-celebration/
LOCATION:John Tomay Memorial Library\, 605 6th Street\, Georgetown\, CO\, 80444\, United States
CATEGORIES:Adults,Community Events,Kids,Library Events,Teens
GEO:39.7061997;-105.6974142
X-APPLE-STRUCTURED-LOCATION;VALUE=URI;X-ADDRESS=John Tomay Memorial Library 605 6th Street Georgetown CO 80444 United States;X-APPLE-RADIUS=500;X-TITLE=605 6th Street:geo:-105.6974142,39.7061997
END:VEVENT
BEGIN:VEVENT
DTSTART;TZID=America/Denver:20240809T100000
DTEND;TZID=America/Denver:20240809T233000
DTSTAMP:20260423T182218
CREATED:20240802T162818Z
LAST-MODIFIED:20240802T162818Z
UID:24688-1723197600-1723246200@cccldstaging1.org
SUMMARY:Stories & Swimming
DESCRIPTION:Splash into storytime with us! Registration is required. To learn more and sign up\, please email holly@cccld.org. Many thanks to Clear Creek Recreation Center for welcoming storytime into their swimming pool!
URL:https://cccldstaging1.org/event/stories-swimming/
LOCATION:Clear Creek Metropolitan Recreation District\, 98 12th Avenue\, Idaho Springs\, CO\, 80452\, United States
CATEGORIES:Kids,Library Events
GEO:39.7419098;-105.5208484
X-APPLE-STRUCTURED-LOCATION;VALUE=URI;X-ADDRESS=Clear Creek Metropolitan Recreation District 98 12th Avenue Idaho Springs CO 80452 United States;X-APPLE-RADIUS=500;X-TITLE=98 12th Avenue:geo:-105.5208484,39.7419098
END:VEVENT
BEGIN:VEVENT
DTSTART;TZID=America/Denver:20240806T100000
DTEND;TZID=America/Denver:20240806T110000
DTSTAMP:20260423T182218
CREATED:20240710T185957Z
LAST-MODIFIED:20240710T185957Z
UID:24545-1722938400-1722942000@cccldstaging1.org
SUMMARY:Idaho Springs Parachute Storytime
DESCRIPTION:Join us for stories and parachute games at the Idaho Springs Public Library.
URL:https://cccldstaging1.org/event/idaho-springs-parachute-storytime/
LOCATION:CO\, 80444\, United States
CATEGORIES:Kids,Library Events
END:VEVENT
BEGIN:VEVENT
DTSTART;TZID=America/Denver:20240801T100000
DTEND;TZID=America/Denver:20240801T110000
DTSTAMP:20260423T182218
CREATED:20240710T170105Z
LAST-MODIFIED:20240710T170105Z
UID:24542-1722506400-1722510000@cccldstaging1.org
SUMMARY:Georgetown Parachute Storytime
DESCRIPTION:Join us for stories and parachute games at Foster’s Place Playground in Georgetown.
URL:https://cccldstaging1.org/event/georgetown-parachute-storytime/
LOCATION:CO\, 80444\, United States
CATEGORIES:Kids
END:VEVENT
BEGIN:VEVENT
DTSTART;TZID=America/Denver:20240710T100000
DTEND;TZID=America/Denver:20240710T130000
DTSTAMP:20260423T182218
CREATED:20240610T170451Z
LAST-MODIFIED:20240610T170451Z
UID:24198-1720605600-1720616400@cccldstaging1.org
SUMMARY:Summer Reading Party
DESCRIPTION:Into the Waves! Summer Reading Party at the Clear Creek Recreation Center! Swimming\, Pizza\, Cake. Children under the age of eight years need a parent with them.
URL:https://cccldstaging1.org/event/summer-reading-party/
LOCATION:Clear Creek Metropolitan Recreation District\, 98 12th Avenue\, Idaho Springs\, CO\, 80452\, United States
CATEGORIES:Adults,Kids,Library Events,Summer Reading,Teens
GEO:39.7419098;-105.5208484
X-APPLE-STRUCTURED-LOCATION;VALUE=URI;X-ADDRESS=Clear Creek Metropolitan Recreation District 98 12th Avenue Idaho Springs CO 80452 United States;X-APPLE-RADIUS=500;X-TITLE=98 12th Avenue:geo:-105.5208484,39.7419098
END:VEVENT
BEGIN:VEVENT
DTSTART;TZID=America/Denver:20240704T101500
DTEND;TZID=America/Denver:20240704T113000
DTSTAMP:20260423T182218
CREATED:20240617T211716Z
LAST-MODIFIED:20240617T211716Z
UID:24348-1720088100-1720092600@cccldstaging1.org
SUMMARY:March in Kazoo Band Georgetown 4th of July Parade
DESCRIPTION:Hey kids! March in the Georgetown Fourth of July Parade with The Friends of the Georgetown Library\, Thursday\, July 4. Meet at Werlin Park in Georgetown at 10:15 a.m. Kazoos provided! No kazoo experience necessary.
URL:https://cccldstaging1.org/event/kazoo-band-4th-of-july-parade-georgetown/
LOCATION:Werlin Park\, 1014 Taos Street\, Georgetown\, CO\, 80444\, United States
CATEGORIES:Community Events,Kids,Library Events
GEO:39.7098503;-105.6948933
X-APPLE-STRUCTURED-LOCATION;VALUE=URI;X-ADDRESS=Werlin Park 1014 Taos Street Georgetown CO 80444 United States;X-APPLE-RADIUS=500;X-TITLE=1014 Taos Street:geo:-105.6948933,39.7098503
END:VEVENT
BEGIN:VEVENT
DTSTART;TZID=America/Denver:20240704T100000
DTEND;TZID=America/Denver:20240707T160000
DTSTAMP:20260423T182218
CREATED:20240610T173251Z
LAST-MODIFIED:20240610T173251Z
UID:24204-1720087200-1720368000@cccldstaging1.org
SUMMARY:JTML Friends Book Sale
DESCRIPTION:Friends of the Georgetown Library Annual 4th of July Book Sale @ John Tomay Memorial Library – 605 6th St.\, Georgetown\, CO.
URL:https://cccldstaging1.org/event/jtml-friends-book-sale-6/
LOCATION:John Tomay Memorial Library\, 605 6th Street\, Georgetown\, CO\, 80444\, United States
CATEGORIES:Adults,Community Events,Kids,Library Events,Teens
GEO:39.7061997;-105.6974142
X-APPLE-STRUCTURED-LOCATION;VALUE=URI;X-ADDRESS=John Tomay Memorial Library 605 6th Street Georgetown CO 80444 United States;X-APPLE-RADIUS=500;X-TITLE=605 6th Street:geo:-105.6974142,39.7061997
END:VEVENT
BEGIN:VEVENT
DTSTART;TZID=America/Denver:20240702T130000
DTEND;TZID=America/Denver:20240702T150000
DTSTAMP:20260423T182218
CREATED:20240617T205854Z
LAST-MODIFIED:20240617T205854Z
UID:24342-1719925200-1719932400@cccldstaging1.org
SUMMARY:ISPL-Read with Mowgli
DESCRIPTION:Mowgli–handsome therapy dog–loves stories! Will you read to him at the Idaho Springs Public Library? Reading to animals is a great way for young learners to develop their reading skills! Please email holly@cccld.org to sign up to read to Mowgli!
URL:https://cccldstaging1.org/event/ispl-read-with-mowgli/2024-07-02/
LOCATION:Idaho Springs Public Library\, 219 14th Avenue\, Idaho Springs\, CO\, 80452\, United States
CATEGORIES:Kids,Library Events,Teens
GEO:39.742052;-105.5183552
X-APPLE-STRUCTURED-LOCATION;VALUE=URI;X-ADDRESS=Idaho Springs Public Library 219 14th Avenue Idaho Springs CO 80452 United States;X-APPLE-RADIUS=500;X-TITLE=219 14th Avenue:geo:-105.5183552,39.742052
END:VEVENT
BEGIN:VEVENT
DTSTART;TZID=America/Denver:20240627T093000
DTEND;TZID=America/Denver:20240627T113000
DTSTAMP:20260423T182218
CREATED:20240610T170152Z
LAST-MODIFIED:20240610T170152Z
UID:24195-1719480600-1719487800@cccldstaging1.org
SUMMARY:Summer Reading - Georgetown Loop Railroad
DESCRIPTION:All Aboard for Adventure! Meet at Georgetown Loop Railroad at 9:30 am. Hop aboard a storytime train with us! Train departs at 10 am and the ride lasts about 75 minutes. Space is limited and registration is required. To register\, please email holly@cccld.org
URL:https://cccldstaging1.org/event/summer-reading-georgetown-loop-railroad/
LOCATION:CO\, 80444\, United States
CATEGORIES:Adults,Kids,Library Events,Teens
END:VEVENT
BEGIN:VEVENT
DTSTART;TZID=America/Denver:20240626T130000
DTEND;TZID=America/Denver:20240626T150000
DTSTAMP:20260423T182218
CREATED:20240617T205709Z
LAST-MODIFIED:20240617T205709Z
UID:24340-1719406800-1719414000@cccldstaging1.org
SUMMARY:JTML-Read with Mowgli
DESCRIPTION:Mowgli–handsome therapy dog–loves stories! Will you read to him at the John Tomay Memorial Library? Reading to animals is a great way for young learners to develop their reading skills! Please email holly@cccld.org to sign up to read to Mowgli!
URL:https://cccldstaging1.org/event/jtml-read-with-mowgli/
LOCATION:John Tomay Memorial Library\, 605 6th Street\, Georgetown\, CO\, 80444\, United States
CATEGORIES:Kids,Library Events,Teens
GEO:39.7061997;-105.6974142
X-APPLE-STRUCTURED-LOCATION;VALUE=URI;X-ADDRESS=John Tomay Memorial Library 605 6th Street Georgetown CO 80444 United States;X-APPLE-RADIUS=500;X-TITLE=605 6th Street:geo:-105.6974142,39.7061997
END:VEVENT
BEGIN:VEVENT
DTSTART;TZID=America/Denver:20240613T100000
DTEND;TZID=America/Denver:20240613T130000
DTSTAMP:20260423T182218
CREATED:20240610T165517Z
LAST-MODIFIED:20240610T165517Z
UID:24192-1718272800-1718283600@cccldstaging1.org
SUMMARY:JTML-Summer Reading
DESCRIPTION:Review complete reading groups & times at cccld.org/summer-reading-2024/\nJoin us on a summertime expedition into the wide world of stories\, crafts\, challenges\, and excursions. Connect with other Clear Creek learners\, and read your way to wonderful prizes! Like all Library District programs\, Summer Reading is 100% free.
URL:https://cccldstaging1.org/event/jtml-summer-reading-3/2024-06-13/
LOCATION:John Tomay Memorial Library\, 605 6th Street\, Georgetown\, CO\, 80444\, United States
CATEGORIES:Adults,Kids,Library Events,Summer Reading,Teens
GEO:39.7061997;-105.6974142
X-APPLE-STRUCTURED-LOCATION;VALUE=URI;X-ADDRESS=John Tomay Memorial Library 605 6th Street Georgetown CO 80444 United States;X-APPLE-RADIUS=500;X-TITLE=605 6th Street:geo:-105.6974142,39.7061997
END:VEVENT
BEGIN:VEVENT
DTSTART;TZID=America/Denver:20240611T100000
DTEND;TZID=America/Denver:20240611T130000
DTSTAMP:20260423T182218
CREATED:20240610T165221Z
LAST-MODIFIED:20240610T165221Z
UID:24189-1718100000-1718110800@cccldstaging1.org
SUMMARY:ISPL-Summer Reading
DESCRIPTION:Review complete reading groups & times at cccld.org/summer-reading-2024/\nJoin us on a summertime expedition into the wide world of stories\, crafts\, challenges\, and excursions. Connect with other Clear Creek learners\, and read your way to wonderful prizes! Like all Library District programs\, Summer Reading is 100% free.
URL:https://cccldstaging1.org/event/ispl-summer-reading-3/2024-06-11/
LOCATION:Idaho Springs Public Library\, 219 14th Avenue\, Idaho Springs\, CO\, 80452\, United States
CATEGORIES:Kids,Library Events,Summer Reading,Teens
GEO:39.742052;-105.5183552
X-APPLE-STRUCTURED-LOCATION;VALUE=URI;X-ADDRESS=Idaho Springs Public Library 219 14th Avenue Idaho Springs CO 80452 United States;X-APPLE-RADIUS=500;X-TITLE=219 14th Avenue:geo:-105.5183552,39.742052
END:VEVENT
BEGIN:VEVENT
DTSTART;TZID=America/Denver:20240601T140000
DTEND;TZID=America/Denver:20240601T153000
DTSTAMP:20260423T182218
CREATED:20240610T174307Z
LAST-MODIFIED:20240610T174307Z
UID:24207-1717250400-1717255800@cccldstaging1.org
SUMMARY:Mountain Jams 2024
DESCRIPTION:Free\, live music every Saturday on Library Park Stage-corner of Sixth Street & Rose Street.
URL:https://cccldstaging1.org/event/mountain-jams-2024/2024-06-01/
LOCATION:John Tomay Memorial Library\, 605 6th Street\, Georgetown\, CO\, 80444\, United States
CATEGORIES:Adults,Community Events,Kids,Library Events,Teens
GEO:39.7061997;-105.6974142
X-APPLE-STRUCTURED-LOCATION;VALUE=URI;X-ADDRESS=John Tomay Memorial Library 605 6th Street Georgetown CO 80444 United States;X-APPLE-RADIUS=500;X-TITLE=605 6th Street:geo:-105.6974142,39.7061997
END:VEVENT
BEGIN:VEVENT
DTSTART;TZID=America/Denver:20240528T111500
DTEND;TZID=America/Denver:20240528T121500
DTSTAMP:20260423T182218
CREATED:20230727T161653Z
LAST-MODIFIED:20230727T161653Z
UID:21983-1716894900-1716898500@cccldstaging1.org
SUMMARY:ISPL Storytime
DESCRIPTION:Join us for storytime and crafts at the Idaho Springs Public Library.
URL:https://cccldstaging1.org/event/ispl-storytime-10/2024-05-28/
LOCATION:Idaho Springs Public Library\, 219 14th Avenue\, Idaho Springs\, CO\, 80452\, United States
CATEGORIES:Kids,Library Events
GEO:39.742052;-105.5183552
X-APPLE-STRUCTURED-LOCATION;VALUE=URI;X-ADDRESS=Idaho Springs Public Library 219 14th Avenue Idaho Springs CO 80452 United States;X-APPLE-RADIUS=500;X-TITLE=219 14th Avenue:geo:-105.5183552,39.742052
END:VEVENT
BEGIN:VEVENT
DTSTART;TZID=America/Denver:20240524T140000
DTEND;TZID=America/Denver:20240524T160000
DTSTAMP:20260423T182218
CREATED:20231129T165858Z
LAST-MODIFIED:20231129T165858Z
UID:23116-1716559200-1716566400@cccldstaging1.org
SUMMARY:JTML-Virtual Reality
DESCRIPTION:Explore new worlds and great games at our virtual reality sessions for tweens and teens (ages 12 years and older). Registration is required. Please email heather@cccld.org to learn more and save your spot.
URL:https://cccldstaging1.org/event/jtml-virtual-reality-7/2024-05-24/
LOCATION:John Tomay Memorial Library\, 605 6th Street\, Georgetown\, CO\, 80444\, United States
CATEGORIES:Kids,Library Events,Teens
GEO:39.7061997;-105.6974142
X-APPLE-STRUCTURED-LOCATION;VALUE=URI;X-ADDRESS=John Tomay Memorial Library 605 6th Street Georgetown CO 80444 United States;X-APPLE-RADIUS=500;X-TITLE=605 6th Street:geo:-105.6974142,39.7061997
END:VEVENT
BEGIN:VEVENT
DTSTART;TZID=America/Denver:20240524T140000
DTEND;TZID=America/Denver:20240524T160000
DTSTAMP:20260423T182218
CREATED:20240808T155226Z
LAST-MODIFIED:20240808T155226Z
UID:24748-1716559200-1716566400@cccldstaging1.org
SUMMARY:JTML-Virtual Reality
DESCRIPTION:Explore new worlds and great games at our virtual reality sessions for tweens and teens (ages 12 years and older). Registration is required. Please email heather@cccld.org to learn more and save your spot.
URL:https://cccldstaging1.org/event/jtml-virtual-reality-7-2/2024-05-24/
LOCATION:John Tomay Memorial Library\, 605 6th Street\, Georgetown\, CO\, 80444\, United States
CATEGORIES:Kids,Library Events,Teens
GEO:39.7061997;-105.6974142
X-APPLE-STRUCTURED-LOCATION;VALUE=URI;X-ADDRESS=John Tomay Memorial Library 605 6th Street Georgetown CO 80444 United States;X-APPLE-RADIUS=500;X-TITLE=605 6th Street:geo:-105.6974142,39.7061997
END:VEVENT
BEGIN:VEVENT
DTSTART;TZID=America/Denver:20240523T111500
DTEND;TZID=America/Denver:20240523T121500
DTSTAMP:20260423T182218
CREATED:20230727T161856Z
LAST-MODIFIED:20230727T161856Z
UID:22043-1716462900-1716466500@cccldstaging1.org
SUMMARY:JTML Storytime
DESCRIPTION:Join us for storytime and crafts at the John Tomay Memorial Library.
URL:https://cccldstaging1.org/event/jtml-storytime-10/2024-05-23/
LOCATION:John Tomay Memorial Library\, 605 6th Street\, Georgetown\, CO\, 80444\, United States
CATEGORIES:Kids,Library Events
GEO:39.7061997;-105.6974142
X-APPLE-STRUCTURED-LOCATION;VALUE=URI;X-ADDRESS=John Tomay Memorial Library 605 6th Street Georgetown CO 80444 United States;X-APPLE-RADIUS=500;X-TITLE=605 6th Street:geo:-105.6974142,39.7061997
END:VEVENT
BEGIN:VEVENT
DTSTART;TZID=America/Denver:20240521T111500
DTEND;TZID=America/Denver:20240521T121500
DTSTAMP:20260423T182218
CREATED:20230727T161653Z
LAST-MODIFIED:20230727T161653Z
UID:21982-1716290100-1716293700@cccldstaging1.org
SUMMARY:ISPL Storytime
DESCRIPTION:Join us for storytime and crafts at the Idaho Springs Public Library.
URL:https://cccldstaging1.org/event/ispl-storytime-10/2024-05-21/
LOCATION:Idaho Springs Public Library\, 219 14th Avenue\, Idaho Springs\, CO\, 80452\, United States
CATEGORIES:Kids,Library Events
GEO:39.742052;-105.5183552
X-APPLE-STRUCTURED-LOCATION;VALUE=URI;X-ADDRESS=Idaho Springs Public Library 219 14th Avenue Idaho Springs CO 80452 United States;X-APPLE-RADIUS=500;X-TITLE=219 14th Avenue:geo:-105.5183552,39.742052
END:VEVENT
BEGIN:VEVENT
DTSTART;TZID=America/Denver:20240516T111500
DTEND;TZID=America/Denver:20240516T121500
DTSTAMP:20260423T182218
CREATED:20230727T161856Z
LAST-MODIFIED:20230727T161856Z
UID:22042-1715858100-1715861700@cccldstaging1.org
SUMMARY:JTML Storytime
DESCRIPTION:Join us for storytime and crafts at the John Tomay Memorial Library.
URL:https://cccldstaging1.org/event/jtml-storytime-10/2024-05-16/
LOCATION:John Tomay Memorial Library\, 605 6th Street\, Georgetown\, CO\, 80444\, United States
CATEGORIES:Kids,Library Events
GEO:39.7061997;-105.6974142
X-APPLE-STRUCTURED-LOCATION;VALUE=URI;X-ADDRESS=John Tomay Memorial Library 605 6th Street Georgetown CO 80444 United States;X-APPLE-RADIUS=500;X-TITLE=605 6th Street:geo:-105.6974142,39.7061997
END:VEVENT
BEGIN:VEVENT
DTSTART;TZID=America/Denver:20240514T111500
DTEND;TZID=America/Denver:20240514T121500
DTSTAMP:20260423T182218
CREATED:20230727T161653Z
LAST-MODIFIED:20230727T161653Z
UID:21981-1715685300-1715688900@cccldstaging1.org
SUMMARY:ISPL Storytime
DESCRIPTION:Join us for storytime and crafts at the Idaho Springs Public Library.
URL:https://cccldstaging1.org/event/ispl-storytime-10/2024-05-14/
LOCATION:Idaho Springs Public Library\, 219 14th Avenue\, Idaho Springs\, CO\, 80452\, United States
CATEGORIES:Kids,Library Events
GEO:39.742052;-105.5183552
X-APPLE-STRUCTURED-LOCATION;VALUE=URI;X-ADDRESS=Idaho Springs Public Library 219 14th Avenue Idaho Springs CO 80452 United States;X-APPLE-RADIUS=500;X-TITLE=219 14th Avenue:geo:-105.5183552,39.742052
END:VEVENT
BEGIN:VEVENT
DTSTART;TZID=America/Denver:20240510T140000
DTEND;TZID=America/Denver:20240510T160000
DTSTAMP:20260423T182218
CREATED:20231129T165752Z
LAST-MODIFIED:20231129T165752Z
UID:23114-1715349600-1715356800@cccldstaging1.org
SUMMARY:ISPL-Virtual Reality
DESCRIPTION:Explore new worlds and great games at our virtual reality sessions for tweens and teens (ages 12 years and older). Registration is required. Please email heather@cccld.org to learn more and save your spot.
URL:https://cccldstaging1.org/event/ispl-virtual-reality-7/2024-05-10/
LOCATION:CO
CATEGORIES:Kids,Library Events,Teens
END:VEVENT
BEGIN:VEVENT
DTSTART;TZID=America/Denver:20240509T111500
DTEND;TZID=America/Denver:20240509T121500
DTSTAMP:20260423T182218
CREATED:20230727T161856Z
LAST-MODIFIED:20230727T161856Z
UID:22041-1715253300-1715256900@cccldstaging1.org
SUMMARY:JTML Storytime
DESCRIPTION:Join us for storytime and crafts at the John Tomay Memorial Library.
URL:https://cccldstaging1.org/event/jtml-storytime-10/2024-05-09/
LOCATION:John Tomay Memorial Library\, 605 6th Street\, Georgetown\, CO\, 80444\, United States
CATEGORIES:Kids,Library Events
GEO:39.7061997;-105.6974142
X-APPLE-STRUCTURED-LOCATION;VALUE=URI;X-ADDRESS=John Tomay Memorial Library 605 6th Street Georgetown CO 80444 United States;X-APPLE-RADIUS=500;X-TITLE=605 6th Street:geo:-105.6974142,39.7061997
END:VEVENT
BEGIN:VEVENT
DTSTART;TZID=America/Denver:20240509T111500
DTEND;TZID=America/Denver:20240509T121500
DTSTAMP:20260423T182218
CREATED:20240507T214636Z
LAST-MODIFIED:20240507T214636Z
UID:23789-1715253300-1715256900@cccldstaging1.org
SUMMARY:JTML Storytime
DESCRIPTION:Join us for storytime and crafts at the John Tomay Memorial Library.
URL:https://cccldstaging1.org/event/jtml-storytime-10-2/2024-05-09/
LOCATION:John Tomay Memorial Library\, 605 6th Street\, Georgetown\, CO\, 80444\, United States
CATEGORIES:Kids,Library Events
GEO:39.7061997;-105.6974142
X-APPLE-STRUCTURED-LOCATION;VALUE=URI;X-ADDRESS=John Tomay Memorial Library 605 6th Street Georgetown CO 80444 United States;X-APPLE-RADIUS=500;X-TITLE=605 6th Street:geo:-105.6974142,39.7061997
END:VEVENT
BEGIN:VEVENT
DTSTART;TZID=America/Denver:20240507T111500
DTEND;TZID=America/Denver:20240507T121500
DTSTAMP:20260423T182218
CREATED:20230727T161653Z
LAST-MODIFIED:20230727T161653Z
UID:21980-1715080500-1715084100@cccldstaging1.org
SUMMARY:ISPL Storytime
DESCRIPTION:Join us for storytime and crafts at the Idaho Springs Public Library.
URL:https://cccldstaging1.org/event/ispl-storytime-10/2024-05-07/
LOCATION:Idaho Springs Public Library\, 219 14th Avenue\, Idaho Springs\, CO\, 80452\, United States
CATEGORIES:Kids,Library Events
GEO:39.742052;-105.5183552
X-APPLE-STRUCTURED-LOCATION;VALUE=URI;X-ADDRESS=Idaho Springs Public Library 219 14th Avenue Idaho Springs CO 80452 United States;X-APPLE-RADIUS=500;X-TITLE=219 14th Avenue:geo:-105.5183552,39.742052
END:VEVENT
BEGIN:VEVENT
DTSTART;TZID=America/Denver:20240503T100000
DTEND;TZID=America/Denver:20240503T233000
DTSTAMP:20260423T182218
CREATED:20240425T201325Z
LAST-MODIFIED:20240425T201325Z
UID:23635-1714730400-1714779000@cccldstaging1.org
SUMMARY:JTML - Werewolf Donut Den
DESCRIPTION:Start your day with a howl at this game morning for young learners ages 8 years and older! Wolf down delicious donuts\, and play the popular deduction game Werewolf.
URL:https://cccldstaging1.org/event/jtml-werewolf-donut-den/
LOCATION:John Tomay Memorial Library\, 605 6th Street\, Georgetown\, CO\, 80444\, United States
CATEGORIES:Kids,Library Events,Teens
GEO:39.7061997;-105.6974142
X-APPLE-STRUCTURED-LOCATION;VALUE=URI;X-ADDRESS=John Tomay Memorial Library 605 6th Street Georgetown CO 80444 United States;X-APPLE-RADIUS=500;X-TITLE=605 6th Street:geo:-105.6974142,39.7061997
END:VEVENT
BEGIN:VEVENT
DTSTART;TZID=America/Denver:20240502T111500
DTEND;TZID=America/Denver:20240502T121500
DTSTAMP:20260423T182218
CREATED:20230727T161856Z
LAST-MODIFIED:20230727T161856Z
UID:22040-1714648500-1714652100@cccldstaging1.org
SUMMARY:JTML Storytime
DESCRIPTION:Join us for storytime and crafts at the John Tomay Memorial Library.
URL:https://cccldstaging1.org/event/jtml-storytime-10/2024-05-02/
LOCATION:John Tomay Memorial Library\, 605 6th Street\, Georgetown\, CO\, 80444\, United States
CATEGORIES:Kids,Library Events
GEO:39.7061997;-105.6974142
X-APPLE-STRUCTURED-LOCATION;VALUE=URI;X-ADDRESS=John Tomay Memorial Library 605 6th Street Georgetown CO 80444 United States;X-APPLE-RADIUS=500;X-TITLE=605 6th Street:geo:-105.6974142,39.7061997
END:VEVENT
BEGIN:VEVENT
DTSTART;TZID=America/Denver:20240430T153000
DTEND;TZID=America/Denver:20240430T170000
DTSTAMP:20260423T182218
CREATED:20240325T154109Z
LAST-MODIFIED:20240325T154109Z
UID:22936-1714491000-1714496400@cccldstaging1.org
SUMMARY:Día de los Niños
DESCRIPTION:Celebrate children\, families\, and literacy at our annual Día party! Refreshments\, traditional dance performances\, and a storytime en Español promise a lively time at this after-school fiesta.
URL:https://cccldstaging1.org/event/dia-de-los-ninos-4/
LOCATION:CO
CATEGORIES:Adults,Kids,Library Events,Teens
END:VEVENT
BEGIN:VEVENT
DTSTART;TZID=America/Denver:20240430T111500
DTEND;TZID=America/Denver:20240430T121500
DTSTAMP:20260423T182218
CREATED:20230727T161653Z
LAST-MODIFIED:20230727T161653Z
UID:21979-1714475700-1714479300@cccldstaging1.org
SUMMARY:ISPL Storytime
DESCRIPTION:Join us for storytime and crafts at the Idaho Springs Public Library.
URL:https://cccldstaging1.org/event/ispl-storytime-10/2024-04-30/
LOCATION:Idaho Springs Public Library\, 219 14th Avenue\, Idaho Springs\, CO\, 80452\, United States
CATEGORIES:Kids,Library Events
GEO:39.742052;-105.5183552
X-APPLE-STRUCTURED-LOCATION;VALUE=URI;X-ADDRESS=Idaho Springs Public Library 219 14th Avenue Idaho Springs CO 80452 United States;X-APPLE-RADIUS=500;X-TITLE=219 14th Avenue:geo:-105.5183552,39.742052
END:VEVENT
BEGIN:VEVENT
DTSTART;TZID=America/Denver:20240426T140000
DTEND;TZID=America/Denver:20240426T160000
DTSTAMP:20260423T182218
CREATED:20231129T165858Z
LAST-MODIFIED:20231129T165858Z
UID:22926-1714140000-1714147200@cccldstaging1.org
SUMMARY:JTML-Virtual Reality
DESCRIPTION:Explore new worlds and great games at our virtual reality sessions for tweens and teens (ages 12 years and older). Registration is required. Please email heather@cccld.org to learn more and save your spot.
URL:https://cccldstaging1.org/event/jtml-virtual-reality-7/2024-04-26/
LOCATION:John Tomay Memorial Library\, 605 6th Street\, Georgetown\, CO\, 80444\, United States
CATEGORIES:Kids,Library Events,Teens
GEO:39.7061997;-105.6974142
X-APPLE-STRUCTURED-LOCATION;VALUE=URI;X-ADDRESS=John Tomay Memorial Library 605 6th Street Georgetown CO 80444 United States;X-APPLE-RADIUS=500;X-TITLE=605 6th Street:geo:-105.6974142,39.7061997
END:VEVENT
BEGIN:VEVENT
DTSTART;TZID=America/Denver:20240426T100000
DTEND;TZID=America/Denver:20240426T113000
DTSTAMP:20260423T182218
CREATED:20240325T153426Z
LAST-MODIFIED:20240325T153426Z
UID:22930-1714125600-1714131000@cccldstaging1.org
SUMMARY:ISPL - Youth Art Workshop
DESCRIPTION:This month\, we are thrilled to host Resilience 1220 for art workshops at the Libraries! Young learners are invited to get creative at these special craft sessions.
URL:https://cccldstaging1.org/event/ispl-youth-art-workshop/
LOCATION:Idaho Springs Public Library\, 219 14th Avenue\, Idaho Springs\, CO\, 80452\, United States
CATEGORIES:Kids,Library Events,Teens
GEO:39.742052;-105.5183552
X-APPLE-STRUCTURED-LOCATION;VALUE=URI;X-ADDRESS=Idaho Springs Public Library 219 14th Avenue Idaho Springs CO 80452 United States;X-APPLE-RADIUS=500;X-TITLE=219 14th Avenue:geo:-105.5183552,39.742052
END:VEVENT
END:VCALENDAR