BEGIN:VCALENDAR
VERSION:2.0
PRODID:-//Clear Creek County Library District Staging - ECPv6.15.20//NONSGML v1.0//EN
CALSCALE:GREGORIAN
METHOD:PUBLISH
X-WR-CALNAME:Clear Creek County Library District Staging
X-ORIGINAL-URL:https://cccldstaging1.org
X-WR-CALDESC:Events for Clear Creek County Library District Staging
REFRESH-INTERVAL;VALUE=DURATION:PT1H
X-Robots-Tag:noindex
X-PUBLISHED-TTL:PT1H
BEGIN:VTIMEZONE
TZID:America/Denver
BEGIN:DAYLIGHT
TZOFFSETFROM:-0700
TZOFFSETTO:-0600
TZNAME:MDT
DTSTART:20210314T090000
END:DAYLIGHT
BEGIN:STANDARD
TZOFFSETFROM:-0600
TZOFFSETTO:-0700
TZNAME:MST
DTSTART:20211107T080000
END:STANDARD
BEGIN:DAYLIGHT
TZOFFSETFROM:-0700
TZOFFSETTO:-0600
TZNAME:MDT
DTSTART:20220313T090000
END:DAYLIGHT
BEGIN:STANDARD
TZOFFSETFROM:-0600
TZOFFSETTO:-0700
TZNAME:MST
DTSTART:20221106T080000
END:STANDARD
BEGIN:DAYLIGHT
TZOFFSETFROM:-0700
TZOFFSETTO:-0600
TZNAME:MDT
DTSTART:20230312T090000
END:DAYLIGHT
BEGIN:STANDARD
TZOFFSETFROM:-0600
TZOFFSETTO:-0700
TZNAME:MST
DTSTART:20231105T080000
END:STANDARD
BEGIN:DAYLIGHT
TZOFFSETFROM:-0700
TZOFFSETTO:-0600
TZNAME:MDT
DTSTART:20240310T090000
END:DAYLIGHT
BEGIN:STANDARD
TZOFFSETFROM:-0600
TZOFFSETTO:-0700
TZNAME:MST
DTSTART:20241103T080000
END:STANDARD
END:VTIMEZONE
BEGIN:VEVENT
DTSTART;TZID=America/Denver:20230408T100000
DTEND;TZID=America/Denver:20230408T110000
DTSTAMP:20260424T051555
CREATED:20230307T212047Z
LAST-MODIFIED:20230307T212047Z
UID:19541-1680948000-1680951600@cccldstaging1.org
SUMMARY:Easter Egg Hunt
DESCRIPTION:Hunt for Easter eggs and look for the golden egg to win prizes. Join Miss Honeybun for storytime.\nWerlin Park – Kids 0-5\nFoster’s Place – Kids 6 yrs. & up
URL:https://cccldstaging1.org/event/easter-egg-hunt-4/
LOCATION:Werlin Park\, 1014 Taos Street\, Georgetown\, CO\, 80444\, United States
CATEGORIES:Adults,Kids,Library Events,Teens
GEO:39.7098503;-105.6948933
X-APPLE-STRUCTURED-LOCATION;VALUE=URI;X-ADDRESS=Werlin Park 1014 Taos Street Georgetown CO 80444 United States;X-APPLE-RADIUS=500;X-TITLE=1014 Taos Street:geo:-105.6948933,39.7098503
END:VEVENT
BEGIN:VEVENT
DTSTART;TZID=America/Denver:20230406T173000
DTEND;TZID=America/Denver:20230406T190000
DTSTAMP:20260424T051555
CREATED:20230307T210503Z
LAST-MODIFIED:20230307T210503Z
UID:19500-1680802200-1680807600@cccldstaging1.org
SUMMARY:JTML Adult Craft
DESCRIPTION:Do you love to craft? Or are you craft-curious? Get creative and connect with other crafty patrons at our monthly craft workshops! No experience is necessary and all workshops are free. April’s craft is Ukranian Eggs with Megan Vickers. Please email chris@cccld.org to register and for additional information.
URL:https://cccldstaging1.org/event/jtml-adult-craft-10/
LOCATION:John Tomay Memorial Library\, 605 6th Street\, Georgetown\, CO\, 80444\, United States
CATEGORIES:Adults,Library Events
GEO:39.7061997;-105.6974142
X-APPLE-STRUCTURED-LOCATION;VALUE=URI;X-ADDRESS=John Tomay Memorial Library 605 6th Street Georgetown CO 80444 United States;X-APPLE-RADIUS=500;X-TITLE=605 6th Street:geo:-105.6974142,39.7061997
END:VEVENT
BEGIN:VEVENT
DTSTART;TZID=America/Denver:20230406T111500
DTEND;TZID=America/Denver:20230406T121500
DTSTAMP:20260424T051555
CREATED:20230331T220649Z
LAST-MODIFIED:20230331T220649Z
UID:19832-1680779700-1680783300@cccldstaging1.org
SUMMARY:JTML Storytime & Sign Language
DESCRIPTION:Join us for storytime\, crafts\, and sign language at the John Tomay Memorial Library.
URL:https://cccldstaging1.org/event/jtml-storytime-sign-language/2023-04-06/
LOCATION:John Tomay Memorial Library\, 605 6th Street\, Georgetown\, CO\, 80444\, United States
CATEGORIES:Adults,Kids,Library Events
GEO:39.7061997;-105.6974142
X-APPLE-STRUCTURED-LOCATION;VALUE=URI;X-ADDRESS=John Tomay Memorial Library 605 6th Street Georgetown CO 80444 United States;X-APPLE-RADIUS=500;X-TITLE=605 6th Street:geo:-105.6974142,39.7061997
END:VEVENT
BEGIN:VEVENT
DTSTART;TZID=America/Denver:20230404T173000
DTEND;TZID=America/Denver:20230404T190000
DTSTAMP:20260424T051555
CREATED:20230307T210409Z
LAST-MODIFIED:20230307T210409Z
UID:19498-1680629400-1680634800@cccldstaging1.org
SUMMARY:CANCELLED ISPL Adult Craft
DESCRIPTION:CANCELLED DUE TO WEATHER – Rescheduled for April 18. Do you love to craft? Or are you craft-curious? Get creative and connect with other crafty patrons at our monthly craft workshops! No experience is necessary and all workshops are free. April’s craft is Ukranian Eggs with Megan Vickers. Please email chris@cccld.org to register and for additional information.
URL:https://cccldstaging1.org/event/ispl-adult-craft-10/
LOCATION:Idaho Springs Public Library\, 219 14th Avenue\, Idaho Springs\, CO\, 80452\, United States
CATEGORIES:Adults,Library Events
GEO:39.742052;-105.5183552
X-APPLE-STRUCTURED-LOCATION;VALUE=URI;X-ADDRESS=Idaho Springs Public Library 219 14th Avenue Idaho Springs CO 80452 United States;X-APPLE-RADIUS=500;X-TITLE=219 14th Avenue:geo:-105.5183552,39.742052
END:VEVENT
BEGIN:VEVENT
DTSTART;TZID=America/Denver:20230404T111500
DTEND;TZID=America/Denver:20230404T121500
DTSTAMP:20260424T051555
CREATED:20230331T220502Z
LAST-MODIFIED:20230331T220502Z
UID:19827-1680606900-1680610500@cccldstaging1.org
SUMMARY:ISPL Storytime & Sign Language
DESCRIPTION:Join us for storytime\, crafts\, and sign language at the Idaho Springs Public Library.
URL:https://cccldstaging1.org/event/ispl-storytime-sign-language/2023-04-04/
LOCATION:Idaho Springs Public Library\, 219 14th Avenue\, Idaho Springs\, CO\, 80452\, United States
CATEGORIES:Adults,Kids,Library Events
GEO:39.742052;-105.5183552
X-APPLE-STRUCTURED-LOCATION;VALUE=URI;X-ADDRESS=Idaho Springs Public Library 219 14th Avenue Idaho Springs CO 80452 United States;X-APPLE-RADIUS=500;X-TITLE=219 14th Avenue:geo:-105.5183552,39.742052
END:VEVENT
BEGIN:VEVENT
DTSTART;TZID=America/Denver:20230316T173000
DTEND;TZID=America/Denver:20230316T190000
DTSTAMP:20260424T051555
CREATED:20230124T220710Z
LAST-MODIFIED:20230124T220710Z
UID:18968-1678987800-1678993200@cccldstaging1.org
SUMMARY:JTML Adult Craft
DESCRIPTION:Do you love to craft? Or are you craft-curious? Get creative and connect with other crafty patrons at our monthly craft workshops! No experience is necessary and all workshops are free. March’s craft is Soup in a Jar. Please email chris@cccld.org to register and for additional information.
URL:https://cccldstaging1.org/event/jtml-adult-craft-9/
LOCATION:John Tomay Memorial Library\, 605 6th Street\, Georgetown\, CO\, 80444\, United States
CATEGORIES:Adults,Library Events
GEO:39.7061997;-105.6974142
X-APPLE-STRUCTURED-LOCATION;VALUE=URI;X-ADDRESS=John Tomay Memorial Library 605 6th Street Georgetown CO 80444 United States;X-APPLE-RADIUS=500;X-TITLE=605 6th Street:geo:-105.6974142,39.7061997
END:VEVENT
BEGIN:VEVENT
DTSTART;TZID=America/Denver:20230314T173000
DTEND;TZID=America/Denver:20230314T190000
DTSTAMP:20260424T051555
CREATED:20230124T220613Z
LAST-MODIFIED:20230124T220613Z
UID:18966-1678815000-1678820400@cccldstaging1.org
SUMMARY:ISPL Adult Craft
DESCRIPTION:Do you love to craft? Or are you craft-curious? Get creative and connect with other crafty patrons at our monthly craft workshops! No experience is necessary and all workshops are free. March’s craft is Soup in a Jar. Please email chris@cccld.org to register and for additional information.
URL:https://cccldstaging1.org/event/ispl-adult-craft-9/
LOCATION:Idaho Springs Public Library\, 219 14th Avenue\, Idaho Springs\, CO\, 80452\, United States
CATEGORIES:Adults,Library Events
GEO:39.742052;-105.5183552
X-APPLE-STRUCTURED-LOCATION;VALUE=URI;X-ADDRESS=Idaho Springs Public Library 219 14th Avenue Idaho Springs CO 80452 United States;X-APPLE-RADIUS=500;X-TITLE=219 14th Avenue:geo:-105.5183552,39.742052
END:VEVENT
BEGIN:VEVENT
DTSTART;TZID=America/Denver:20230224T170000
DTEND;TZID=America/Denver:20230224T190000
DTSTAMP:20260424T051555
CREATED:20230117T232905Z
LAST-MODIFIED:20230117T232905Z
UID:18854-1677258000-1677265200@cccldstaging1.org
SUMMARY:ISPL - Monster Mash Party
DESCRIPTION:Get ready to rock your best monster mash costume and show off your dance moves. Don’t miss the FUN!! Food\, face painting\, dancing\, and games. Huge thanks to Tommyknocker Brewery for donating refreshments.
URL:https://cccldstaging1.org/event/ispl-monster-mash-party/
LOCATION:Idaho Springs Public Library\, 219 14th Avenue\, Idaho Springs\, CO\, 80452\, United States
CATEGORIES:Adults,Kids,Library Events,Teens
GEO:39.742052;-105.5183552
X-APPLE-STRUCTURED-LOCATION;VALUE=URI;X-ADDRESS=Idaho Springs Public Library 219 14th Avenue Idaho Springs CO 80452 United States;X-APPLE-RADIUS=500;X-TITLE=219 14th Avenue:geo:-105.5183552,39.742052
END:VEVENT
BEGIN:VEVENT
DTSTART;TZID=America/Denver:20230223T173000
DTEND;TZID=America/Denver:20230223T190000
DTSTAMP:20260424T051555
CREATED:20230124T223206Z
LAST-MODIFIED:20230124T223206Z
UID:18982-1677173400-1677178800@cccldstaging1.org
SUMMARY:Adult Craft
DESCRIPTION:Do you love to craft? Or are you craft-curious? Get creative and connect with other crafty patrons at our monthly craft workshops! No experience is necessary and all workshops are free. February’s craft is a Flower Arrangement Workshop. Registration is required. Meet at Marigold – 1620 Miner St.\, Idaho Springs. Please email chris@cccld.org to register and for additional information.
URL:https://cccldstaging1.org/event/adult-craft-7/
LOCATION:CO\, 80444\, United States
CATEGORIES:Adults,Library Events
END:VEVENT
BEGIN:VEVENT
DTSTART;TZID=America/Denver:20230221T173000
DTEND;TZID=America/Denver:20230221T190000
DTSTAMP:20260424T051555
CREATED:20230124T223118Z
LAST-MODIFIED:20230124T223118Z
UID:18980-1677000600-1677006000@cccldstaging1.org
SUMMARY:Adult Craft
DESCRIPTION:Do you love to craft? Or are you craft-curious? Get creative and connect with other crafty patrons at our monthly craft workshops! No experience is necessary and all workshops are free. February’s craft is a Flower Arrangement Workshop. Registration is required. Meet at Marigold – 1620 Miner St.\, Idaho Springs. Please email chris@cccld.org to register and for additional information.
URL:https://cccldstaging1.org/event/adult-craft-6/
LOCATION:CO\, 80444\, United States
CATEGORIES:Adults,Library Events
END:VEVENT
BEGIN:VEVENT
DTSTART;TZID=America/Denver:20230208T090000
DTEND;TZID=America/Denver:20230208T120000
DTSTAMP:20260424T051555
CREATED:20230207T172544Z
LAST-MODIFIED:20230207T172544Z
UID:19149-1675846800-1675857600@cccldstaging1.org
SUMMARY:ISPL Free Tax Help
DESCRIPTION:Free Tax Help is available from Benefits in Action on Wednesdays at the Idaho Springs Public Library.
URL:https://cccldstaging1.org/event/ispl-free-tax-help-2/2023-02-08/
LOCATION:Idaho Springs Public Library\, 219 14th Avenue\, Idaho Springs\, CO\, 80452\, United States
CATEGORIES:Adults,Community Events,Library Events
GEO:39.742052;-105.5183552
X-APPLE-STRUCTURED-LOCATION;VALUE=URI;X-ADDRESS=Idaho Springs Public Library 219 14th Avenue Idaho Springs CO 80452 United States;X-APPLE-RADIUS=500;X-TITLE=219 14th Avenue:geo:-105.5183552,39.742052
END:VEVENT
BEGIN:VEVENT
DTSTART;TZID=America/Denver:20230204T130000
DTEND;TZID=America/Denver:20230204T150000
DTSTAMP:20260424T051555
CREATED:20230117T231726Z
LAST-MODIFIED:20230117T231726Z
UID:18849-1675515600-1675522800@cccldstaging1.org
SUMMARY:Adult Snowshoe Excursion
DESCRIPTION:Join us for a guided snowshoe hike with Georgetown Outdoor Discovery. Ages 16 years and over\, beginners welcome\, snowshoes provided. FREE with a Clear Creek County library card. To learn more and register\, please contact chris@cccld.org
URL:https://cccldstaging1.org/event/adult-snowshoe-excursion/
LOCATION:CO\, 80444\, United States
CATEGORIES:Adults,Library Events
GEO:39.7104468;-105.6969788
END:VEVENT
BEGIN:VEVENT
DTSTART;TZID=America/Denver:20230202T170000
DTEND;TZID=America/Denver:20230202T180000
DTSTAMP:20260424T051555
CREATED:20230106T222717Z
LAST-MODIFIED:20230106T222717Z
UID:18712-1675357200-1675360800@cccldstaging1.org
SUMMARY:ISPL - Adult ASL
DESCRIPTION:American Sign Language Classes for Adults–ages 15 and up–at the Idaho Springs Public Library. Please email joe@cccld.org for more information and to register.
URL:https://cccldstaging1.org/event/ispl-adult-asl/2023-02-02/
LOCATION:Idaho Springs Public Library\, 219 14th Avenue\, Idaho Springs\, CO\, 80452\, United States
CATEGORIES:Adults,Library Events,Teens
GEO:39.742052;-105.5183552
X-APPLE-STRUCTURED-LOCATION;VALUE=URI;X-ADDRESS=Idaho Springs Public Library 219 14th Avenue Idaho Springs CO 80452 United States;X-APPLE-RADIUS=500;X-TITLE=219 14th Avenue:geo:-105.5183552,39.742052
END:VEVENT
BEGIN:VEVENT
DTSTART;TZID=America/Denver:20230119T150000
DTEND;TZID=America/Denver:20230119T163000
DTSTAMP:20260424T051555
CREATED:20221115T184646Z
LAST-MODIFIED:20221115T184646Z
UID:17963-1674140400-1674145800@cccldstaging1.org
SUMMARY:JTML Book Group
DESCRIPTION:Everyone is welcome. Email libby@cccld.org for more information.
URL:https://cccldstaging1.org/event/jtml-book-group-12/2023-01-19/
LOCATION:John Tomay Memorial Library\, 605 6th Street\, Georgetown\, CO\, 80444\, United States
CATEGORIES:Adults,Library Events
GEO:39.7061997;-105.6974142
X-APPLE-STRUCTURED-LOCATION;VALUE=URI;X-ADDRESS=John Tomay Memorial Library 605 6th Street Georgetown CO 80444 United States;X-APPLE-RADIUS=500;X-TITLE=605 6th Street:geo:-105.6974142,39.7061997
END:VEVENT
BEGIN:VEVENT
DTSTART;VALUE=DATE:20230116
DTEND;VALUE=DATE:20230117
DTSTAMP:20260424T051555
CREATED:20221206T173934Z
LAST-MODIFIED:20221206T173934Z
UID:18491-1673827200-1673913599@cccldstaging1.org
SUMMARY:Library Closed - MLK Jr. Day
DESCRIPTION:
URL:https://cccldstaging1.org/event/library-closed-mlk-jr-day/
LOCATION:CO\, 80444\, United States
CATEGORIES:Adults,Kids,Library Events,Teens
GEO:39.7104468;-105.6969788
END:VEVENT
BEGIN:VEVENT
DTSTART;TZID=America/Denver:20230113T130000
DTEND;TZID=America/Denver:20230113T150000
DTSTAMP:20260424T051555
CREATED:20221216T162348Z
LAST-MODIFIED:20221216T162348Z
UID:18550-1673614800-1673622000@cccldstaging1.org
SUMMARY:Family Snowshoe Adventure
DESCRIPTION:Come snowshoe with CCCLD! Join us on a guided tour with Georgetown Outdoor Discovery. This adventure is FREE for Clear Creek County library cardholders. Space is limited — please contact chris@cccld.org to register.
URL:https://cccldstaging1.org/event/family-snowshoe-adventure-2/
LOCATION:CO\, 80444\, United States
CATEGORIES:Adults,Kids,Library Events,Teens
GEO:39.7104468;-105.6969788
END:VEVENT
BEGIN:VEVENT
DTSTART;TZID=America/Denver:20230112T173000
DTEND;TZID=America/Denver:20230112T183000
DTSTAMP:20260424T051555
CREATED:20221212T185755Z
LAST-MODIFIED:20221212T185755Z
UID:18532-1673544600-1673548200@cccldstaging1.org
SUMMARY:JTML Adult Craft
DESCRIPTION:Do you love to craft? Or are you craft-curious? Get creative and connect with other crafty patrons at our monthly craft workshops! No experience is necessary and all workshops are free. January’s craft is Affirmation Stones . Please email chris@cccld.org to register and for additional information.
URL:https://cccldstaging1.org/event/jtml-adult-craft-8/
LOCATION:John Tomay Memorial Library\, 605 6th Street\, Georgetown\, CO\, 80444\, United States
CATEGORIES:Adults,Library Events
GEO:39.7061997;-105.6974142
X-APPLE-STRUCTURED-LOCATION;VALUE=URI;X-ADDRESS=John Tomay Memorial Library 605 6th Street Georgetown CO 80444 United States;X-APPLE-RADIUS=500;X-TITLE=605 6th Street:geo:-105.6974142,39.7061997
END:VEVENT
BEGIN:VEVENT
DTSTART;TZID=America/Denver:20230110T173000
DTEND;TZID=America/Denver:20230110T183000
DTSTAMP:20260424T051555
CREATED:20221212T185708Z
LAST-MODIFIED:20221212T185708Z
UID:18530-1673371800-1673375400@cccldstaging1.org
SUMMARY:ISPL Adult Craft
DESCRIPTION:Do you love to craft? Or are you craft-curious? Get creative and connect with other crafty patrons at our monthly craft workshops! No experience is necessary and all workshops are free. January’s craft is Affirmation Stones. Please email chris@cccld.org to register and for additional information.
URL:https://cccldstaging1.org/event/ispl-adult-craft-8/
LOCATION:Idaho Springs Public Library\, 219 14th Avenue\, Idaho Springs\, CO\, 80452\, United States
CATEGORIES:Adults,Library Events
GEO:39.742052;-105.5183552
X-APPLE-STRUCTURED-LOCATION;VALUE=URI;X-ADDRESS=Idaho Springs Public Library 219 14th Avenue Idaho Springs CO 80452 United States;X-APPLE-RADIUS=500;X-TITLE=219 14th Avenue:geo:-105.5183552,39.742052
END:VEVENT
BEGIN:VEVENT
DTSTART;VALUE=DATE:20230102
DTEND;VALUE=DATE:20230103
DTSTAMP:20260424T051555
CREATED:20221206T173839Z
LAST-MODIFIED:20221206T173839Z
UID:18489-1672617600-1672703999@cccldstaging1.org
SUMMARY:Library Closed - New Year's
DESCRIPTION:
URL:https://cccldstaging1.org/event/library-closed-new-years/
LOCATION:CO\, 80444\, United States
CATEGORIES:Adults,Kids,Library Events,Teens
GEO:39.7104468;-105.6969788
END:VEVENT
BEGIN:VEVENT
DTSTART;VALUE=DATE:20221231
DTEND;VALUE=DATE:20230101
DTSTAMP:20260424T051555
CREATED:20221107T174342Z
LAST-MODIFIED:20221107T174342Z
UID:17730-1672444800-1672531199@cccldstaging1.org
SUMMARY:Library Closed - New Year's Eve
DESCRIPTION:
URL:https://cccldstaging1.org/event/library-closed-new-years-eve/
LOCATION:CO\, 80444\, United States
CATEGORIES:Adults,Kids,Library Events
GEO:39.7104468;-105.6969788
END:VEVENT
BEGIN:VEVENT
DTSTART;TZID=America/Denver:20221207T173000
DTEND;TZID=America/Denver:20221207T193000
DTSTAMP:20260424T051555
CREATED:20221006T174127Z
LAST-MODIFIED:20221006T174127Z
UID:17049-1670434200-1670441400@cccldstaging1.org
SUMMARY:Wreath Workshop
DESCRIPTION:Join us at the Georgetown Heritage Center for our annual wreath-making! Please email chris@cccld.org to register.
URL:https://cccldstaging1.org/event/wreath-workshop/2022-12-07/
LOCATION:Georgetown Heritage Center\, 809 Taos Street\, Georgetown\, CO\, 80444\, United States
CATEGORIES:Adults,Library Events
GEO:39.7076439;-105.6959246
X-APPLE-STRUCTURED-LOCATION;VALUE=URI;X-ADDRESS=Georgetown Heritage Center 809 Taos Street Georgetown CO 80444 United States;X-APPLE-RADIUS=500;X-TITLE=809 Taos Street:geo:-105.6959246,39.7076439
END:VEVENT
BEGIN:VEVENT
DTSTART;TZID=America/Denver:20221203T100000
DTEND;TZID=America/Denver:20221203T160000
DTSTAMP:20260424T051555
CREATED:20221006T171430Z
LAST-MODIFIED:20221006T171430Z
UID:17010-1670061600-1670083200@cccldstaging1.org
SUMMARY:JTML Friends Book Sale
DESCRIPTION:Support the Friends of the Georgetown Library and stop by their annual book sale during the Georgetown Christmas Market.
URL:https://cccldstaging1.org/event/jtml-friends-book-sale/2022-12-03/
LOCATION:John Tomay Memorial Library\, 605 6th Street\, Georgetown\, CO\, 80444\, United States
CATEGORIES:Adults,Community Events,Kids,Library Events,Teens
GEO:39.7061997;-105.6974142
X-APPLE-STRUCTURED-LOCATION;VALUE=URI;X-ADDRESS=John Tomay Memorial Library 605 6th Street Georgetown CO 80444 United States;X-APPLE-RADIUS=500;X-TITLE=605 6th Street:geo:-105.6974142,39.7061997
END:VEVENT
BEGIN:VEVENT
DTSTART;TZID=America/Denver:20221203T090000
DTEND;TZID=America/Denver:20221203T130000
DTSTAMP:20260424T051555
CREATED:20221006T171139Z
LAST-MODIFIED:20221006T171139Z
UID:17005-1670058000-1670072400@cccldstaging1.org
SUMMARY:Winter Craft Workshops - Georgetown Christmas Market
DESCRIPTION:Free creative fun for kids during the Georgetown Christmas Market.
URL:https://cccldstaging1.org/event/winter-craft-workshops-georgetown-christmas-market/2022-12-03/
LOCATION:John Tomay Memorial Library\, 605 6th Street\, Georgetown\, CO\, 80444\, United States
CATEGORIES:Adults,Community Events,Kids,Library Events,Teens
GEO:39.7061997;-105.6974142
X-APPLE-STRUCTURED-LOCATION;VALUE=URI;X-ADDRESS=John Tomay Memorial Library 605 6th Street Georgetown CO 80444 United States;X-APPLE-RADIUS=500;X-TITLE=605 6th Street:geo:-105.6974142,39.7061997
END:VEVENT
BEGIN:VEVENT
DTSTART;TZID=America/Denver:20221130T130000
DTEND;TZID=America/Denver:20221130T150000
DTSTAMP:20260424T051555
CREATED:20221006T165955Z
LAST-MODIFIED:20221006T165955Z
UID:16990-1669813200-1669820400@cccldstaging1.org
SUMMARY:Foot Care Clinic
DESCRIPTION:Free\, senior Foot Care Clinic. Reservations are required\, call Heather at 303-567-2020. All clinics are held at the Clear Creek Recreation Center.
URL:https://cccldstaging1.org/event/foot-care-clinic-8/
LOCATION:CO\, 80444\, United States
CATEGORIES:Adults,Library Events
GEO:39.7104468;-105.6969788
END:VEVENT
BEGIN:VEVENT
DTSTART;TZID=America/Denver:20221126T170000
DTEND;TZID=America/Denver:20221126T170000
DTSTAMP:20260424T051555
CREATED:20221006T165436Z
LAST-MODIFIED:20221006T165436Z
UID:16986-1669482000-1669482000@cccldstaging1.org
SUMMARY:Georgetown Tree Lighting & Cookies
DESCRIPTION:Find Miss Honeybun for a yummy treat at the Georgetown Tree Lighting.
URL:https://cccldstaging1.org/event/jtml-tree-lighting-cookie-decorations/
LOCATION:Strousse Park\, Georgetown\, CO\, 80444\, United States
CATEGORIES:Adults,Community Events,Kids,Library Events,Teens
GEO:39.7060984;-105.6975041
END:VEVENT
BEGIN:VEVENT
DTSTART;TZID=America/Denver:20221117T173000
DTEND;TZID=America/Denver:20221117T183000
DTSTAMP:20260424T051555
CREATED:20221006T164045Z
LAST-MODIFIED:20221006T164045Z
UID:16975-1668706200-1668709800@cccldstaging1.org
SUMMARY:JTML Adult Craft
DESCRIPTION:Do you love to craft? Or are you craft-curious? Get creative and connect with other crafty patrons at our monthly craft workshops! No experience is necessary and all workshops are free. November’s craft is Giving Thanks Gift Jars. Please email chris@cccld.org to register and for additional information.
URL:https://cccldstaging1.org/event/jtml-adult-craft-7/
LOCATION:John Tomay Memorial Library\, 605 6th Street\, Georgetown\, CO\, 80444\, United States
CATEGORIES:Adults,Library Events
GEO:39.7061997;-105.6974142
X-APPLE-STRUCTURED-LOCATION;VALUE=URI;X-ADDRESS=John Tomay Memorial Library 605 6th Street Georgetown CO 80444 United States;X-APPLE-RADIUS=500;X-TITLE=605 6th Street:geo:-105.6974142,39.7061997
END:VEVENT
BEGIN:VEVENT
DTSTART;TZID=America/Denver:20221117T150000
DTEND;TZID=America/Denver:20221117T160000
DTSTAMP:20260424T051555
CREATED:20221006T165643Z
LAST-MODIFIED:20221006T165643Z
UID:16988-1668697200-1668700800@cccldstaging1.org
SUMMARY:JTML Book Group
DESCRIPTION:Everyone is welcome. Email libby@cccld.org for more information.
URL:https://cccldstaging1.org/event/jtml-book-group-11/
LOCATION:John Tomay Memorial Library\, 605 6th Street\, Georgetown\, CO\, 80444\, United States
CATEGORIES:Adults,Library Events
GEO:39.7061997;-105.6974142
X-APPLE-STRUCTURED-LOCATION;VALUE=URI;X-ADDRESS=John Tomay Memorial Library 605 6th Street Georgetown CO 80444 United States;X-APPLE-RADIUS=500;X-TITLE=605 6th Street:geo:-105.6974142,39.7061997
END:VEVENT
BEGIN:VEVENT
DTSTART;TZID=America/Denver:20221116T173000
DTEND;TZID=America/Denver:20221116T193000
DTSTAMP:20260424T051555
CREATED:20221101T175655Z
LAST-MODIFIED:20221101T175655Z
UID:17554-1668619800-1668627000@cccldstaging1.org
SUMMARY:Library District Board Meeting - Virtual
DESCRIPTION:The Clear Creek County Library District Board of Trustees meets on the third Wednesday of the month for the rest of 2022 at 5:30 pm\, with the exception of December’s budget meeting on 12/08/2022. Meetings are held at the Local History Archives in Georgetown in odd-numbered months and at the Idaho Springs Public Library in even-numbered months with the exception of the December meeting.
URL:https://cccldstaging1.org/event/library-district-board-meeting-virtual/
LOCATION:CO\, 80444\, United States
CATEGORIES:Adults,Community Events,Library Events
GEO:39.7104468;-105.6969788
END:VEVENT
BEGIN:VEVENT
DTSTART;TZID=America/Denver:20221115T173000
DTEND;TZID=America/Denver:20221115T183000
DTSTAMP:20260424T051555
CREATED:20221006T163945Z
LAST-MODIFIED:20221006T163945Z
UID:16973-1668533400-1668537000@cccldstaging1.org
SUMMARY:ISPL Adult Craft
DESCRIPTION:Do you love to craft? Or are you craft-curious? Get creative and connect with other crafty patrons at our monthly craft workshops! No experience is necessary and all workshops are free. November’s craft is Giving Thanks Gift Jars. Please email chris@cccld.org to register and for additional information.
URL:https://cccldstaging1.org/event/ispl-adult-craft-7/
LOCATION:Idaho Springs Public Library\, 219 14th Avenue\, Idaho Springs\, CO\, 80452\, United States
CATEGORIES:Adults,Library Events
GEO:39.742052;-105.5183552
X-APPLE-STRUCTURED-LOCATION;VALUE=URI;X-ADDRESS=Idaho Springs Public Library 219 14th Avenue Idaho Springs CO 80452 United States;X-APPLE-RADIUS=500;X-TITLE=219 14th Avenue:geo:-105.5183552,39.742052
END:VEVENT
BEGIN:VEVENT
DTSTART;TZID=America/Denver:20221114T160000
DTEND;TZID=America/Denver:20221114T170000
DTSTAMP:20260424T051555
CREATED:20221006T165046Z
LAST-MODIFIED:20221006T165046Z
UID:16983-1668441600-1668445200@cccldstaging1.org
SUMMARY:ISPL Book Group
DESCRIPTION:Everyone is welcome. Email libby@cccld.org for more information.
URL:https://cccldstaging1.org/event/ispl-book-group-15/2022-11-14/
LOCATION:Idaho Springs Public Library\, 219 14th Avenue\, Idaho Springs\, CO\, 80452\, United States
CATEGORIES:Adults,Library Events
GEO:39.742052;-105.5183552
X-APPLE-STRUCTURED-LOCATION;VALUE=URI;X-ADDRESS=Idaho Springs Public Library 219 14th Avenue Idaho Springs CO 80452 United States;X-APPLE-RADIUS=500;X-TITLE=219 14th Avenue:geo:-105.5183552,39.742052
END:VEVENT
END:VCALENDAR