BEGIN:VCALENDAR
VERSION:2.0
PRODID:-//Clear Creek County Library District Staging - ECPv6.15.20//NONSGML v1.0//EN
CALSCALE:GREGORIAN
METHOD:PUBLISH
X-WR-CALNAME:Clear Creek County Library District Staging
X-ORIGINAL-URL:https://cccldstaging1.org
X-WR-CALDESC:Events for Clear Creek County Library District Staging
REFRESH-INTERVAL;VALUE=DURATION:PT1H
X-Robots-Tag:noindex
X-PUBLISHED-TTL:PT1H
BEGIN:VTIMEZONE
TZID:America/Denver
BEGIN:DAYLIGHT
TZOFFSETFROM:-0700
TZOFFSETTO:-0600
TZNAME:MDT
DTSTART:20220313T090000
END:DAYLIGHT
BEGIN:STANDARD
TZOFFSETFROM:-0600
TZOFFSETTO:-0700
TZNAME:MST
DTSTART:20221106T080000
END:STANDARD
BEGIN:DAYLIGHT
TZOFFSETFROM:-0700
TZOFFSETTO:-0600
TZNAME:MDT
DTSTART:20230312T090000
END:DAYLIGHT
BEGIN:STANDARD
TZOFFSETFROM:-0600
TZOFFSETTO:-0700
TZNAME:MST
DTSTART:20231105T080000
END:STANDARD
BEGIN:DAYLIGHT
TZOFFSETFROM:-0700
TZOFFSETTO:-0600
TZNAME:MDT
DTSTART:20240310T090000
END:DAYLIGHT
BEGIN:STANDARD
TZOFFSETFROM:-0600
TZOFFSETTO:-0700
TZNAME:MST
DTSTART:20241103T080000
END:STANDARD
END:VTIMEZONE
BEGIN:VEVENT
DTSTART;TZID=America/Denver:20230508T110000
DTEND;TZID=America/Denver:20230508T120000
DTSTAMP:20260424T095823
CREATED:20230508T174327Z
LAST-MODIFIED:20230508T174327Z
UID:20168-1683543600-1683547200@cccldstaging1.org
SUMMARY:HS Track Leaving school ! @ 11:00
DESCRIPTION:
URL:https://cccldstaging1.org/event/hs-track-leaving-school-1100/
LOCATION:CO
CATEGORIES:Community Events
END:VEVENT
BEGIN:VEVENT
DTSTART;TZID=America/Denver:20230506T083000
DTEND;TZID=America/Denver:20230506T093000
DTSTAMP:20260424T095823
CREATED:20230215T222032Z
LAST-MODIFIED:20230215T222032Z
UID:19274-1683361800-1683365400@cccldstaging1.org
SUMMARY:MS Track AWAY @ Platte Canyon HS Time 8:30 am
DESCRIPTION:
URL:https://cccldstaging1.org/event/ms-track-away-platte-canyon-hs-time-830-am/
LOCATION:CO
CATEGORIES:Community Events
END:VEVENT
BEGIN:VEVENT
DTSTART;TZID=America/Denver:20230506T070000
DTEND;TZID=America/Denver:20230506T080000
DTSTAMP:20260424T095823
CREATED:20230504T174400Z
LAST-MODIFIED:20230504T174400Z
UID:20144-1683356400-1683360000@cccldstaging1.org
SUMMARY:HS Track Mile High League Championship @Longmont HS Departure time 7:00am
DESCRIPTION:
URL:https://cccldstaging1.org/event/hs-track-mile-high-league-championship-longmont-hs-departure-time-700am/
LOCATION:CO
CATEGORIES:Community Events
END:VEVENT
BEGIN:VEVENT
DTSTART;TZID=America/Denver:20230505T163000
DTEND;TZID=America/Denver:20230505T173000
DTSTAMP:20260424T095823
CREATED:20230215T222032Z
LAST-MODIFIED:20230215T222032Z
UID:19273-1683304200-1683307800@cccldstaging1.org
SUMMARY:HS Girls Soccer HOME vs Rocky Mountain Lutheran Time 4:00
DESCRIPTION:
URL:https://cccldstaging1.org/event/hs-girls-soccer-home-vs-rocky-mountain-lutheran-time-400/
LOCATION:CO
CATEGORIES:Community Events
END:VEVENT
BEGIN:VEVENT
DTSTART;TZID=America/Denver:20230505T100000
DTEND;TZID=America/Denver:20230505T170000
DTSTAMP:20260424T095823
CREATED:20230215T222032Z
LAST-MODIFIED:20230215T222032Z
UID:19275-1683280800-1683306000@cccldstaging1.org
SUMMARY:HS Track Mile High League Championship @Longmont HS Departure time 10:00
DESCRIPTION:
URL:https://cccldstaging1.org/event/hs-track-mile-high-league-championship-longmont-hs-time-tbd/
LOCATION:CO
CATEGORIES:Community Events
END:VEVENT
BEGIN:VEVENT
DTSTART;TZID=America/Denver:20230504T160000
DTEND;TZID=America/Denver:20230504T170000
DTSTAMP:20260424T095823
CREATED:20230215T222032Z
LAST-MODIFIED:20230215T222032Z
UID:19272-1683216000-1683219600@cccldstaging1.org
SUMMARY:HS Baseball AWAY @ Dawson time 4:00pm
DESCRIPTION:
URL:https://cccldstaging1.org/event/hs-baseball-away-dawson-time-400pm/
LOCATION:CO
CATEGORIES:Community Events
END:VEVENT
BEGIN:VEVENT
DTSTART;TZID=America/Denver:20230504T160000
DTEND;TZID=America/Denver:20230504T170000
DTSTAMP:20260424T095823
CREATED:20230330T154503Z
LAST-MODIFIED:20230330T154503Z
UID:19783-1683216000-1683219600@cccldstaging1.org
SUMMARY:HS Soccer HOME vs Rocky Mountain Lutheran Time: 4:00 *Senior Night*
DESCRIPTION:
URL:https://cccldstaging1.org/event/hs-soccer-home-vs-rocky-mountain-lutheran-time-400/
LOCATION:CO
CATEGORIES:Community Events
END:VEVENT
BEGIN:VEVENT
DTSTART;TZID=America/Denver:20230504T120000
DTEND;TZID=America/Denver:20230504T130000
DTSTAMP:20260424T095823
CREATED:20230504T174400Z
LAST-MODIFIED:20230504T174400Z
UID:20142-1683201600-1683205200@cccldstaging1.org
SUMMARY:MS Track meet @ South Park MS Time: 12:00  Van 9:45
DESCRIPTION:Students will be able to grab a lunch before they leave.
URL:https://cccldstaging1.org/event/ms-track-meet-south-park-ms-time-1200-van-945/
LOCATION:CO
CATEGORIES:Community Events
END:VEVENT
BEGIN:VEVENT
DTSTART;TZID=America/Denver:20230503T161500
DTEND;TZID=America/Denver:20230503T171500
DTSTAMP:20260424T095823
CREATED:20230330T154502Z
LAST-MODIFIED:20230330T154502Z
UID:19782-1683130500-1683134100@cccldstaging1.org
SUMMARY:MS Baseball HOME vs Denver Academy 4:15
DESCRIPTION:
URL:https://cccldstaging1.org/event/ms-baseball-home-vs-denver-academy-415-2/
LOCATION:CO
CATEGORIES:Community Events
END:VEVENT
BEGIN:VEVENT
DTSTART;TZID=America/Denver:20230503T160000
DTEND;TZID=America/Denver:20230503T170000
DTSTAMP:20260424T095823
CREATED:20230216T221851Z
LAST-MODIFIED:20230216T221851Z
UID:19336-1683129600-1683133200@cccldstaging1.org
SUMMARY:MS Girls Soccer AWAY @ Broomfield Commons Time 4:00
DESCRIPTION:
URL:https://cccldstaging1.org/event/ms-girls-soccer-away-broomfield-commons-time-400/
LOCATION:CO
CATEGORIES:Community Events
END:VEVENT
BEGIN:VEVENT
DTSTART;TZID=America/Denver:20230502T160000
DTEND;TZID=America/Denver:20230502T170000
DTSTAMP:20260424T095823
CREATED:20230215T222032Z
LAST-MODIFIED:20230215T222032Z
UID:19270-1683043200-1683046800@cccldstaging1.org
SUMMARY:HS Girls Soccer HOME vs Union Colony Time 4:00 Senior Night
DESCRIPTION:
URL:https://cccldstaging1.org/event/hs-girls-soccer-home-vs-union-colony-time-tbd/
LOCATION:CO
CATEGORIES:Community Events
END:VEVENT
BEGIN:VEVENT
DTSTART;TZID=America/Denver:20230502T160000
DTEND;TZID=America/Denver:20230502T170000
DTSTAMP:20260424T095823
CREATED:20230215T222032Z
LAST-MODIFIED:20230215T222032Z
UID:19271-1683043200-1683046800@cccldstaging1.org
SUMMARY:HS LAX AWAY @ Denver North Time 4:00 Bus TBD
DESCRIPTION:
URL:https://cccldstaging1.org/event/hs-lax-away-denver-north-time-tbd/
LOCATION:CO
CATEGORIES:Community Events
END:VEVENT
BEGIN:VEVENT
DTSTART;TZID=America/Denver:20230501T180000
DTEND;TZID=America/Denver:20230501T190000
DTSTAMP:20260424T095823
CREATED:20230223T231800Z
LAST-MODIFIED:20230223T231800Z
UID:19400-1682964000-1682967600@cccldstaging1.org
SUMMARY:HS G Soccer AWAY @ Campion 6:00 Bus TBD
DESCRIPTION:
URL:https://cccldstaging1.org/event/hs-g-soccer-away-campion-600-bus-tbd/
LOCATION:CO
CATEGORIES:Community Events
END:VEVENT
BEGIN:VEVENT
DTSTART;TZID=America/Denver:20230501T163000
DTEND;TZID=America/Denver:20230501T173000
DTSTAMP:20260424T095823
CREATED:20230216T221851Z
LAST-MODIFIED:20230216T221851Z
UID:19335-1682958600-1682962200@cccldstaging1.org
SUMMARY:MS Girls Soccer AWAY @ Gilpin Time 4:30
DESCRIPTION:
URL:https://cccldstaging1.org/event/ms-girls-soccer-away-gilpin-time-430/
LOCATION:CO
CATEGORIES:Community Events
END:VEVENT
BEGIN:VEVENT
DTSTART;TZID=America/Denver:20230501T150000
DTEND;TZID=America/Denver:20230501T163000
DTSTAMP:20260424T095823
CREATED:20230425T171401Z
LAST-MODIFIED:20230425T171401Z
UID:20056-1682953200-1682958600@cccldstaging1.org
SUMMARY:HS Spring Sports Picture Day
DESCRIPTION:
URL:https://cccldstaging1.org/event/hs-spring-sports-picture-day/
LOCATION:CO
CATEGORIES:Community Events
END:VEVENT
BEGIN:VEVENT
DTSTART;TZID=America/Denver:20230429T100000
DTEND;TZID=America/Denver:20230429T110000
DTSTAMP:20260424T095823
CREATED:20230407T155822Z
LAST-MODIFIED:20230407T155822Z
UID:19888-1682762400-1682766000@cccldstaging1.org
SUMMARY:HS Baseball HOME vs Longmont Christian 10:00
DESCRIPTION:
URL:https://cccldstaging1.org/event/hs-baseball-home-vs-longmont-christian-1000/
LOCATION:CO
CATEGORIES:Community Events
END:VEVENT
BEGIN:VEVENT
DTSTART;TZID=America/Denver:20230428T160000
DTEND;TZID=America/Denver:20230428T170000
DTSTAMP:20260424T095823
CREATED:20230215T222032Z
LAST-MODIFIED:20230215T222032Z
UID:19269-1682697600-1682701200@cccldstaging1.org
SUMMARY:HS LAX AWAY vs Vanguard Time 6:00 BUS TBD
DESCRIPTION:
URL:https://cccldstaging1.org/event/hs-lax-away-vs-vanguard-time-tbd/
LOCATION:CO\, 80444\, United States
CATEGORIES:Community Events
END:VEVENT
BEGIN:VEVENT
DTSTART;TZID=America/Denver:20230428T150000
DTEND;TZID=America/Denver:20230428T160000
DTSTAMP:20260424T095823
CREATED:20230216T221850Z
LAST-MODIFIED:20230216T221850Z
UID:19329-1682694000-1682697600@cccldstaging1.org
SUMMARY:MS Girls Soccer HOME vs Front Range Christian Time: 3:00
DESCRIPTION:
URL:https://cccldstaging1.org/event/ms-girls-soccer-home-vs-front-range-christian-time-415/
LOCATION:CO
CATEGORIES:Community Events
END:VEVENT
BEGIN:VEVENT
DTSTART;TZID=America/Denver:20230428T090000
DTEND;TZID=America/Denver:20230428T100000
DTSTAMP:20260424T095823
CREATED:20230215T222032Z
LAST-MODIFIED:20230215T222032Z
UID:19267-1682672400-1682676000@cccldstaging1.org
SUMMARY:MS Track AWAY Englewood Invitational Time TBD
DESCRIPTION:
URL:https://cccldstaging1.org/event/ms-track-away-englewood-invitational-time-tbd/
LOCATION:CO
CATEGORIES:Community Events
END:VEVENT
BEGIN:VEVENT
DTSTART;TZID=America/Denver:20230428T080000
DTEND;TZID=America/Denver:20230428T090000
DTSTAMP:20260424T095823
CREATED:20230215T222032Z
LAST-MODIFIED:20230215T222032Z
UID:19268-1682668800-1682672400@cccldstaging1.org
SUMMARY:HS Track AWAY @ Longmont HS Time tbd
DESCRIPTION:
URL:https://cccldstaging1.org/event/hs-track-away-longmont-hs-time-tbd/
LOCATION:CO
CATEGORIES:Community Events
END:VEVENT
BEGIN:VEVENT
DTSTART;TZID=America/Denver:20230427T161500
DTEND;TZID=America/Denver:20230427T171500
DTSTAMP:20260424T095823
CREATED:20230216T221851Z
LAST-MODIFIED:20230216T221851Z
UID:19334-1682612100-1682615700@cccldstaging1.org
SUMMARY:MS G Soccer AWAY @ Fort Logan time 4:15
DESCRIPTION:
URL:https://cccldstaging1.org/event/ms-g-soccer-away-fort-logan-time-415/
LOCATION:CO
CATEGORIES:Community Events
END:VEVENT
BEGIN:VEVENT
DTSTART;TZID=America/Denver:20230427T160000
DTEND;TZID=America/Denver:20230427T170000
DTSTAMP:20260424T095823
CREATED:20230215T222032Z
LAST-MODIFIED:20230215T222032Z
UID:19265-1682611200-1682614800@cccldstaging1.org
SUMMARY:HS Baseball AWAY @ Middle Park 4:00 BUS TBD
DESCRIPTION:
URL:https://cccldstaging1.org/event/hs-baseball-home-vs-longmont-christian-time-400/
LOCATION:CO
CATEGORIES:Community Events
END:VEVENT
BEGIN:VEVENT
DTSTART;TZID=America/Denver:20230427T160000
DTEND;TZID=America/Denver:20230427T170000
DTSTAMP:20260424T095823
CREATED:20230215T222032Z
LAST-MODIFIED:20230215T222032Z
UID:19266-1682611200-1682614800@cccldstaging1.org
SUMMARY:HS Girls Soccer HOME vs Skyview Academy Time 4:30
DESCRIPTION:
URL:https://cccldstaging1.org/event/hs-girls-soccer-home-vs-skyview-academy-time-tbd/
LOCATION:CO
CATEGORIES:Community Events
END:VEVENT
BEGIN:VEVENT
DTSTART;TZID=America/Denver:20230426T160000
DTEND;TZID=America/Denver:20230426T170000
DTSTAMP:20260424T095823
CREATED:20230330T154502Z
LAST-MODIFIED:20230330T154502Z
UID:19779-1682524800-1682528400@cccldstaging1.org
SUMMARY:MS Baseball AWAY vs Fitzsimmons 4:00 BUS TBD
DESCRIPTION:
URL:https://cccldstaging1.org/event/ms-baseball-away-vs-fitzsimmons-400-bus-tbd/
LOCATION:CO
CATEGORIES:Community Events
END:VEVENT
BEGIN:VEVENT
DTSTART;TZID=America/Denver:20230425T160000
DTEND;TZID=America/Denver:20230425T170000
DTSTAMP:20260424T095823
CREATED:20230215T222032Z
LAST-MODIFIED:20230215T222032Z
UID:19264-1682438400-1682442000@cccldstaging1.org
SUMMARY:HS Baseball HOME VS Denver Academy Time: 4:00
DESCRIPTION:
URL:https://cccldstaging1.org/event/hs-baseball-home-vs-denver-academy-time-400/
LOCATION:CO
CATEGORIES:Community Events
END:VEVENT
BEGIN:VEVENT
DTSTART;TZID=America/Denver:20230425T160000
DTEND;TZID=America/Denver:20230425T170000
DTSTAMP:20260424T095823
CREATED:20230215T222032Z
LAST-MODIFIED:20230215T222032Z
UID:19263-1682438400-1682442000@cccldstaging1.org
SUMMARY:HS Girls Soccer AWAY @ Front Range Christian Tim4:00 Bus TBD
DESCRIPTION:
URL:https://cccldstaging1.org/event/hs-girls-soccer-away-front-range-christian-time-tbd/
LOCATION:CO
CATEGORIES:Community Events
END:VEVENT
BEGIN:VEVENT
DTSTART;TZID=America/Denver:20230425T160000
DTEND;TZID=America/Denver:20230425T170000
DTSTAMP:20260424T095823
CREATED:20230215T222032Z
LAST-MODIFIED:20230215T222032Z
UID:19262-1682438400-1682442000@cccldstaging1.org
SUMMARY:HS LAX AWAY vs Middle Park Time: 4:00 BUS TBD
DESCRIPTION:
URL:https://cccldstaging1.org/event/hs-lax-away-vs-middle-park-time-tbd/
LOCATION:CO\, 80444\, United States
CATEGORIES:Community Events
END:VEVENT
BEGIN:VEVENT
DTSTART;TZID=America/Denver:20230424T163000
DTEND;TZID=America/Denver:20230424T173000
DTSTAMP:20260424T095823
CREATED:20230424T171325Z
LAST-MODIFIED:20230424T171325Z
UID:20045-1682353800-1682357400@cccldstaging1.org
SUMMARY:HS Girls Soccer AWAY @ Front Range Christian Time 4:30 BUS 2:00
DESCRIPTION:
URL:https://cccldstaging1.org/event/hs-girls-soccer-away-front-range-christian-time-430-bus-200/
LOCATION:CO
CATEGORIES:Community Events
END:VEVENT
BEGIN:VEVENT
DTSTART;TZID=America/Denver:20230424T163000
DTEND;TZID=America/Denver:20230424T173000
DTSTAMP:20260424T095823
CREATED:20230328T154410Z
LAST-MODIFIED:20230328T154410Z
UID:19708-1682353800-1682357400@cccldstaging1.org
SUMMARY:HS Girls Soccer AWAY @ Lake County 4:30 Bus TBD
DESCRIPTION:
URL:https://cccldstaging1.org/event/hs-girls-soccer-away-lake-county-400-2/
LOCATION:CO
CATEGORIES:Community Events
END:VEVENT
BEGIN:VEVENT
DTSTART;TZID=America/Denver:20230424T160000
DTEND;TZID=America/Denver:20230424T170000
DTSTAMP:20260424T095823
CREATED:20230424T171324Z
LAST-MODIFIED:20230424T171324Z
UID:20044-1682352000-1682355600@cccldstaging1.org
SUMMARY:MS G Soccer HOME 4:00 vs Gilpin
DESCRIPTION:
URL:https://cccldstaging1.org/event/ms-g-soccer-home-400-vs-gilpin/
LOCATION:CO
CATEGORIES:Community Events
END:VEVENT
END:VCALENDAR