BEGIN:VCALENDAR
VERSION:2.0
PRODID:-//Clear Creek County Library District Staging - ECPv6.15.20//NONSGML v1.0//EN
CALSCALE:GREGORIAN
METHOD:PUBLISH
X-ORIGINAL-URL:https://cccldstaging1.org
X-WR-CALDESC:Events for Clear Creek County Library District Staging
REFRESH-INTERVAL;VALUE=DURATION:PT1H
X-Robots-Tag:noindex
X-PUBLISHED-TTL:PT1H
BEGIN:VTIMEZONE
TZID:America/Denver
BEGIN:DAYLIGHT
TZOFFSETFROM:-0700
TZOFFSETTO:-0600
TZNAME:MDT
DTSTART:20230312T090000
END:DAYLIGHT
BEGIN:STANDARD
TZOFFSETFROM:-0600
TZOFFSETTO:-0700
TZNAME:MST
DTSTART:20231105T080000
END:STANDARD
BEGIN:DAYLIGHT
TZOFFSETFROM:-0700
TZOFFSETTO:-0600
TZNAME:MDT
DTSTART:20240310T090000
END:DAYLIGHT
BEGIN:STANDARD
TZOFFSETFROM:-0600
TZOFFSETTO:-0700
TZNAME:MST
DTSTART:20241103T080000
END:STANDARD
BEGIN:DAYLIGHT
TZOFFSETFROM:-0700
TZOFFSETTO:-0600
TZNAME:MDT
DTSTART:20250309T090000
END:DAYLIGHT
BEGIN:STANDARD
TZOFFSETFROM:-0600
TZOFFSETTO:-0700
TZNAME:MST
DTSTART:20251102T080000
END:STANDARD
END:VTIMEZONE
BEGIN:VEVENT
DTSTART;TZID=America/Denver:20240312T053000
DTEND;TZID=America/Denver:20240312T190000
DTSTAMP:20260424T001314
CREATED:20240221T165848Z
LAST-MODIFIED:20240221T165848Z
UID:22697-1710221400-1710270000@cccldstaging1.org
SUMMARY:Ukrainian Egg Workshop
DESCRIPTION:Host Meghan Vickers will teach you how to create a beautiful decorated egg using traditional Ukrainian painting techniques. Workshops will be held at Sit N Chill Ice Cream shop at 1501 Miner Street\, Idaho Springs. Registration is required\, email holly@cccld.org
URL:https://cccldstaging1.org/event/ukrainian-egg-workshop/2024-03-12/
CATEGORIES:Adults,Library Events
END:VEVENT
END:VCALENDAR