BEGIN:VCALENDAR
VERSION:2.0
PRODID:-//Clear Creek County Library District Staging - ECPv6.15.20//NONSGML v1.0//EN
CALSCALE:GREGORIAN
METHOD:PUBLISH
X-WR-CALNAME:Clear Creek County Library District Staging
X-ORIGINAL-URL:https://cccldstaging1.org
X-WR-CALDESC:Events for Clear Creek County Library District Staging
REFRESH-INTERVAL;VALUE=DURATION:PT1H
X-Robots-Tag:noindex
X-PUBLISHED-TTL:PT1H
BEGIN:VTIMEZONE
TZID:America/Denver
BEGIN:DAYLIGHT
TZOFFSETFROM:-0700
TZOFFSETTO:-0600
TZNAME:MDT
DTSTART:20220313T090000
END:DAYLIGHT
BEGIN:STANDARD
TZOFFSETFROM:-0600
TZOFFSETTO:-0700
TZNAME:MST
DTSTART:20221106T080000
END:STANDARD
BEGIN:DAYLIGHT
TZOFFSETFROM:-0700
TZOFFSETTO:-0600
TZNAME:MDT
DTSTART:20230312T090000
END:DAYLIGHT
BEGIN:STANDARD
TZOFFSETFROM:-0600
TZOFFSETTO:-0700
TZNAME:MST
DTSTART:20231105T080000
END:STANDARD
BEGIN:DAYLIGHT
TZOFFSETFROM:-0700
TZOFFSETTO:-0600
TZNAME:MDT
DTSTART:20240310T090000
END:DAYLIGHT
BEGIN:STANDARD
TZOFFSETFROM:-0600
TZOFFSETTO:-0700
TZNAME:MST
DTSTART:20241103T080000
END:STANDARD
END:VTIMEZONE
BEGIN:VEVENT
DTSTART;TZID=America/Denver:20231114T173000
DTEND;TZID=America/Denver:20231114T193000
DTSTAMP:20260424T014331
CREATED:20230814T205518Z
LAST-MODIFIED:20230814T205518Z
UID:21255-1699983000-1699990200@cccldstaging1.org
SUMMARY:Adult Craft - Holiday Card Making
DESCRIPTION:The November Adult Craft will be Holiday Card making with Jann McCollom at her Georgetown shop–My Stamping Table. Space is limited\, RESERVATIONS ARE REQUIRED. Email chris@cccld.org to register or for additional information. \nMy Stamping Table\n507 Taos St.\nGeorgetown\, CO 80444
URL:https://cccldstaging1.org/event/adult-craft-holiday-card-making/2023-11-14/
LOCATION:CO\, 80444\, United States
CATEGORIES:Adults,Library Events
GEO:39.7104468;-105.6969788
END:VEVENT
END:VCALENDAR